Workbook
Name \0: #N/A
Name \a: #REF!
Name \a: #N/A
Name \aa: #REF!
Name \b: #REF!
Name \b: #REF!
Name \d: #REF!
Name \d: #REF!
Name \e: #REF!
Name \e: #REF!
Name \m: #REF!
Name \m: [1]ISITMA!#REF!
Name \m: #REF!
Name \n: #N/A
Name \p: #N/A
Name \Q: #REF!
Name \Q: #REF!
Name \rt: #REF!
Name \s: #REF!
Name \s: #REF!
Name \s1: #REF!
Name \s1: #REF!
Name \z: #REF!
Name \z: #REF!
Name _______________________________________________Tdb1: #REF!
Name _______________________________________________Tdb1: #REF!
Name _______________________________________________Tdb1_1: "#REF!"
Name _______________________________________________Tdb1_2: "#REF!"
Name _______________________________________________Tdb2: #REF!
Name _______________________________________________Tdb2: #REF!
Name _______________________________________________Tdb2_1: "#REF!"
Name _______________________________________________Tdb2_2: "#REF!"
Name _______________________________________________Twb1: #REF!
Name _______________________________________________Twb1: #REF!
Name _______________________________________________Twb1_1: "#REF!"
Name _______________________________________________Twb1_2: "#REF!"
Name _______________________________________________Twb2: #REF!
Name _______________________________________________Twb2: #REF!
Name _______________________________________________Twb2_1: "#REF!"
Name _______________________________________________Twb2_2: "#REF!"
Name ___________________KA1: #REF!
Name ___________________KA1: #REF!
Name ___________________KA2: #REF!
Name ___________________KA2: #REF!
Name ___________________KA3: #REF!
Name ___________________KA3: #REF!
Name ___________________KA4: #REF!
Name ___________________KA4: #REF!
Name ___________________KA5: #REF!
Name ___________________KA5: #REF!
Name ___________________KA6: #REF!
Name ___________________KA6: #REF!
Name ___________________KK10: #REF!
Name ___________________KK10: #REF!
Name ___________________KK11: #REF!
Name ___________________KK11: #REF!
Name ___________________KK12: #REF!
Name ___________________KK12: #REF!
Name ___________________KK13: #REF!
Name ___________________KK13: #REF!

Sheet İCMAL
A1: İSÜ TOPKAPI YERLEŞKESİ 4. ETAP İHALE DOSYASI 2.KAT SOSYAL ALANLAR VE İLAVE CEPHE-ÇELİK-ASANSÖR YAPIMI İŞLERİ
A2: SIRA NO | B2: İMALATIN ADI | C2: TUTAR
A3: 1 | B3: İNŞAAT YAPIM İŞLERİ (2.KAT SOSYAL ALANLAR) | C3: =+'İNŞAAT YAPIM İŞLERİ (2.KAT)'!F69 -> 0
A4: 2 | B4: MOBİLYA YAPIM İŞLERİ (2.KAT SOSYAL ALANLAR) | C4: =+'MOBİLYA YAPIM İŞLERİ (2.KAT)'!K14 -> 0
A5: 3 | B5: MEKANİK YAPIM İŞLERİ(2.KAT SOSYAL ALANLAR) | C5: =+'MEKANİK YAPIM İŞLERİ(2.KAT)'!N3 -> 0
A6: 4 | B6: ELEKTRİK YAPIM İŞLERİ(2.KAT SOSYAL ALANLAR) | C6: =+'ELEKTRİK YAPIM İŞLERİ(2.KAT)'!E26 -> 0
A7: 5 | B7: İLAVE CEPHE, ÇELİK VE ASANSÖR YAPIM İŞLERİ | C7: =+'İLAVE CEPHE-ÇELİK-ASANSÖR İŞL.'!F6 -> 0
B8: TOPLAM TUTAR | C8: =SUM(C3:C7) -> 0
A10: NOT : TUTARLAR KDV HARİÇTİR.
A11: NOT : YUKARIDAKİ İŞLER ŞARTNAMESİNE UYGUN YAPILACAK OLUP İŞİN SONUNDA KESİN HESAP YAPILACAKTIR.

Sheet İNŞAAT YAPIM İŞLERİ (2.KAT)
B1: İNŞAAT YAPIM İŞLERİ (2.KAT SOSYAL ALANLAR)
A2: SIRA NO | B2: İŞİN TANIMI | C2: BİRİM | D2: MİKTAR | E2: BİRİM FİYAT | F2: TUTAR
A3: 1 | B3: Mevcut zemin seramik söküm işi (bina içi+teras) | C3: M2 | D3: 2859.168 | F3: =D3*E3 -> 0
A4: 2 | B4: PVC malzeme (karo) | C4: M2 | D4: 565.70196 | F4: =D4*E4 -> 0
A5: 3 | B5: PVC işçilik yapılması (karo) | C5: M2 | D5: 565.70196 | F5: =D5*E5 -> 0
A6: 4 | B6: 2WR+40*60*1,5 mm+Knauf İnsulation+2WR Çelik Konstrüksiyonlu Bölme Duvar İmalatı | C6: M2 | D6: 142.69392 | F6: =D6*E6 -> 0
A7: 5 | B7: 2FX+40*60*1,5 mm+knauf insulation+2FX çelik konstrüksiyonlu bölme duvar imalatı | C7: M2 | D7: 92.2896 | F7: =D7*E7 -> 0
A8: 6 | B8: 2WR+40*60*1,5 mm+Knauf İnsulation+WR+FX Çelik Konstrüksiyonlu Bölme Duvar İmalatı | C8: M2 | D8: 72.91296 | F8: =D8*E8 -> 0
A9: 7 | B9: 2WR+40*40*1,5 mm+Knauf İnsulationÇelik Konstrüksiyonlu Giydirme Duvar İmalatı | C9: M2 | D9: 51.9912 | F9: =D9*E9 -> 0
A10: 8 | B10: 2FX+40*40*1,5 mm+Knauf İnsulationÇelik Konstrüksiyonlu Giydirme Duvar İmalatı | C10: M2 | D10: 18.20736 | F10: =D10*E10 -> 0
A11: 9 | B11: WR+40*20*1,5 mm profil ile alçıpan asma tavan yapılması | C11: M2 | D11: 95.82 | F11: =D11*E11 -> 0
A12: 10 | B12: FX+40*20*1,5 mm profil ile alçıpan asma tavan yapılması | C12: M2 | D12: 44.724 | F12: =D12*E12 -> 0
A13: 11 | B13: Duvar Saten Alçı | C13: M2 | D13: 858.168 | F13: =D13*E13 -> 0
A14: 12 | B14: Tavan Saten Alçı | C14: M2 | D14: 140.544 | F14: =D14*E14 -> 0
... A68: 66 | B68: Moloz atımı (küçük kamyon) | C68: sefer | D68: 77 | F68: =D68*E68 -> 0
B69: TOPLAM TUTAR | F69: =SUM(F3:F68) -> 0
A70: NOT : TUTARLAR KDV HARİÇTİR.
A71: NOT : YUKARIDAKİ İŞLER ŞARTNAMESİNE UYGUN YAPILACAK OLUP İŞİN SONUNDA KESİN HESAP YAPILACAKTIR.

Sheet 1.2-İNŞAAT-KÜTÜPHANE ZEMİN KAT
B1: İNŞAAT İŞLERİ
A2: SIRA NO | B2: İŞİN TANIMI | C2: BİRİM | D2: MİKTAR | E2: BİRİM FİYAT | F2: TUTAR
A3: 1 | B3: 2WR + 40x60x1,5 mm + Knauf İnsulation + 2WR Çelik Konstrüksiyonlu Bölme Duvar İmalatı | C3: m2 | D3: =43.5*2.8 -> 121.8 | E3: 1450 | F3: =+D3*E3 -> 176610 | G3: İSÜ YEŞİL PLAZA 18.09.2025 TARİHLİ SÖZLEŞME BR. FİYAT BAMAX
A4: 2 | B4: 2FX+40*60*1,5 mm+knauf insulation+2fx çelik konstrüksiyonlu bölme duvar imalatı | C4: MTÜL | D4: 20.21 | E4: 2422.48 | F4: =+D4*E4 -> 48958.321 | G4: 18 KASIM OANYLI BR. FİYAT BAMAX
A5: 3 | B5: WR+40*20*1,5 mm profil ile alçıpan asma tavan yapılması | C5: m2 | D5: =+D21 -> 42.69 | E5: 800 | F5: =+D5*E5 -> 34152 | G5: İSÜ YEŞİL PLAZA 18.09.2025 TARİHLİ SÖZLEŞME BR. FİYAT BAMAX
A6: 4 | B6: Tavan Saten Alçı | C6: m2 | D6: =+D8+D5 -> 1539.94 | E6: 250 | F6: =+D6*E6 -> 384985 | G6: İSÜ YEŞİL PLAZA 18.09.2025 TARİHLİ SÖZLEŞME BR. FİYAT BAMAX
A7: 5 | B7: Tavan boya yapılması (saten alçı üzeri) | C7: m2 | D7: =+D5 -> 42.69 | E7: 150 | F7: =+D7*E7 -> 6403.5 | G7: İSÜ YEŞİL PLAZA 18.09.2025 TARİHLİ SÖZLEŞME BR. FİYAT BAMAX
A8: 6 | B8: Tavan Siyah Boya Yapılması | C8: m2 | D8: =+D10+H8 -> 1497.25 | E8: 104.92 | F8: =+D8*E8 -> 157091.47 | G8: İSÜ YEŞİL PLAZA 18.09.2025 TARİHLİ SÖZLEŞME BR. FİYAT BAMAX | H8: 463.25
A9: 7 | B9: PVC malzeme ( fire eklenmemiştir) (karo) | C9: m2 | D9: 1034 | E9: =49.5474*13.15 -> 651.54831 | F9: =+D9*E9 -> 673700.95 | G9: 5.12.2025 ONAYLI FİYAT 13,15 £
A10: 8 | B10: PVC işçilik yapılması (karo) | C10: m2 | D10: =+D9 -> 1034 | E10: 242.3 | F10: =+D10*E10 -> 250538.2 | G10: İSÜ TOPKAPI YEŞİL PLAZA PANDEX 8.10.2025 SÖZ. BR. FİYAT
A11: 9 | B11: LVT özel yapıştırıcı malzeme+işçilik (sarfiyat 0,35 kg/m2) | C11: kg | D11: =+D10*0.35 -> 361.9 | E11: 143.44 | F11: =+D11*E11 -> 51910.936 | G11: İSÜ TOPKAPI YEŞİL PLAZA PANDEX 8.10.2025 SÖZ. BR. FİYAT
A12: 10 | B12: Self Leveling Yapılması (malzeme +işçilik 1 m2 de 1 mm kalınlık için 1,5 kg gider ortalama 16 mm kalınlıkta) (1 torba:25 kg) | C12: torba | D12: =+(D10*24)/25 -> 992.64 | E12: 1114.56 | F12: =+D12*E12 -> 1106356.8 | G12: İSÜ TOPKAPI YEŞİL PLAZA PANDEX 8.10.2025 SÖZ. BR. FİYAT
A13: 11 | B13: Epoksi işçiliği | C13: m2 | D13: =+D10 -> 1034 | E13: 222.91 | F13: =+D13*E13 -> 230488.94 | G13: İSÜ TOPKAPI YEŞİL PLAZA PANDEX 8.10.2025 SÖZ. BR. FİYAT
A14: 12 | B14: Çelik macun | C14: kg | D14: =+(1034*313.42)/15671.13 -> 20.679828 | E14: 188.99 | F14: =+D14*E14 -> 3908.2808 | G14: İSÜ TOPKAPI YEŞİL PLAZA PANDEX 8.10.2025 SÖZ. BR. FİYAT
A15: 13 | B15: Bally | C15: kg | D15: =+(1034*853.21)/15671.13 -> 56.295822 | E15: 300.45 | F15: =+D15*E15 -> 16914.08 | G15: İSÜ TOPKAPI YEŞİL PLAZA PANDEX 8.10.2025 SÖZ. BR. FİYAT
A16: 14 | B16: 5+5 temperli camlı ve alüminyum profilli cam bölme yapılması imalatı ve montajı (YÜKSEKLİK İÇİN YERİNDE KEŞİF YAPILMALIDIR.H:220 ALINMIŞTIR) | C16: m2 | D16: =(8.17+10.09+1.95)*2.2 -> 44.462 | E16: 5720 | F16: =+D16*E16 -> 254322.64 | G16: 24 kasım onaylı br. Fiyat çakra
A17: 15 | B17: Cam filmi kaplama DEGRADE (YÜKSEKLİK İÇİN YERİNDE KEŞİF YAPILMALIDIR.H:150 ALINMIŞTIR) | C17: m2 | D17: =20.21*1.5 -> 30.315 | E17: 750 | F17: =+D17*E17 -> 22736.25 | G17: 22 kasım onaylı br. Fiyat ALE
A18: 16 | B18: Otomatik kayar kapı (çift yöne- giriş sensörlü -çıkış sensörlü)205*220 (GİRİŞ VE ÇIKIŞ KAPILARI) (YERİNDE KEŞİF YAPILMALIDIR) | C18: adet | D18: 3 | E18: =+(4.51*78508.48)/3.99 -> 88740.162 | F18: =+D18*E18 -> 266220.48 | G18: 18 kasım onaylı br. Fiyat dorma kaba
A19: 17 | B19: Kütüphane giriş bitki | C19: adet | D19: 1 | E19: 120000 | F19: =+D19*E19 -> 120000 | G19: orhan beyden
A20: 18 | B20: WC Cubicle kabin H:210 KASTAMONU ENTEGRE (ayak boy dahil) (12 mt yerinde keşif yapılmalıdır) | C20: m² | D20: =12*2.1 -> 25.2 | E20: 3587 | F20: =+D20*E20 -> 90392.4 | G20: 4 kasım onaylı br. Fiyat wetcom kabin
A21: 19 | B21: Zemin Seramik Malzeme+İşçilik | C21: m2 | D21: 42.69 | E21: 1085 | F21: =+D21*E21 -> 46318.65 | G21: 14.08.2025 ÇANAKKALE MLP KALE SERAMİK 235 TL/M2(22.09.2025 GÜNCEL FİYATDA ALINDI)- İSÜ28.07.2025 SERAMİK İŞÇİLİK 850 TL/M2
A22: 20 | B22: Duvar Seramik Malzeme+İşçilik | C22: m2 | D22: =+(16.8*2*2.4)+(26.7*2.4)-(5*2.2) -> 133.72 | E22: 1085 | F22: =+D22*E22 -> 145086.2 | G22: 14.08.2025 ÇANAKKALE MLP KALE SERAMİK 235 TL/M2(22.09.2025 GÜNCEL FİYATDA ALINDI)- İSÜ28.07.2025 SERAMİK İŞÇİLİK 850 TL/M2
A23: 21 | B23: ISLAK HACİMLERDE ÇİMENTO ESASLI ÇİFT KOMPENANTLI SÜRME İZOLASYON YAPILMASI (SÜZGEÇ ETRAFLARINA POLİÜRETAN UYGULAMA YAPILACAKTIR) | C23: m2 | D23: =+D21 -> 42.69 | E23: 575 | F23: =+D23*E23 -> 24546.75 | G23: 28 ekim onaylı br. Fiyat özde
A24: 22 | B24: Ahşap kapı (110*220 yerinde keşif yapılmalıdır) | C24: adet | D24: 5 | E24: 19158.333 | F24: =+D24*E24 -> 95791.667 | G24: 28.07.2025 FİYAT
A25: 23 | B25: Yangın kapısı pushbarlı -F-90 KARTLI (100*220 yerinde keşif yapılmalıdır) | C25: adet | D25: 1 | E25: 25000 | F25: =+D25*E25 -> 25000
A26: 24 | B26: Yangın kapısı pushbarlı -F-90 (110*220 yerinde keşif yapılmalıdır) | C26: adet | D26: 2 | E26: 25000 | F26: =+D26*E26 -> 50000
A27: 25 | B27: Kolon MDF üzeri Füme ayna kaplama (H:5,35 yerinde keşif yapılmalıdır.) | C27: m2 | D27: =66.44*5.35 -> 355.454 | E27: 4100 | F27: =+D27*E27 -> 1457361.4 | G27: 19 ağustos onaylı br. Fiyat yeşilyurt
A28: 26 | B28: MDF üzeri boyalı cam (H:5,35 yerinde keşif yapılmalıdır.) | C28: m2 | D28: =17.46*5.35 -> 93.411 | E28: 4000 | F28: =+D28*E28 -> 373644 | G28: 1 aralık onaylı br. Fiyat yeşilyurt
A29: 27 | B29: Blackout stor perde | C29: m2 | D29: =+(19.6*2.8)+((14.74+7.25+6.93)*5.6) -> 216.832 | E29: 530 | F29: =+D29*E29 -> 114920.96 | G29: 31.10.2025 göztepe onaylı br. Fiyat
A30: 28 | B30: Lavabo | C30: adet | D30: 7 | E30: 1353.75 | F30: =+D30*E30 -> 9476.25 | G30: 1.09.2025 BURSA ONAYLI FİYAT
A31: 29 | B31: Lavabo Bataryası | C31: adet | D31: 7 | E31: 1700 | F31: =+D31*E31 -> 11900 | G31: 1.09.2025 BURSA ONAYLI FİYAT
A32: 30 | B32: Engelli Lavabo Bataryası | C32: adet | D32: 1 | E32: 3479.19 | F32: =+D32*E32 -> 3479.19 | G32: 4.12.2025 yeşil plaza onaylı br. Fiyat
A33: 31 | B33: Klozet | C33: adet | D33: 7 | E33: 6450 | F33: =+D33*E33 -> 45150 | G33: 4.12.2025 yeşil plaza onaylı br. Fiyat
A34: 32 | B34: Engelli klozet | C34: adet | D34: 1 | E34: 2790 | F34: =+D34*E34 -> 2790 | G34: 4.12.2025 yeşil plaza onaylı br. Fiyat
A35: 33 | B35: Tutunma barı | C35: adet | D35: 1 | E35: 4368.76 | F35: =+D35*E35 -> 4368.76 | G35: 4.12.2025 yeşil plaza onaylı br. Fiyat
A36: 34 | B36: Klozet kapağı | C36: adet | D36: 7 | E36: 1300 | F36: =+D36*E36 -> 9100 | G36: 4.12.2025 yeşil plaza onaylı br. Fiyat
A37: 35 | B37: Engelli klozet kapağı | C37: adet | D37: 1 | E37: 950 | F37: =+D37*E37 -> 950 | G37: 4.12.2025 yeşil plaza onaylı br. Fiyat
A38: 36 | B38: Tuvalet kağıtlığı | C38: adet | D38: 8 | E38: 602.55 | F38: =+D38*E38 -> 4820.4 | G38: 4.12.2025 yeşil plaza onaylı br. Fiyat
A39: 37 | B39: Filtreli Ara Musluk | C39: adet | D39: 8 | E39: 137.4 | F39: =+D39*E39 -> 1099.2 | G39: 1.09.2025 BURSA ONAYLI FİYAT
A40: 38 | B40: Lavabo Sifonu | C40: adet | D40: 8 | E40: 1176.78 | F40: =+D40*E40 -> 9414.24 | G40: 1.09.2025 BURSA ONAYLI FİYAT
...

Sheet 1.2-İNŞAAT-KÜTÜPHANE ZEMİN ASMA
B1: İNŞAAT İŞLERİ
A2: SIRA NO | B2: İŞİN TANIMI | C2: BİRİM | D2: MİKTAR | E2: BİRİM FİYAT | F2: TUTAR
A3: 1 | B3: 2FX + 40x60x1,5 mm + Knauf İnsulation + 2FX Çelik Konstrüksiyonlu Bölme Duvar İmalatı | C3: m2 | D3: =27.6*3.1 -> 85.56 | E3: 1450 | F3: =+D3*E3 -> 124062 | G3: İSÜ YEŞİL PLAZA 18.09.2025 TARİHLİ SÖZLEŞME BR. FİYAT
A4: 2 | B4: 2FX+40*60*1,5 mm+knauf insulation+2fx çelik konstrüksiyonlu bölme duvar imalatı | C4: MTÜL | D4: =68.44+15.4 -> 83.84 | E4: 2422.48 | F4: =+D4*E4 -> 203100.72 | G4: 18 KASIM OANYLI BR. FİYAT BAMAX
A5: 3 | B5: Duvar Saten Alçı | C5: m2 | D5: =+D3*2 -> 171.12 | E5: 250 | F5: =+D5*E5 -> 42780 | G5: İSÜ YEŞİL PLAZA 18.09.2025 TARİHLİ SÖZLEŞME BR. FİYAT
A6: 4 | B6: Duvar Boya Yapılması (Saten alçı üzeri) | C6: m2 | D6: =+D3*2 -> 171.12 | E6: 150 | F6: =+D6*E6 -> 25668 | G6: İSÜ YEŞİL PLAZA 18.09.2025 TARİHLİ SÖZLEŞME BR. FİYAT
A7: 5 | B7: PVC malzeme ( fire eklenmemiştir) (karo) | C7: m2 | D7: 463.25 | E7: =49.5474*13.15 -> 651.54831 | F7: =+D7*E7 -> 301829.75 | G7: 13.10.2025 BURSA LİV ONAYLI FİYAT 9,5 £
A8: 6 | B8: PVC işçilik yapılması (karo) | C8: m2 | D8: =+D7 -> 463.25 | E8: 242.3 | F8: =+D8*E8 -> 112245.48 | G8: İSÜ TOPKAPI YEŞİL PLAZA PANDEX 8.10.2025 SÖZ. BR. FİYAT
A9: 7 | B9: LVT özel yapıştırıcı malzeme+işçilik (sarfiyat 0,35 kg/m2) | C9: kg | D9: =+D8*0.35 -> 162.1375 | E9: 143.44 | F9: =+D9*E9 -> 23257.003 | G9: İSÜ TOPKAPI YEŞİL PLAZA PANDEX 8.10.2025 SÖZ. BR. FİYAT
A10: 8 | B10: Self Leveling Yapılması (malzeme +işçilik 1 m2 de 1 mm kalınlık için 1,5 kg gider ortalama 16 mm kalınlıkta) (1 torba:25 kg) | C10: torba | D10: =+(D8*24)/25 -> 444.72 | E10: 1114.56 | F10: =+D10*E10 -> 495667.12 | G10: İSÜ TOPKAPI YEŞİL PLAZA PANDEX 8.10.2025 SÖZ. BR. FİYAT
A11: 9 | B11: Epoksi işçiliği | C11: m2 | D11: =+D8 -> 463.25 | E11: 222.91 | F11: =+D11*E11 -> 103263.06 | G11: İSÜ TOPKAPI YEŞİL PLAZA PANDEX 8.10.2025 SÖZ. BR. FİYAT
A12: 10 | B12: Çelik macun | C12: kg | D12: =+(463.25*21)/1034 -> 9.4083656 | E12: 188.99 | F12: =+D12*E12 -> 1778.087 | G12: İSÜ TOPKAPI YEŞİL PLAZA PANDEX 8.10.2025 SÖZ. BR. FİYAT
A13: 11 | B13: Bally | C13: kg | D13: =+(463.25*56)/1034 -> 25.088975 | E13: 300.45 | F13: =+D13*E13 -> 7537.9825 | G13: İSÜ TOPKAPI YEŞİL PLAZA PANDEX 8.10.2025 SÖZ. BR. FİYAT
A14: 12 | B14: Yangın kapısı pushbarlı -F-90 KARTLI (100*220 yerinde keşif yapılmalıdır) | C14: adet | D14: 1 | E14: 25000 | F14: =+D14*E14 -> 25000
A15: 13 | B15: 5+5 temperli camlı ve alüminyum profilli cam bölme yapılması imalatı ve montajı (YÜKSEKLİK İÇİN YERİNDE KEŞİF YAPILMALIDIR.H:220 ALINMIŞTIR) | C15: m2 | D15: =68.44*2.2 -> 150.568 | E15: 5720 | F15: =+D15*E15 -> 861248.96 | G15: 24 kasım onaylı br. Fiyat çakra
A16: 14 | B16: Cam filmi kaplama DEGRADE (YÜKSEKLİK İÇİN YERİNDE KEŞİF YAPILMALIDIR.H:150 ALINMIŞTIR) | C16: m2 | D16: =+(68.44+15.4)*1.5 -> 125.76 | E16: 750 | F16: =+D16*E16 -> 94320 | G16: 22 kasım onaylı br. Fiyat ALE
A17: 15 | B17: Cam doğrama kapı 120*220 (yerinde keşif yapılmalıdır) | C17: adet | D17: 7 | E17: =+(2.64*20833.33)/2.2 -> 24999.996 | F17: =+D17*E17 -> 174999.97 | G17: 10.07.2025 YEŞİLYURT 120/220 FİYATTI:25.000
A18: 16 | B18: Cam korkuluk 5+5 Lamine camlı (H:120 alınmıştır) | C18: m2 | D18: =14.5*1.2 -> 17.4 | E18: =+(42.4534/32.2653)*6420 -> 8447.181 | F18: =+D18*E18 -> 146980.95
A19: 17 | B19: Blackout stor perde | C19: m2 | D19: =+(8.46+19.65)*2.8 -> 78.708 | E19: 530 | F19: =+D19*E19 -> 41715.24 | G19: 31.10.2025 göztepe onaylı br. Fiyat
A20: 18 | B20: Usta yevmiyesi | C20: yev | F20: =+D20*E20 -> 0
A21: 19 | B21: Düz işçi yevmiyesi | C21: yev | F21: =+D21*E21 -> 0
B22: TOPLAM TUTAR | F22: =SUM(F3:F19) -> 2785454.3
A23: NOT : TUTARLAR KDV HARİÇTİR.
A24: NOT : YUKARIDAKİ İŞLER ŞARTNAMESİNE UYGUN YAPILACAK OLUP İŞİN SONUNDA KESİN HESAP YAPILACAKTIR.

Sheet MOBİLYA YAPIM İŞLERİ (2.KAT)
A1: MOBİLYA YAPIM İŞLERİ (2.KAT SOSYAL ALANLAR)
A2: KAT | B2: MAHAL | C2: ÜRÜN | D2: ÜRÜN GÖRSEL | E2: PROJE MAHALİ | F2: TEKNİK AÇIKLAMA | G2: ÖLÇÜ | H2: ADET | I2: BİRİM | J2: BRİ FİYAT | K2: TP. FİYAT
A3: 2 KAT | B3: 2.KAT | C3: SOYUNMA DOLAPLARI | E3: #VALUE! | F3: KASTAMONU ENTEGRE 18 MM DAFNE MDFLAM | G3: 120*45*210 | H3: 17 | I3: ADET | K3: =+H3*J3 -> 0
A4: 2 KAT | B4: 2.KAT | C4: KAPI | E4: #VALUE! | F4: ALÜMİNYUM KAPI KASASI RAL 7006 LAKE KANAT RAL 7006 | G4: 110*240 | H4: 14 | I4: ADET | K4: =+H4*J4 -> 0
A5: 2 KAT | B5: 2.KAT | C5: İKİLİ KOLTUK | E5: #VALUE! | F5: METAL KROM AYAK SUNİ DERİ KAPLAMA | G5: 160*85 | H5: 20 | I5: ADET | K5: =+H5*J5 -> 0
A6: 2 KAT | B6: 2.KAT | C6: KARE KOLTUK | E6: #VALUE! | F6: METAL KROM AYAK SUNİ DERİ KAPLAMA | G6: 160*85 | H6: 3 | I6: ADET | K6: =+H6*J6 -> 0
A7: 2 KAT | B7: 2.KAT | C7: CAFE ALANI KOLTUK | E7: #VALUE! | H7: 15 | I7: ADET | K7: =+H7*J7 -> 0
A8: 2 KAT | B8: 2.KAT | C8: CAFE ALANI YUVARLAK SEHPA | E8: #VALUE! | F8: CAM 60 CM METAL AYAK AHŞAP TABLA | G8: ÇAP 60 | H8: 3 | I8: ADET | K8: =+H8*J8 -> 0
A9: 2 KAT | B9: 2.KAT | C9: DİNLENME ALANI KOLTUK | E9: #VALUE! | H9: 8 | I9: ADET | K9: =+H9*J9 -> 0
A10: 2 KAT | B10: 2.KAT | C10: DİNLENME ALANI SEHPA | E10: #VALUE! | F10: CAM 60 CM METAL AYAK AHŞAP TABLA | G10: ÇAP 60 | H10: 11 | I10: ADET | K10: =+H10*J10 -> 0
A11: 2 KAT | B11: 2.KAT | C11: ANFİ OTURMA ALANI | E11: #VALUE! | F11: AHŞAP KAPLAMA | H11: 2 | I11: SET | K11: =+H11*J11 -> 0
A12: 2 KAT | B12: 2.KAT | C12: ANFİ OTURMA ALANI MİNER | E12: #VALUE! | F12: KUMAŞ KAPLI SÜNGE MİNDER | H12: 24 | I12: SET | K12: =+H12*J12 -> 0
A13: 2 KAT | B13: 2.KAT | C13: CAFE CORNER | E13: #VALUE! | H13: 1 | I13: SET | K13: =+H13*J13 -> 0
A14: TOPLAM | K14: =SUM(K3:K13) -> 0

Sheet MEKANİK YAPIM İŞLERİ(2.KAT)
A1: MEKANİK YAPIM İŞLERİ (2.KAT SOSYAL ALANLAR)
A2: SIRA NO | B2: POZ NO | C2: YAPILACAK İŞİN CİNSİ | D2: MARKA | E2: MİKTAR | F2: BR. | G2: MALZEME BİRİM FİYAT (TL) | H2: MALZEME TUTAR (TL) | I2: İŞCİLİK BİRİM FİYAT (TL) | J2: İŞCİLİK TUTAR (TL) | K2: GENEL GİDER&KAR BİRİM FİYAT (TL) | L2: GENEL GİDER&KAR TUTAR (TL) | M2: BİRİM FİYAT TL | N2: TUTAR TL
B3: *** | C3: GENEL ÜST TOPLAM | H3: =+H4+H26+H42 -> 0 | J3: =+J4+J26+J42 -> 0 | L3: =+L4+L26 -> 0 | N3: =+N4+N26+N42 -> 0
B4: A | C4: SIHHİ TESİSAT | H4: =SUM(H5:H25) -> 0 | J4: =SUM(J5:J25) -> 0 | L4: =SUM(L5:L25) -> 0 | N4: =SUM(N5:N25) -> 0
A5: 1 | C5: Fotoselli Lavabo Bataryası | D5: Mimari Gurup Termin - Yalnız İşcilik | E5: 14 | F5: Adet | G5: 0 | H5: =+G5*E5 -> 0 | J5: =+E5*I5 -> 0 | K5: 0 | L5: 0 | M5: =+G5+I5+K5 -> 0 | N5: =+M5*E5 -> 0
A6: =1+A5 -> 2 | C6: Engelli Lavabo Montajı | D6: Mimari Gurup Termin - Yalnız İşcilik | E6: 2 | F6: Adet | G6: 0 | H6: =+G6*E6 -> 0 | J6: =+E6*I6 -> 0 | K6: 0 | L6: 0 | M6: =+G6+I6+K6 -> 0 | N6: =+M6*E6 -> 0
A7: =1+A6 -> 3 | C7: Ara Musluk - 1/2" (Rozet Dahil) | D7: Mimari Gurup Termin - Yalnız İşcilik | E7: 29 | F7: Adet | G7: 0 | H7: =+G7*E7 -> 0 | J7: =+E7*I7 -> 0 | K7: 0 | L7: 0 | M7: =+G7+I7+K7 -> 0 | N7: =+M7*E7 -> 0
A8: =1+A7 -> 4 | C8: Plastik lavabo ve eviye sifonu | D8: Mimari Gurup Termin - Yalnız İşcilik | E8: 15 | F8: Adet | G8: 0 | H8: =+G8*E8 -> 0 | J8: =+E8*I8 -> 0 | K8: 0 | L8: 0 | M8: =+G8+I8+K8 -> 0 | N8: =+M8*E8 -> 0
A9: =1+A8 -> 5 | C9: Tepe Duşlu Ankastre Duş Seti | D9: Mimari Gurup Termin - Yalnız İşcilik | E9: 4 | F9: Adet | G9: 0 | H9: =+G9*E9 -> 0 | J9: =+E9*I9 -> 0 | K9: 0 | L9: 0 | M9: =+G9+I9+K9 -> 0 | N9: =+M9*E9 -> 0
A10: =1+A9 -> 6 | C10: Gömme Rezervuarlı, Asma Klozet, Basma Butonu ve Taharet Musluk Montajı | D10: Mimari Gurup Termin - Yalnız İşcilik | E10: 11 | F10: Adet | G10: 0 | H10: =+G10*E10 -> 0 | J10: =+E10*I10 -> 0 | K10: 0 | L10: 0 | M10: =+G10+I10+K10 -> 0 | N10: =+M10*E10 -> 0
A11: =1+A10 -> 7 | C11: Engelli Tutunma Bar Montajları | D11: Mimari Gurup Termin - Yalnız İşcilik | E11: 4 | F11: Adet | G11: 0 | H11: =+G11*E11 -> 0 | J11: =+E11*I11 -> 0 | K11: 0 | L11: 0 | M11: =+G11+I11+K11 -> 0 | N11: =+M11*E11 -> 0
A12: =1+A11 -> 8 | C12: Engelli Hareketli Tutunma Bar Montajı | D12: Mimari Gurup Termin - Yalnız İşcilik | E12: 11 | F12: Adet | G12: 0 | H12: =+G12*E12 -> 0 | J12: =+E12*I12 -> 0 | K12: 0 | L12: 0 | M12: =+G12+I12+K12 -> 0 | N12: =+M12*E12 -> 0
A13: =1+A12 -> 9 | C13: Tuvalet Kağıtlık Montajı | D13: Mimari Gurup Termin - Yalnız İşcilik | E13: 11 | F13: Adet | G13: 0 | H13: =+G13*E13 -> 0 | J13: =+E13*I13 -> 0 | K13: 0 | L13: 0 | M13: =+G13+I13+K13 -> 0 | N13: =+M13*E13 -> 0
A14: =1+A13 -> 10 | C14: Kağıt Havluluk Montajı | D14: Mimari Gurup Termin - Yalnız İşcilik | E14: 15 | F14: Adet | G14: 0 | H14: =+G14*E14 -> 0 | J14: =+E14*I14 -> 0 | K14: 0 | L14: 0 | M14: =+G14+I14+K14 -> 0 | N14: =+M14*E14 -> 0
A15: =1+A14 -> 11 | C15: Sabunluk Montajı | D15: Mimari Gurup Termin - Yalnız İşcilik | E15: 15 | F15: Adet | G15: 0 | H15: =+G15*E15 -> 0 | J15: =+E15*I15 -> 0 | K15: 0 | L15: 0 | M15: =+G15+I15+K15 -> 0 | N15: =+M15*E15 -> 0
A16: =1+A15 -> 12 | C16: Fotoselli Pisuvar Montajı | D16: Mimari Gurup Termin - Yalnız İşcilik | E16: 3 | F16: Adet | G16: 0 | H16: =+G16*E16 -> 0 | J16: =+E16*I16 -> 0 | K16: 0 | L16: 0 | M16: =+G16+I16+K16 -> 0 | N16: =+M16*E16 -> 0
A17: =1+A16 -> 13 | C17: Cam Elyaf Takviyeli Kompozit PP-RC Borularn 3/4" ø25/3,5 mm temiz su boruları - PN20 | D17: Hakan/Muadili | E17: 288 | F17: mt. | H17: =+G17*E17 -> 0 | J17: =+E17*I17 -> 0 | K17: 0 | L17: 0 | M17: =+G17+I17+K17 -> 0 | N17: =+M17*E17 -> 0
A18: =1+A17 -> 14 | C18: Bina içinde fizyoterm kaynak ve vidalı olarak döşenmiş polipropilen boru montaj malzemesi bedeli | D18: Hakan/Muadili | E18: 0.54 | F18: % | H18: =+G18*E18 -> 0 | J18: =+E18*I18 -> 0 | K18: =SUM(L17) -> 0 | L18: 0 | M18: =+G18+I18+K18 -> 0 | N18: =+M18*E18 -> 0
A19: =1+A18 -> 15 | C19: Sert pvc plastik pis su borusu dış çap ø 75-70/3,0 mm (Ses İzoleli) | D19: Hakan/Muadili | E19: 96 | F19: mt. | H19: =+G19*E19 -> 0 | J19: =+E19*I19 -> 0 | M19: =+G19+I19+K19 -> 0 | N19: =+M19*E19 -> 0
A20: =1+A19 -> 16 | C20: Sert pvc plastik pis su borusu dış çap ø 100-110/3,0 mm (Ses İzoleli) | D20: Hakan/Muadili | E20: 60 | F20: mt. | H20: =+G20*E20 -> 0 | J20: =+E20*I20 -> 0 | M20: =+G20+I20+K20 -> 0 | N20: =+M20*E20 -> 0
A21: =1+A20 -> 17 | C21: PVC, ses izoleli,polipropilen plastik pis su boruları (geçme muflu) montaj malzemesi bedeli | D21: Hakan/Muadili | E21: 0.9 | F21: % | H21: =+G21*E21 -> 0 | J21: =+E21*I21 -> 0 | K21: =SUM(L19:L20) -> 0 | L21: 0 | M21: =+G21+I21+K21 -> 0 | N21: =+M21*E21 -> 0
A22: =1+A21 -> 18 | C22: Otomatik Pis Su Havalık Cihazı Ø 100 mm'ye kadar (Ø 100 mm dahil) | D22: Studor/Muadili | E22: 4 | F22: Adet | H22: =+G22*E22 -> 0 | J22: =+E22*I22 -> 0 | K22: 0 | L22: 0 | M22: =+G22+I22+K22 -> 0 | N22: =+M22*E22 -> 0
A23: =1+A22 -> 19 | C23: 20 Ø mm, 3/4" Pirinç, preste imal edilmiş teflon, (PTFE) contalı, tam geçişli, vidalı küresel vana (TS 3148) (TS EN 13547) | D23: Ayvaz/Muadili | E23: 15 | F23: Adet | H23: =+G23*E23 -> 0 | J23: =+E23*I23 -> 0 | K23: 0 | L23: 0 | M23: =+G23+I23+K23 -> 0 | N23: =+M23*E23 -> 0
A24: =1+A23 -> 20 | G24: 0 | I24: 0 | M24: =+G24+I24+K24 -> 0
G25: 0 | I25: 0
B26: B | C26: KLİMA TESİSATI | G26: 0 | H26: =SUM(H27:H41) -> 0 | I26: 0 | J26: =SUM(J27:J41) -> 0 | L26: =SUM(L27:L41) -> 0 | N26: =SUM(N27:N41) -> 0
A27: 1 | C27: Kaset Tipi VRF İç Ünite Demontaj-Montaj | D27: Hizmet Alımı | E27: 3 | F27: Adet | G27: 0 | H27: =+G27*E27 -> 0 | J27: =+E27*I27 -> 0 | K27: 0 | L27: 0 | M27: =+G27+I27+K27 -> 0 | N27: =+M27*E27 -> 0
A28: =1+A27 -> 2 | C28: Merkezi Klima Sistemi Demontaj Sonrası Gaz Şarjı ve Devreye Alma İşleri | D28: Hizmet Alımı | E28: 2 | F28: Set | H28: =+G28*E28 -> 0 | J28: =+E28*I28 -> 0 | K28: 0 | L28: 0 | M28: =+G28+I28+K28 -> 0 | N28: =+M28*E28 -> 0
A29: =1+A28 -> 3 | C29: Sert pvc plastik içme suyu borusu ø 25 mm 10 atmosfer (yapışt.muflu) | D29: Pimtaş/Muadili | E29: 22 | F29: mt. | H29: =+G29*E29 -> 0 | J29: =+E29*I29 -> 0 | K29: 0 | L29: 0 | M29: =+G29+I29+K29 -> 0 | N29: =+M29*E29 -> 0
A30: =1+A29 -> 4 | C30: Sert pvc plastik içme suyu borusu ø 32 mm 10 atmosfer (yapışt.muflu) | D30: Pimtaş/Muadili | E30: 22 | F30: mt. | H30: =+G30*E30 -> 0 | J30: =+E30*I30 -> 0 | K30: 0 | L30: 0 | M30: =+G30+I30+K30 -> 0 | N30: =+M30*E30 -> 0
A31: =1+A30 -> 5 | C31: Sert pvc plastik içme suyu borusu ø 40 mm 10 atmosfer (yapışt.muflu) | D31: Pimtaş/Muadili | E31: 22 | F31: mt. | H31: =+G31*E31 -> 0 | J31: =+E31*I31 -> 0 | K31: 0 | L31: 0 | M31: =+G31+I31+K31 -> 0 | N31: =+M31*E31 -> 0
A32: =1+A31 -> 6 | C32: Yapıştırma ve geçme muflu boru montaj malzemesi bedeli (Bina içinde döşenmesi halinde) (Ölç. :%) | D32: Pimtaş/Muadili | E32: 0.3 | F32: % | H32: =+G32*E32 -> 0 | J32: =+E32*I32 -> 0 | K32: =SUM(L29:L31) -> 0 | L32: 0 | M32: =+G32+I32 -> 0 | N32: =+M32*E32 -> 0
A33: =1+A32 -> 7 | C33: 28Ø mm et: 9 mm alüm.komp.fılm kaplı kauçuk köpüğü esaslı prefabrik boru ile ısı yalıtımı | D33: Paflex/Muadili | E33: 22 | F33: mt. | H33: =+G33*E33 -> 0 | J33: =+E33*I33 -> 0 | K33: 0 | L33: 0 | M33: =+G33+I33+K33 -> 0 | N33: =+M33*E33 -> 0
A34: =1+A33 -> 8 | C34: 35Ø mm et: 13 mm alüm.komp.fılm kaplı kauçuk köpüğü esaslı prefabrik boru ile ısı yalıtımı | D34: Paflex/Muadili | E34: 22 | F34: mt. | H34: =+G34*E34 -> 0 | J34: =+E34*I34 -> 0 | K34: 0 | L34: 0 | M34: =+G34+I34+K34 -> 0 | N34: =+M34*E34 -> 0
A35: =1+A34 -> 9 | C35: 48Ø mm et: 13 mm alüm.komp.fılm kaplı kauçuk köpüğü esaslı prefabrik boru ile ısı yalıtımı | D35: Paflex/Muadili | E35: 22 | F35: mt. | H35: =+G35*E35 -> 0 | J35: =+E35*I35 -> 0 | K35: 0 | L35: 0 | M35: =+G35+I35+K35 -> 0 | N35: =+M35*E35 -> 0
A36: =1+A35 -> 10 | C36: En geniş kenarı 600 mm.ye kadar olanlarda 0,60 mm. galvanizli saçtan dikdörtgen hava kanalı yapılması (DX 51 D+Z 110 gr/m² Çinko) | D36: İmalat | E36: 300 | F36: M2 | H36: =+G36*E36 -> 0 | J36: =+E36*I36 -> 0 | K36: 0 | L36: 0 | M36: =+G36+I36+K36 -> 0 | N36: =+M36*E36 -> 0
A37: =1+A36 -> 11 | C37: İç mekanlarda kanal yalıtımı (levha genişliği:1000 et kalınlığı:19) | D37: Paflex/Muadili | F37: M2 | H37: =+G37*E37 -> 0 | J37: =+E37*I37 -> 0 | K37: 0 | L37: 0 | M37: =+G37+I37+K37 -> 0 | N37: =+M37*E37 -> 0
A38: =1+A37 -> 12 | C38: Ø 150 mm gemici tip anemostat | D38: Elektroteknik/Muadılı | F38: Adet | H38: =+G38*E38 -> 0 | J38: =+E38*I38 -> 0 | K38: 0 | L38: 0 | M38: =+G38+I38+K38 -> 0 | N38: =+M38*E38 -> 0
A39: =1+A38 -> 13 | G39: 0 | H39: =+G39*E39 -> 0 | M39: =+G39+I39+K39 -> 0 | N39: =+M39*E39 -> 0
A40: =1+A39 -> 14 | G40: 0 | I40: 0 | M40: =+G40+I40+K40 -> 0
...

Sheet ELEKTRİK YAPIM İŞLERİ(2.KAT)
A1: ELEKTRİK YAPIM İŞLERİ (2.KAT SOSYAL ALANLAR)
B2: BR. | C2: MİKTAR | D2: BR. FİYAT | E2: TUTAR
A3: Teras Ana Panosu | B3: Set | C3: 1 | E3: =C3*D3 -> 0
A4: Basketbol Saha Panosu | B4: Set | C4: 1 | E4: =C4*D4 -> 0
A5: Voleybol Saha Panosu | B5: Set | C5: 1 | E5: =C5*D5 -> 0
A6: Tenis Saha Panosu | B6: Set | C6: 1 | E6: =C6*D6 -> 0
A7: Acık Hava Sınema Panosu | B7: Set | C7: 1 | E7: =C7*D7 -> 0
A8: Teras Besleme Kablosu | B8: Set | C8: 1 | E8: =C8*D8 -> 0
A9: Basketbol Saha Besleme Kablosu | B9: Set | C9: 1 | E9: =C9*D9 -> 0
A10: Voleybol Saha Besleme Kablosu | B10: Set | C10: 1 | E10: =C10*D10 -> 0
A11: Tenis Saha Besleme Kablosu | B11: Set | C11: 1 | E11: =C11*D11 -> 0
A12: Açık Hava Sinema Kablosu | B12: Set | C12: 1 | E12: =C12*D12 -> 0
A13: Teras genel aydınlatma ve dekoratif aydınlatma | B13: Set | C13: 1 | E13: =C13*D13 -> 0
A14: Basketbol Saha Aydınlatma (4 set IP66 5000K LED ) | B14: Set | C14: 1 | E14: =C14*D14 -> 0
... A25: GYM- Ortak Alan ve Soyunma Odaları CCTV Yangın Ses AP ve data dahil | B25: Set | C25: 1 | E25: =C25*D25 -> 0
D26: TOPLAM | E26: =SUM(E3:E25) -> 0

Sheet İLAVE CEPHE-ÇELİK-ASANSÖR İŞL.
B1: İLAVE CEPHE-ASANSÖR VE ÇELİK İŞLERİ
A2: SIRA NO | B2: İŞİN TANIMI | C2: BİRİM | D2: MİKTAR | E2: BİRİM FİYAT | F2: TUTAR
A3: 1 | B3: ALÜMİNYUM KOMPOZİT PANEL | C3: m2 | D3: 3540 | F3: =+D3*E3 -> 0
A4: 2 | B4: ASANSÖR YENİLEME DEMONTAJ VE MONTAJ İŞLERİ YANGIN ASANSÖRÜ 13 KİŞİ 23 KAT - 1 ADET MODERNİZASYON 10 KİŞİLİK YÜKSEK KAT- 2 ADET MODERNİZASYON 10 KİŞİLİK DÜŞÜK KAT-3 ADET MODERNİZASYON 10 KİŞİLİK YÜK ASANSÖRÜ-3 ADET | C4: SET | D4: 1 | F4: =+D4*E4 -> 0
A5: 3 | B5: ÇELİK İŞLERİ | C5: KG | D5: 33895.2 | F5: =+D5*E5 -> 0
B6: TOPLAM TUTAR | F6: =SUM(F3:F5) -> 0
A7: NOT : TUTARLAR KDV HARİÇTİR.
A8: NOT : YUKARIDAKİ İŞLER ŞARTNAMESİNE UYGUN YAPILACAK OLUP İŞİN SONUNDA KESİN HESAP YAPILACAKTIR.
