Workbook
Name \0: #N/A
Name \a: #N/A
Name \b: #REF!
Name \d: #REF!
Name \e: #REF!
Name \m: #REF!
Name \n: #N/A
Name \p: #N/A
Name \Q: #REF!
Name \s: #REF!
Name \s1: #REF!
Name \z: #REF!
Name _______________________________________________Tdb1: #REF!
Name _______________________________________________Tdb1_1: "#REF!"
Name _______________________________________________Tdb1_2: "#REF!"
Name _______________________________________________Tdb2: #REF!
Name _______________________________________________Tdb2_1: "#REF!"
Name _______________________________________________Tdb2_2: "#REF!"
Name _______________________________________________Twb1: #REF!
Name _______________________________________________Twb1_1: "#REF!"
Name _______________________________________________Twb1_2: "#REF!"
Name _______________________________________________Twb2: #REF!
Name _______________________________________________Twb2_1: "#REF!"
Name _______________________________________________Twb2_2: "#REF!"
Name ___________________KA1: #REF!
Name ___________________KA2: #REF!
Name ___________________KA3: #REF!
Name ___________________KA4: #REF!
Name ___________________KA5: #REF!
Name ___________________KA6: #REF!
Name ___________________KK10: #REF!
Name ___________________KK11: #REF!
Name ___________________KK12: #REF!
Name ___________________KK13: #REF!
Name ___________________KK14: #REF!
Name ___________________KK15: #REF!
Name ___________________KK16: #REF!
Name ___________________KK17: #REF!
Name ___________________KK2: #REF!
Name ___________________KK3: #REF!
Name ___________________KK4: #REF!
Name ___________________KK5: #REF!
Name ___________________KK6: #REF!
Name ___________________KK7: #REF!
Name ___________________KK8: #REF!
Name ___________________KK9: #REF!
Name ___________KA1: #REF!
Name ___________KA2: #REF!
Name ___________KA3: #REF!
Name ___________KA4: #REF!
Name ___________KA5: #REF!
Name ___________KA6: #REF!
Name ___________KK10: #REF!
Name ___________KK11: #REF!
Name ___________KK12: #REF!
Name ___________KK13: #REF!
Name ___________KK14: #REF!
Name ___________KK15: #REF!
Name ___________KK16: #REF!
Name ___________KK17: #REF!

Sheet İCMAL
A1: İSÜ TOPKAPI YERLEŞKESİ LABORATUVAR-DERSLİK-OFİS VE SOSYAL ALANLAR YAPIMI İŞİ 2. ETAP İHALE DOSYASI
A2: SIRA NO | B2: İMALATIN ADI | C2: TUTAR
A3: 1 | B3: GRUP-1 YAPIM İŞLERİ (İNŞAAT-MOBİLYA-MEKANİK-ELEKTRİK) | C3: ='GRUP-1 KEŞİF ÖZETİ'!C7 -> 0
A4: 2 | B4: GRUP-2 YAPIM İŞLERİ (İNŞAAT - MOBİLYA) | C4: ='GRUP-2 KEŞİF ÖZETİ '!C5 -> 0
B5: TOPLAM TUTAR | C5: =SUM(C3:C4) -> 0
A7: NOT : TUTARLAR KDV HARİÇTİR.
A8: NOT : YUKARIDAKİ İŞLER ŞARTNAMESİNE UYGUN YAPILACAK OLUP İŞİN SONUNDA KESİN HESAP YAPILACAKTIR.

Sheet GRUP-1 KEŞİF ÖZETİ
A1: İSÜ TOPKAPI YERLEŞKESİ LABORATUVAR-DERSLİK-OFİS VE SOSYAL ALANLAR YAPIMI İŞİ 2. ETAP İHALE DOSYASI
A2: SIRA NO | B2: GRUP-1 KEŞİF ÖZETİ | C2: TUTAR
A3: 1 | B3: İNŞAAT İŞLERİ | C3: =+'1.1-İNŞAAT'!F44 -> 0
A4: 2 | B4: SABİT MOBİLYA İŞLERİ | C4: =+'1.2-MOBİLYA'!H22 -> 0
A5: 3 | B5: MEKANİK TESİSAT İŞLERİ | C5: =+'1.3-MEKANİK İCMAL '!E7 -> 0
A6: 4 | B6: ELEKTRİK TESİSATI İŞLERİ | C6: =+'1.4-ELEKTRİK'!EV174 -> 0
B7: TOPLAM TUTAR | C7: =SUM(C3:C6) -> 0
A9: NOT : TUTARLAR KDV HARİÇTİR.
A10: NOT : YUKARIDAKİ İŞLER ŞARTNAMESİNE UYGUN YAPILACAK OLUP İŞİN SONUNDA KESİN HESAP YAPILACAKTIR.

Sheet 1.1-İNŞAAT
B1: İNŞAAT İŞLERİ
A2: SIRA NO | B2: İŞİN TANIMI | C2: BİRİM | D2: MİKTAR | E2: BİRİM FİYAT | F2: TUTAR
A3: 1 | B3: 2FX+40*60*1,5 mm+Knauf İnsulation+2FX Çelik Konstrüksiyonlu Bölme Duvar İmalatı | C3: m2 | D3: 834 | F3: =+D3*E3 -> 0 | H3: =D3/2 -> 417
A4: 2 | B4: 2FR+40*60*1,5 mm+Knauf İnsulation+2FR Çelik Konstrüksiyonlu Bölme Duvar İmalatı | C4: m2 | D4: 63 | F4: =+D4*E4 -> 0 | H4: =D4/2 -> 31.5
A5: 3 | B5: 2WR+40*60*1,5 mm+Knauf İnsulation+2WR Çelik Konstrüksiyonlu Bölme Duvar İmalatı | C5: m2 | D5: 90 | F5: =+D5*E5 -> 0 | H5: =D5/2 -> 45
A6: 4 | B6: 2FR+40*40*1,5 mm+Knauf İnsulationÇelik Konstrüksiyonlu Giydirme Duvar İmalatı | C6: m2 | D6: 33 | F6: =+D6*E6 -> 0 | H6: =D6/2 -> 16.5
A7: 5 | B7: 2FX+40*40*1,5 mm+Knauf İnsulationÇelik Konstrüksiyonlu Giydirme Duvar İmalatı | C7: m2 | D7: 466.5 | F7: =+D7*E7 -> 0 | H7: =D7/2 -> 233.25
A8: 6 | B8: 2WR+40*40*1,5 mm+Knauf İnsulationÇelik Konstrüksiyonlu Giydirme Duvar İmalatı | C8: m2 | D8: 52.5 | F8: =+D8*E8 -> 0 | H8: =D8/2 -> 26.25
A9: 7 | B9: 2FX+40*60*1,5 mm+Knauf İnsulationÇelik Konstrüksiyonlu Duvar alın İmalatı | C9: mt | D9: 765 | F9: =+D9*E9 -> 0 | H9: =D9/2 -> 382.5
A10: 8 | B10: FX+40*20*1,5 mm profil ile alçıpan asma tavan yapılması | C10: m2 | D10: 378 | F10: =+D10*E10 -> 0 | H10: =D10/2 -> 189
A11: 9 | B11: WR+40*20*1,5 mm profil ile alçıpan asma tavan yapılması | C11: m2 | D11: 187.5 | F11: =+D11*E11 -> 0 | H11: =D11/2 -> 93.75
A12: 10 | B12: FR+40*20*1,5 mm profil ile alçıpan asma tavan yapılması | C12: m2 | D12: 76.5 | F12: =+D12*E12 -> 0 | H12: =D12/2 -> 38.25
A13: 11 | B13: Gizli Işık İmalatı | C13: mt | D13: 120 | F13: =+D13*E13 -> 0 | H13: =D13/2 -> 60
A14: 12 | B14: Perdelik İmalatı | C14: mt | D14: 498 | F14: =+D14*E14 -> 0 | H14: =D14/2 -> 249
... A43: 41 | B43: GİRİŞ KARTLI ÇIKIŞ FOTOSELLİ CAM KAYAR KAPI 5+5 TEMPERLİ CAM 130X220 CM | C43: ADET | D43: 9 | F43: =+D43*E43 -> 0 | H43: =D43/2 -> 4.5
B44: TOPLAM TUTAR | F44: =SUM(F3:F43) -> 0
A45: NOT : TUTARLAR KDV HARİÇTİR.
A46: NOT : YUKARIDAKİ İŞLER ŞARTNAMESİNE UYGUN YAPILACAK OLUP İŞİN SONUNDA KESİN HESAP YAPILACAKTIR.

Sheet 1.2-MOBİLYA
B2: SABİT VE HAREKETLİ MOBİLYA
B3: SIRA NO | C3: 26.05.2025 MOBİLYA | D3: ÖLÇÜLER | E3: BİRİM | F3: MİKTAR | G3: BİRİM FİYAT | H3: TUTAR
B4: 1 | C4: ÇALIŞMA MASASI | D4: 120*80*75 | E4: ADET | F4: 110 | H4: =G4*F4 -> 0
B5: 2 | C5: ÇALIŞMA SANDALYESİ | D5: 60*55*75 | E5: ADET | F5: 110 | H5: =G5*F5 -> 0
B6: 3 | C6: OFİS ÇALIŞMA MASASI | D6: 140*70*75 | E6: ADET | F6: 20 | H6: =G6*F6 -> 0
B7: 4 | C7: OFİS ÇALIŞMA SANDALYESİ | D7: 60*55*75 | E7: ADET | F7: 20 | H7: =G7*F7 -> 0
B8: 5 | C8: OFİS ÇEKMECELİ KESON | D8: 45*45*50 | E8: ADET | F8: 20 | H8: =G8*F8 -> 0
B9: 6 | C9: TOPLANTI MASASI | D9: 370*120*75 | E9: ADET | F9: 1 | H9: =G9*F9 -> 0
B10: 7 | C10: OFİS DOSYA DOLABI | D10: 90*50*210 | E10: ADET | F10: 20 | H10: =G10*F10 -> 0
B11: 8 | C11: OFİS MİSAFİR KOLTUĞU | D11: 60*55*75 | E11: ADET | F11: 40 | H11: =G11*F11 -> 0
B12: 9 | C12: OFİS SEHPA | D12: 35*35*40 | E12: ADET | F12: 20 | H12: =G12*F12 -> 0
B13: 10 | C13: KAPI | D13: 100*210*4 | E13: ADET | F13: 38 | H13: =G13*F13 -> 0
B14: 11 | C14: TEKLİ GİYSİ DOLABI | D14: 70*60*210 | E14: ADET | F14: 15 | H14: =G14*F14 -> 0
B15: 14 | C15: SOYUNMA DOLAPLARI | D15: 80*40*210 | E15: ADET | F15: 10 | H15: =G15*F15 -> 0
... B21: 28 | C21: DANIŞMA BANKOSU | D21: 300*75*75 | E21: ADET | F21: 2 | H21: =G21*F21 -> 0
C22: MOBİLYA TOPLAMI | H22: =SUM(H4:H21) -> 0

Sheet 1.3-MEKANİK İCMAL 
A1: MEKANİK TESİSATI İCMALİ | E1: 45879
A2: SIRA NO | B2: YAPILACAK İŞİN TANIMI | C2: MİKTAR | D2: BİRİM | E2: TOPLAM TUTAR (TL) | G2: MALZEME TUTARI EURO | H2: MALZEME TUTARI USD | I2: MALZEME TUTARI TL | J2: İŞÇİLİK TUTARI TL | K2: MALİYET TUTARI TL | L2: GENEL GİDER TUTARI TL | M2: KAR TUTARI TL | N2: TUTAR TL | O2: Adam Saat
A3: 1 | B3: =+'1.3.1-MEKANİK KEŞİF '!C4 -> SIHHİ TESİSAT | C3: 1 | D3: SET | E3: ='1.3.1-MEKANİK KEŞİF '!H4 -> 0 | G3: =+'1.3.1-MEKANİK KEŞİF '!#REF! -> #REF! | H3: =+'1.3.1-MEKANİK KEŞİF '!#REF! -> #REF! | I3: =+'1.3.1-MEKANİK KEŞİF '!#REF! -> #REF! | J3: =+'1.3.1-MEKANİK KEŞİF '!#REF! -> #REF! | K3: =SUM(I3:J3) -> #REF! | L3: =+'1.3.1-MEKANİK KEŞİF '!#REF! -> #REF! | M3: =+'1.3.1-MEKANİK KEŞİF '!#REF! -> #REF! | N3: =M3+L3+J3+I3 -> #REF! | O3: =+'1.3.1-MEKANİK KEŞİF '!#REF! -> #REF!
A4: 2 | B4: =+'1.3.1-MEKANİK KEŞİF '!C56 -> YANGIN TESİSATI | C4: 1 | D4: SET | E4: ='1.3.1-MEKANİK KEŞİF '!H56 -> 0 | G4: =+'1.3.1-MEKANİK KEŞİF '!#REF! -> #REF! | H4: =+'1.3.1-MEKANİK KEŞİF '!#REF! -> #REF! | I4: =+'1.3.1-MEKANİK KEŞİF '!#REF! -> #REF! | J4: =+'1.3.1-MEKANİK KEŞİF '!#REF! -> #REF! | K4: =SUM(I4:J4) -> #REF! | L4: =+'1.3.1-MEKANİK KEŞİF '!#REF! -> #REF! | M4: =+'1.3.1-MEKANİK KEŞİF '!#REF! -> #REF! | N4: =M4+L4+J4+I4 -> #REF! | O4: =+'1.3.1-MEKANİK KEŞİF '!#REF! -> #REF!
A5: 3 | B5: =+'1.3.1-MEKANİK KEŞİF '!C95 -> HAVALANDIRMA VE KLİMA TESİSATI | C5: 1 | D5: SET | E5: ='1.3.1-MEKANİK KEŞİF '!H95 -> 0 | G5: =+'1.3.1-MEKANİK KEŞİF '!#REF! -> #REF! | H5: =+'1.3.1-MEKANİK KEŞİF '!#REF! -> #REF! | I5: =+'1.3.1-MEKANİK KEŞİF '!#REF! -> #REF! | J5: =+'1.3.1-MEKANİK KEŞİF '!#REF! -> #REF! | K5: =SUM(I5:J5) -> #REF! | L5: =+'1.3.1-MEKANİK KEŞİF '!#REF! -> #REF! | M5: =+'1.3.1-MEKANİK KEŞİF '!#REF! -> #REF! | N5: =M5+L5+J5+I5 -> #REF! | O5: =+'1.3.1-MEKANİK KEŞİF '!#REF! -> #REF!
A7: GENEL TOPLAM (KDV Hariç) : | E7: =SUM(E3:E6) -> 0 | G7: =SUM(G3:G6) -> #REF! | H7: =SUM(H3:H6) -> #REF! | I7: =SUM(I3:I5) -> #REF! | J7: =SUM(J3:J5) -> #REF! | K7: =SUM(K3:K5) -> #REF! | L7: =SUM(L3:L5) -> #REF! | M7: =SUM(M3:M5) -> #REF! | N7: =SUM(N3:N5) -> #REF! | O7: =SUM(O3:O5) -> #REF!

Sheet 1.3.1-MEKANİK KEŞİF 
A1: MEKANİK TESİSAT İŞLERİ KEŞFİ
A2: SIRA NO | B2: POZ NO | C2: YAPILACAK İŞİN CİNSİ | D2: MARKA | E2: MİKTAR | F2: BR. | G2: BİRİM FİYAT TL | H2: TUTAR TL
B3: *** | C3: GENEL ÜST TOPLAM | H3: =+H4+H56+H95 -> 0
B4: A | C4: SIHHİ TESİSAT | H4: =SUM(H5:H55) -> 0
A5: 1 | C5: Gömme Rezervuarlı Alafranga Tuvalet Seti | D5: MONTAJ | E5: 51 | F5: Adet | H5: =E5*G5 -> 0 | J5: =E5/2 -> 25.5
A6: =1+A5 -> 2 | C6: Anti Bakteriyel 40x50 cm tezgah altı veya üstü oval lavabo | D6: MONTAJ | E6: 45 | F6: Adet | H6: =E6*G6 -> 0 | J6: =E6/2 -> 22.5
A7: =1+A6 -> 3 | C7: 50x60 cm bedensel engelli lavabo (lavabonun derinliği en az 43 cm, en fazla 49 cm olmalıdır) | D7: MONTAJ | E7: 4 | F7: Adet | H7: =E7*G7 -> 0 | J7: =E7/2 -> 2
A8: =1+A7 -> 4 | C8: Birinci sınıf bir gözlü eviye | D8: MONTAJ | E8: 10 | F8: Adet | H8: =E8*G8 -> 0 | J8: =E8/2 -> 5
A9: =1+A8 -> 5 | C9: 1/2" Kromajlı çamaşır musluğu, seramik salmastralı, musluk rozeti dahil. | D9: MONTAJ | E9: 17 | F9: Adet | H9: =E9*G9 -> 0 | J9: =E9/2 -> 8.5
A10: =1+A9 -> 6 | C10: Abdest Alma Bataryası (Duvardan Çıkışlı Ankastre) | D10: MONTAJ | E10: 7 | F10: Adet | H10: =E10*G10 -> 0 | J10: =E10/2 -> 3.5
A11: =1+A10 -> 7 | C11: Ankastre Banyo Bataryası | D11: MONTAJ | E11: 22 | F11: Adet | H11: =E11*G11 -> 0 | J11: =E11/2 -> 11
A12: =1+A11 -> 8 | C12: Tek kumandalı, tek gövde, lavabo bataryası | D12: MONTAJ | E12: 0 | F12: Adet | H12: =E12*G12 -> 0 | J12: =E12/2 -> 0
A13: =1+A12 -> 9 | C13: Fotoselli lavabo bataryası ve tesisatı, çift su girişli | D13: MONTAJ | E13: 44 | F13: Adet | H13: =E13*G13 -> 0 | J13: =E13/2 -> 22
A14: =1+A13 -> 10 | C14: Eviye Bataryası | D14: MONTAJ | E14: 10 | F14: Adet | H14: =E14*G14 -> 0 | J14: =E14/2 -> 5
A15: =1+A14 -> 11 | C15: Filtreli ara musluk(paslanmaz çelik filtre, rozet dahil) | D15: MONTAJ | E15: 131 | F15: Adet | H15: =E15*G15 -> 0 | J15: =E15/2 -> 65.5
A16: =1+A15 -> 12 | C16: Ankastre Stop Valf | D16: MONTAJ | E16: 56 | F16: Adet | H16: =E16*G16 -> 0 | J16: =E16/2 -> 28
A17: =1+A16 -> 13 | C17: Engelli kullanımına uygun takriben 50x70 cm. ayna | D17: MONTAJ | E17: 4 | F17: Adet | H17: =E17*G17 -> 0 | J17: =E17/2 -> 2
... A52: =1+A51 -> 48 | C52: Ø50 mm. - Kauçuk Köpüğü Boru İzolasyonu | D52: PAFLEX/ODE | E52: 270 | F52: mt. | H52: =E52*G52 -> 0 | J52: =E52/2 -> 135
A53: =1+A52 -> 49 | G53: 0 | H53: =E53*G53 -> 0 | J53: =E53/2 -> 0
A54: =1+A53 -> 50 | G54: 0 | H54: =E54*G54 -> 0 | J54: =E54/2 -> 0
G55: 0 | H55: =E55*G55 -> 0 | J55: =E55/2 -> 0
B56: B | C56: YANGIN TESİSATI | G56: 0 | H56: =SUM(H57:H94) -> 0 | J56: =E56/2 -> 0
A57: 1 | C57: Dn25 30m TS EN 671-1 normlarında tüplü model yangın dolabı - Sıva Altı Plazma Kapak *** 2" - Stroz Kaplinli Vana *** Tüp Haznesi Altta *** Hortum Uzunluğu 1"-30 mt *** 2 Gözlü. (1 Göz Hortum ve Bağlantı Elemanı. 2. Göz Yangın Tüpü) *** Gövde Sac Kalınlığı 1,50 mm. ***Gövde Renk : Kırmızı | D57: FETAŞ/MUADILI | E57: 12 | H57: =E57*G57 -> 0 | J57: =E57/2 -> 6
A58: =1+A57 -> 2 | C58: Dn15 standart uygulamalar için otomatik yangın sprinkleri (dik) - Hızlı Tepkili | D58: AYVAZ/MUADILI | E58: 960 | F58: Adet | H58: =E58*G58 -> 0 | J58: =E58/2 -> 480
A59: =1+A58 -> 3 | C59: Dn15 standart uygulamalar için otomatik yangın sprinkleri (sarkık) - Hızlı Tepkili | E59: 960 | F59: Adet | H59: =E59*G59 -> 0 | J59: =E59/2 -> 480
A60: =1+A59 -> 4 | C60: Sprinkler Bağlantı Hortumu ve Seti Bağlanttı Çapları: 1"x1/2" Hortum Boyu: 1.200 mm. Konsol Boyu: 700 mm. | D60: AYVAZ/MUADILI | E60: 960 | F60: Adet | H60: =E60*G60 -> 0 | J60: =E60/2 -> 480
A61: =1+A60 -> 5 | C61: Test ve drenaj vanası, dişli, pirinç DN 25 | D61: AYVAZ/MUADILI | E61: 12 | F61: Adet | H61: =E61*G61 -> 0 | J61: =E61/2 -> 6
A62: =1+A61 -> 6 | C62: Su akış anahtarı | D62: AYVAZ/MUADILI | E62: 12 | F62: Adet | H62: =E62*G62 -> 0 | J62: =E62/2 -> 6
A63: =1+A62 -> 7 | C63: Dn 65 izlenebilir flanş arası sıkıştırmalı kelebek vana | D63: AYVAZ/MUADILI | E63: 1.5 | F63: Adet | H63: =E63*G63 -> 0 | J63: =E63/2 -> 0.75
A64: =1+A63 -> 8 | C64: Dn 80 izlenebilir flanş arası sıkıştırmalı kelebek vana | D64: AYVAZ/MUADILI | E64: 1.5 | F64: Adet | H64: =E64*G64 -> 0 | J64: =E64/2 -> 0.75
A65: =1+A64 -> 9 | C65: Dn 100 izlenebilir flanş arası sıkıştırmalı kelebek vana | D65: AYVAZ/MUADILI | E65: 12 | F65: Adet | H65: =E65*G65 -> 0 | J65: =E65/2 -> 6
A66: =1+A65 -> 10 | C66: Dn 150 izlenebilir flanş arası sıkıştırmalı kelebek vana | D66: AYVAZ/MUADILI | E66: 1.5 | F66: Adet | H66: =E66*G66 -> 0 | J66: =E66/2 -> 0.75
A67: =1+A66 -> 11 | C67: Dn 65 yangın çek vana | D67: AYVAZ/MUADILI | E67: 1.5 | F67: Adet | H67: =E67*G67 -> 0 | J67: =E67/2 -> 0.75
A68: =1+A67 -> 12 | C68: Dn 80 yangın çek vana | D68: AYVAZ/MUADILI | E68: 1.5 | F68: Adet | H68: =E68*G68 -> 0 | J68: =E68/2 -> 0.75
A69: =1+A68 -> 13 | C69: Dn 100 yangın çek vana | D69: AYVAZ/MUADILI | E69: 12 | F69: Adet | H69: =E69*G69 -> 0 | J69: =E69/2 -> 6
A70: =1+A69 -> 14 | C70: Dn 150 yangın çek vana | D70: AYVAZ/MUADILI | E70: 1.5 | F70: Adet | H70: =E70*G70 -> 0 | J70: =E70/2 -> 0.75
A71: =1+A70 -> 15 | C71: DN 65 İtfaiye Kat Bağlantı Vanası | D71: AYVAZ/MUADILI | E71: 12 | F71: Adet | H71: =E71*G71 -> 0 | J71: =E71/2 -> 6
... A90: =1+A89 -> 34 | C90: Yağlı boya ile boru boyanması ø 100 mm - 150 mm, (4" - 12") arası (12") dahil | D90: DYO/MUADILI | E90: 540 | F90: mt. | H90: =E90*G90 -> 0 | J90: =E90/2 -> 270
A91: =1+A90 -> 35 | C91: 0 - 16 bar Manometre (Gliserinli) | D91: PAKKENS/MUAIDLI | E91: 12 | H91: =E91*G91 -> 0 | J91: =E91/2 -> 6
A92: =1+A91 -> 36 | G92: 0 | H92: =E92*G92 -> 0 | J92: =E92/2 -> 0
...

Sheet 1.4-ELEKTRİK
A1: ELEKTRİK TESİSATI KEŞFİ
A2: POZ | B2: İŞİN TANIMI | C2: SEÇİLEN MARKA | D2: MODEL (ÜRÜN KODU) | E2: ÖLÇÜ | F2: KALINLIK | G2: BİRİM | H2: MİKTAR | I2: YATAK ODASI (X5) | J2: YEMEKHANE | K2: ÇAMAŞIRHANE | L2: MESCİT | M2: TEKNİK MAHAL | N2: KORİDOR | O2: YATAK ODASI (X12) | P2: YEMEKHANE | Q2: ÇAMAŞIRHANE | R2: MESCİT | S2: BAVUL ODASI | T2: REVİR | U2: TEKNİK MAHAL | EU2: POZ BİRİM FİYAT (TL) ( F )=B+C+D+E | EV2: POZ TOPLAM TUTAR (TL) E=AxF
A3: A | B3: OG/ UPS/ SAC PANOLAR
B4: NOT: TÜM PANOLAR PROJE VE TEKHAT ŞEMALARI DİKKATE ALINARAK SET OLARAK ŞALT MALZEME DAHİL FİYAT VERİLECEKTİR. Proje ve Elektrik Teknik Şartnameye uygun önceden kısa devre hesaplarının yapılarak kontrollüğe onaylatılmak kaydıyla, gerekli kısa devre dayanımında her türlü mesnet, izolatör vb. aksesuar dahil modüler tip panoların çalışır vaziyette teslimi
A5: A-3.1 | B5: Duvar Tipi Dağıtım Ve Kuvvet Panoları
A6: A-3.1.2 | B6: KAT PANOSU (Detaylar Pano dökümündedir) | C6: LOKAL- ABB-SCHNEIDER-SIEMENS | G6: Ad. | H6: 12 | AL6: 1 | BV6: 1 | DM6: 1 | DT6: 1 | EV6: =+EU6*H6 -> 0 | EY6: =H6/2 -> 6
A7: A-3.1.3 | B7: UPS PANOSU (Detaylar Pano dökümündedir) | C7: LOKAL- ABB-SCHNEIDER-SIEMENS | G7: Ad. | H7: 12 | AL7: 1 | BV7: 1 | DM7: 1 | DT7: 1 | EV7: =+EU7*H7 -> 0 | EY7: =H7/2 -> 6
A8: A-3.1.4 | B8: MCC1 PANOSU (Detaylar Pano dökümündedir) | C8: LOKAL- ABB-SCHNEIDER-SIEMENS | G8: Ad. | H8: 6 | AL8: 1 | BV8: 1 | DM8: 1 | DT8: 1 | EV8: =+EU8*H8 -> 0 | EY8: =H8/2 -> 3
A9: A-3.1.5 | B9: MCC2 PANOSU (Detaylar Pano dökümündedir) | C9: LOKAL- ABB-SCHNEIDER-SIEMENS | G9: Ad. | H9: 6 | AL9: 1 | BV9: 1 | DM9: 1 | DT9: 1 | EV9: =+EU9*H9 -> 0 | EY9: =H9/2 -> 3
A10: A-6 | B10: Sigorta Kutuları | H10: 0 | EY10: =H10/2 -> 0
A11: A-6.6 | B11: elektrostatik toz boyalı, sac malzemeden yapılmış, kilitli, anahtarlı 24'lü sıva altı sigorta kutusu (aley yaymayan klemens seti dahil) | C11: ABB-LEGRAND-PANASONIC | G11: Ad. | H11: 90 | AL11: 32 | BV11: 35 | BZ11: 1 | DM11: 32 | DT11: 34 | EV11: =+EU11*H11 -> 0 | EY11: =H11/2 -> 45
A12: D | B12: KABLOLAR | H12: 0 | EY12: =H12/2 -> 0
B13: Proje ve Elektrik Teknik Şartnamesine uygun her nevi montaj malzemesi dahil (kablo bağı, yüksük vs.) çalışır halde teslimi | H13: 0 | EY13: =H13/2 -> 0
A14: D-1 | B14: Kuvvetli Akım Kabloları | H14: 0 | EY14: =H14/2 -> 0
A15: D-1.1 | B15: NHXMH Kablolar | H15: 0 | EY15: =H15/2 -> 0
A16: D-1.1.3 | B16: 3x1,5 mm2 NHXMH | C16: PRYSMIAN-NEXANS-ÖZNUR | G16: Mt. | H16: 10500 | EV16: =+EU16*H16 -> 0 | EY16: =H16/2 -> 5250
A17: D-1.1.4 | B17: 3x2,5 mm2 NHXMH | C17: PRYSMIAN-NEXANS-ÖZNUR | G17: Mt. | H17: 37500 | EV17: =+EU17*H17 -> 0 | EY17: =H17/2 -> 18750
A18: D-1.1.7 | B18: 4x1,5 mm2 NHXMH | C18: PRYSMIAN-NEXANS-ÖZNUR | G18: Mt. | H18: 300 | EV18: =+EU18*H18 -> 0 | EY18: =H18/2 -> 150
A19: D-1.1.12 | B19: 5x2,5 mm2 NHXMH | C19: PRYSMIAN-NEXANS-ÖZNUR | G19: Mt. | H19: 300 | EV19: =+EU19*H19 -> 0 | EY19: =H19/2 -> 150
A20: D-1.1.13 | B20: 5x4 mm2 NHXMH | C20: PRYSMIAN-NEXANS-ÖZNUR | G20: Mt. | H20: 300 | EV20: =+EU20*H20 -> 0 | EY20: =H20/2 -> 150
A21: D-1.2 | B21: N2XH Kablolar | H21: 0 | EY21: =H21/2 -> 0
A22: D-1.2.6 | B22: 3x4 mm2 N2XH | C22: PRYSMIAN-NEXANS-ÖZNUR | G22: Mt. | H22: 7500 | EV22: =+EU22*H22 -> 0 | EY22: =H22/2 -> 3750
A23: D-1.2.7 | B23: 3x6 mm2 N2XH | C23: PRYSMIAN-NEXANS-ÖZNUR | G23: Mt. | H23: 3750 | EV23: =+EU23*H23 -> 0 | EY23: =H23/2 -> 1875
A24: D-1.2.15 | B24: 3x25+16 mm2 N2XH | C24: PRYSMIAN-NEXANS-ÖZNUR | G24: Mt. | H24: 375 | EV24: =+EU24*H24 -> 0 | EY24: =H24/2 -> 187.5
A25: D-1.2.16 | B25: 3x35+16 mm2 N2XH | C25: PRYSMIAN-NEXANS-ÖZNUR | G25: Mt. | H25: 375 | EV25: =+EU25*H25 -> 0 | EY25: =H25/2 -> 187.5
A26: D-1.2.36 | B26: 5x4 mm2 N2XH | C26: PRYSMIAN-NEXANS-ÖZNUR | G26: Mt. | H26: 3000 | EV26: =+EU26*H26 -> 0 | EY26: =H26/2 -> 1500
A27: D-1.2.38 | B27: 5x10 mm2 N2XH | C27: PRYSMIAN-NEXANS-ÖZNUR | G27: Mt. | H27: 750 | EV27: =+EU27*H27 -> 0 | EY27: =H27/2 -> 375
A28: D-1.2.39 | B28: 5x16 mm2 N2XH | C28: PRYSMIAN-NEXANS-ÖZNUR | G28: Mt. | H28: 450 | EV28: =+EU28*H28 -> 0 | EY28: =H28/2 -> 225
A29: D-2 | B29: Zayıf Akım Akım Kabloları | H29: 0 | EY29: =H29/2 -> 0
A30: D-2.1 | B30: Yangın Sistemi Kabloları | H30: 0 | EY30: =H30/2 -> 0
A31: D-2.1.3 | B31: 1x2x0,8+0,8 JH(st)H Fe-180 | C31: ERSE-2M-REÇBER | G31: Mt. | H31: 0 | EV31: =+EU31*H31 -> 0 | EY31: =H31/2 -> 0
A32: D-2.1.4 | B32: 2x2x0,8+0,8 JH(st)H Fe-180 | C32: ERSE-2M-REÇBER | G32: Mt. | H32: 7500 | EV32: =+EU32*H32 -> 0 | EY32: =H32/2 -> 3750
A33: D-2.2 | B33: Seslendirme-Otomasyon Sistemi Kabloları | H33: 0 | EY33: =H33/2 -> 0
A34: D-2.2.5 | B34: 2x1,5 LIHCH | C34: ERSE-2M-REÇBER | G34: Mt. | H34: 7500 | EV34: =+EU34*H34 -> 0 | EY34: =H34/2 -> 3750
A35: D-2.2.8 | B35: 2x1.5 LIHCH Fe-180 | C35: ERSE-2M-REÇBER | G35: Mt. | H35: 0 | EV35: =+EU35*H35 -> 0 | EY35: =H35/2 -> 0
A36: D-2.2.10 | B36: 4x1.5 LIHCH Fe-180 | C36: ERSE-2M-REÇBER | G36: Mt. | H36: 4500 | EV36: =+EU36*H36 -> 0 | EY36: =H36/2 -> 2250
A37: D-2.3 | B37: TV Sistemi Kabloları | H37: 0 | EY37: =H37/2 -> 0
A38: D-2.3.2 | B38: RG6 U6 HF Koaksiyel Kablo | C38: ERSE-2M-REÇBER | G38: Mt. | H38: 2250 | EV38: =+EU38*H38 -> 0 | EY38: =H38/2 -> 1125
A39: D-2.3.3 | B39: RG11 U6 HF Koaksiyel Kablo | C39: ERSE-2M-REÇBER | G39: Mt. | H39: 0 | EV39: =+EU39*H39 -> 0 | EY39: =H39/2 -> 0
A40: D-2.6 | B40: Kartlı Geçiş Sistemi Kabloları | H40: 0 | EY40: =H40/2 -> 0
...

Sheet GRUP-2 KEŞİF ÖZETİ 
A1: İSÜ TOPKAPI YERLEŞKESİ LABORATUVAR-DERSLİK-OFİS VE SOSYAL ALANLAR YAPIMI İŞİ 2. ETAP İHALE DOSYASI
A2: SIRA NO | B2: GRUP-2 KEŞİF ÖZETİ | C2: TUTAR
A3: 1 | B3: İNŞAAT İŞLERİ | C3: ='2.1-İNŞAAT '!F44 -> 0
A4: 2 | B4: SABİT VE HAREKETLİ MOBİLYA İŞLERİ | C4: ='2.2-MOBİLYA'!H36 -> 0
B5: TOPLAM TUTAR | C5: =SUM(C3:C4) -> 0
A7: NOT : TUTARLAR KDV HARİÇTİR.
A8: NOT : YUKARIDAKİ İŞLER ŞARTNAMESİNE UYGUN YAPILACAK OLUP İŞİN SONUNDA KESİN HESAP YAPILACAKTIR.

Sheet 2.1-İNŞAAT 
B1: İNŞAAT İŞLERİ
A2: SIRA NO | B2: İŞİN TANIMI | C2: BİRİM | D2: MİKTAR | E2: BİRİM FİYAT | F2: TUTAR
A3: 1 | B3: 2FX+40*60*1,5 mm+Knauf İnsulation+2FX Çelik Konstrüksiyonlu Bölme Duvar İmalatı | C3: m2 | D3: 625.5 | F3: =+D3*E3 -> 0
A4: 2 | B4: 2FR+40*60*1,5 mm+Knauf İnsulation+2FR Çelik Konstrüksiyonlu Bölme Duvar İmalatı | C4: m2 | D4: 47.25 | F4: =+D4*E4 -> 0
A5: 3 | B5: 2WR+40*60*1,5 mm+Knauf İnsulation+2WR Çelik Konstrüksiyonlu Bölme Duvar İmalatı | C5: m2 | D5: 67.5 | F5: =+D5*E5 -> 0
A6: 4 | B6: 2FR+40*40*1,5 mm+Knauf İnsulationÇelik Konstrüksiyonlu Giydirme Duvar İmalatı | C6: m2 | D6: 24.75 | F6: =+D6*E6 -> 0
A7: 5 | B7: 2FX+40*40*1,5 mm+Knauf İnsulationÇelik Konstrüksiyonlu Giydirme Duvar İmalatı | C7: m2 | D7: 349.875 | F7: =+D7*E7 -> 0
A8: 6 | B8: 2WR+40*40*1,5 mm+Knauf İnsulationÇelik Konstrüksiyonlu Giydirme Duvar İmalatı | C8: m2 | D8: 39.375 | F8: =+D8*E8 -> 0
A9: 7 | B9: 2FX+40*60*1,5 mm+Knauf İnsulationÇelik Konstrüksiyonlu Duvar alın İmalatı | C9: mt | D9: 573.75 | F9: =+D9*E9 -> 0
A10: 8 | B10: FX+40*20*1,5 mm profil ile alçıpan asma tavan yapılması | C10: m2 | D10: 283.5 | F10: =+D10*E10 -> 0
A11: 9 | B11: WR+40*20*1,5 mm profil ile alçıpan asma tavan yapılması | C11: m2 | D11: 140.625 | F11: =+D11*E11 -> 0
A12: 10 | B12: FR+40*20*1,5 mm profil ile alçıpan asma tavan yapılması | C12: m2 | D12: 57.375 | F12: =+D12*E12 -> 0
A13: 11 | B13: Gizli Işık İmalatı | C13: mt | D13: 90 | F13: =+D13*E13 -> 0
A14: 12 | B14: Perdelik İmalatı | C14: mt | D14: 373.5 | F14: =+D14*E14 -> 0
... A43: 41 | B43: GİRİŞ KARTLI ÇIKIŞ FOTOSELLİ CAM KAYAR KAPI 5+5 TEMPERLİ CAM 130X220 CM | C43: ADET | D43: 7 | F43: =+D43*E43 -> 0
B44: TOPLAM TUTAR | F44: =SUM(F3:F43) -> 0
A45: NOT : TUTARLAR KDV HARİÇTİR.
A46: NOT : YUKARIDAKİ İŞLER ŞARTNAMESİNE UYGUN YAPILACAK OLUP İŞİN SONUNDA KESİN HESAP YAPILACAKTIR.

Sheet 2.2-MOBİLYA
B2: SABİT VE HAREKETLİ MOBİLYA
B3: SIRA NO | C3: 26.05.2025 MOBİLYA | D3: ÖLÇÜLER | E3: BİRİM | F3: MİKTAR | G3: BİRİM FİYAT | H3: TUTAR
B4: 1 | C4: ÇALIŞMA MASASI | D4: 120*80*75 | E4: ADET | F4: 110 | H4: =G4*F4 -> 0
B5: 2 | C5: ÇALIŞMA SANDALYESİ | D5: 60*55*75 | E5: ADET | F5: 110 | H5: =G5*F5 -> 0
B6: 3 | C6: OFİS ÇALIŞMA MASASI | D6: 140*70*75 | E6: ADET | F6: 20 | H6: =G6*F6 -> 0
B7: 4 | C7: OFİS ÇALIŞMA SANDALYESİ | D7: 60*55*75 | E7: ADET | F7: 20 | H7: =G7*F7 -> 0
B8: 5 | C8: OFİS ÇEKMECELİ KESON | D8: 45*45*50 | E8: ADET | F8: 20 | H8: =G8*F8 -> 0
B9: 6 | C9: TOPLANTI MASASI | D9: 370*120*75 | E9: ADET | F9: 1 | H9: =G9*F9 -> 0
B10: 7 | C10: OFİS DOSYA DOLABI | D10: 90*50*210 | E10: ADET | F10: 20 | H10: =G10*F10 -> 0
B11: 8 | C11: OFİS MİSAFİR KOLTUĞU | D11: 60*55*75 | E11: ADET | F11: 40 | H11: =G11*F11 -> 0
B12: 9 | C12: OFİS SEHPA | D12: 35*35*40 | E12: ADET | F12: 20 | H12: =G12*F12 -> 0
B13: 10 | C13: KAPI | D13: 100*210*4 | E13: ADET | F13: 38 | H13: =G13*F13 -> 0
B14: 11 | C14: TEKLİ GİYSİ DOLABI | D14: 70*60*210 | E14: ADET | F14: 15 | H14: =G14*F14 -> 0
B15: 14 | C15: SOYUNMA DOLAPLARI | D15: 80*40*210 | E15: ADET | F15: 10 | H15: =G15*F15 -> 0
... B21: 28 | C21: DANIŞMA BANKOSU | D21: 300*75*75 | E21: ADET | F21: 2 | H21: =G21*F21 -> 0
B22: 29 | C22: KOMODİN | E22: ADET | F22: 20 | H22: =F22*G22 -> 0
B23: 30 | C23: DEPO DOLABI | E23: ADET | F23: 8 | H23: =F23*G23 -> 0
B24: 31 | C24: ÖZEL YAPI DOLAP AÇIK / KİTAPLIK | E24: ADET | F24: 20 | H24: =G24*F24 -> 0
B25: 32 | C25: ÖZEL YAPI DOLAP KAPALI / KİTAPLIK | E25: ADET | F25: 20 | H25: =G25*F25 -> 0
B26: 33 | C26: METAL AYAKLI İSLİ MEŞE MASA 400*110 / KÜTÜPHANE MASALARI | E26: ADET | F26: 20 | H26: =G26*F26 -> 0
B27: 34 | C27: OTURMA ALANI (SEPERATÖRLER) | E27: ADET | F27: 16 | H27: =G27*F27 -> 0
B28: 35 | C28: KÖŞE KOLTUK | E28: ADET | F28: 36 | H28: =G28*F28 -> 0
B29: 36 | C29: ARA KOLTUK | E29: ADET | F29: 44 | H29: =G29*F29 -> 0
B30: 37 | C30: PUF | E30: ADET | F30: 178 | H30: =G30*F30 -> 0
B31: 38 | C31: DIŞ MEKAN OTURMA GRUPLARI | E31: ADET | F31: 64 | H31: =G31*F31 -> 0
B32: 39 | C32: SOSYAL ALANLAR İÇİN SANDALYELER | E32: ADET | F32: 300 | H32: =G32*F32 -> 0
B33: 40 | C33: ÇİÇEKLİK | E33: ADET | F33: 150 | H33: =G33*F33 -> 0
B34: 41 | C34: STEP TEKERLEKLİ SEMİNER SANDALYESİ | E34: ADET | F34: 280 | H34: =G34*F34 -> 0
C36: MOBİLYA TOPLAMI | H36: =SUM(H4:H35) -> 0
