Workbook
Name \0: #N/A
Name \a: #N/A
Name \b: #REF!
Name \d: #REF!
Name \e: #REF!
Name \m: #REF!
Name \n: #N/A
Name \p: #N/A
Name \Q: #REF!
Name \s: #REF!
Name \s1: #REF!
Name \z: #REF!
Name _______________________________________________Tdb1: #REF!
Name _______________________________________________Tdb1_1: "#REF!"
Name _______________________________________________Tdb1_2: "#REF!"
Name _______________________________________________Tdb2: #REF!
Name _______________________________________________Tdb2_1: "#REF!"
Name _______________________________________________Tdb2_2: "#REF!"
Name _______________________________________________Twb1: #REF!
Name _______________________________________________Twb1_1: "#REF!"
Name _______________________________________________Twb1_2: "#REF!"
Name _______________________________________________Twb2: #REF!
Name _______________________________________________Twb2_1: "#REF!"
Name _______________________________________________Twb2_2: "#REF!"
Name ___________________KA1: #REF!
Name ___________________KA2: #REF!
Name ___________________KA3: #REF!
Name ___________________KA4: #REF!
Name ___________________KA5: #REF!
Name ___________________KA6: #REF!
Name ___________________KK10: #REF!
Name ___________________KK11: #REF!
Name ___________________KK12: #REF!
Name ___________________KK13: #REF!
Name ___________________KK14: #REF!
Name ___________________KK15: #REF!
Name ___________________KK16: #REF!
Name ___________________KK17: #REF!
Name ___________________KK2: #REF!
Name ___________________KK3: #REF!
Name ___________________KK4: #REF!
Name ___________________KK5: #REF!
Name ___________________KK6: #REF!
Name ___________________KK7: #REF!
Name ___________________KK8: #REF!
Name ___________________KK9: #REF!
Name ___________KA1: #REF!
Name ___________KA2: #REF!
Name ___________KA3: #REF!
Name ___________KA4: #REF!
Name ___________KA5: #REF!
Name ___________KA6: #REF!
Name ___________KK10: #REF!
Name ___________KK11: #REF!
Name ___________KK12: #REF!
Name ___________KK13: #REF!
Name ___________KK14: #REF!
Name ___________KK15: #REF!
Name ___________KK16: #REF!
Name ___________KK17: #REF!

Sheet İCMAL
A1: İSÜ TOPKAPI YERLEŞKESİ LABORATUVAR-DERSLİK-OFİS VE SOSYAL ALANLAR YAPIMI İŞİ 2. ETAP İHALE DOSYASI
A2: SIRA NO | B2: İMALATIN ADI | C2: TUTAR
A3: 1 | B3: GRUP-1 YAPIM İŞLERİ (İNŞAAT-MOBİLYA-MEKANİK-ELEKTRİK) | C3: ='GRUP-1 KEŞİF ÖZETİ'!C7 -> 0
A4: 2 | B4: GRUP-2 YAPIM İŞLERİ (İNŞAAT - MOBİLYA) | C4: ='GRUP-2 KEŞİF ÖZETİ '!C5 -> 0
B5: TOPLAM TUTAR | C5: =SUM(C3:C4) -> 0
A7: NOT : TUTARLAR KDV HARİÇTİR.
A8: NOT : YUKARIDAKİ İŞLER ŞARTNAMESİNE UYGUN YAPILACAK OLUP İŞİN SONUNDA KESİN HESAP YAPILACAKTIR.

Sheet GRUP-1 KEŞİF ÖZETİ
A1: İSÜ TOPKAPI YERLEŞKESİ LABORATUVAR-DERSLİK-OFİS VE SOSYAL ALANLAR YAPIMI İŞİ 2. ETAP İHALE DOSYASI
A2: SIRA NO | B2: GRUP-1 KEŞİF ÖZETİ | C2: TUTAR
A3: 1 | B3: İNŞAAT İŞLERİ | C3: =+'1.1-İNŞAAT'!F44 -> 0
A4: 2 | B4: SABİT MOBİLYA İŞLERİ | C4: =+'1.2-MOBİLYA'!H22 -> 0
A5: 3 | B5: MEKANİK TESİSAT İŞLERİ | C5: =+'1.3-MEKANİK İCMAL '!E7 -> 0
A6: 4 | B6: ELEKTRİK TESİSATI İŞLERİ | C6: =+'1.4-ELEKTRİK'!EV174 -> 0
B7: TOPLAM TUTAR | C7: =SUM(C3:C6) -> 0
A9: NOT : TUTARLAR KDV HARİÇTİR.
A10: NOT : YUKARIDAKİ İŞLER ŞARTNAMESİNE UYGUN YAPILACAK OLUP İŞİN SONUNDA KESİN HESAP YAPILACAKTIR.

Sheet 1.1-İNŞAAT
B1: İNŞAAT İŞLERİ
A2: SIRA NO | B2: İŞİN TANIMI | C2: BİRİM | D2: MİKTAR | E2: BİRİM FİYAT | F2: TUTAR
A3: 1 | B3: 2FX+40*60*1,5 mm+Knauf İnsulation+2FX Çelik Konstrüksiyonlu Bölme Duvar İmalatı | C3: m2 | D3: 834 | F3: =+D3*E3 -> 0 | H3: =D3/2 -> 417
A4: 2 | B4: 2FR+40*60*1,5 mm+Knauf İnsulation+2FR Çelik Konstrüksiyonlu Bölme Duvar İmalatı | C4: m2 | D4: 63 | F4: =+D4*E4 -> 0 | H4: =D4/2 -> 31.5
A5: 3 | B5: 2WR+40*60*1,5 mm+Knauf İnsulation+2WR Çelik Konstrüksiyonlu Bölme Duvar İmalatı | C5: m2 | D5: 90 | F5: =+D5*E5 -> 0 | H5: =D5/2 -> 45
A6: 4 | B6: 2FR+40*40*1,5 mm+Knauf İnsulationÇelik Konstrüksiyonlu Giydirme Duvar İmalatı | C6: m2 | D6: 33 | F6: =+D6*E6 -> 0 | H6: =D6/2 -> 16.5
A7: 5 | B7: 2FX+40*40*1,5 mm+Knauf İnsulationÇelik Konstrüksiyonlu Giydirme Duvar İmalatı | C7: m2 | D7: 466.5 | F7: =+D7*E7 -> 0 | H7: =D7/2 -> 233.25
A8: 6 | B8: 2WR+40*40*1,5 mm+Knauf İnsulationÇelik Konstrüksiyonlu Giydirme Duvar İmalatı | C8: m2 | D8: 52.5 | F8: =+D8*E8 -> 0 | H8: =D8/2 -> 26.25
A9: 7 | B9: 2FX+40*60*1,5 mm+Knauf İnsulationÇelik Konstrüksiyonlu Duvar alın İmalatı | C9: mt | D9: 765 | F9: =+D9*E9 -> 0 | H9: =D9/2 -> 382.5
A10: 8 | B10: FX+40*20*1,5 mm profil ile alçıpan asma tavan yapılması | C10: m2 | D10: 378 | F10: =+D10*E10 -> 0 | H10: =D10/2 -> 189
A11: 9 | B11: WR+40*20*1,5 mm profil ile alçıpan asma tavan yapılması | C11: m2 | D11: 187.5 | F11: =+D11*E11 -> 0 | H11: =D11/2 -> 93.75
A12: 10 | B12: FR+40*20*1,5 mm profil ile alçıpan asma tavan yapılması | C12: m2 | D12: 76.5 | F12: =+D12*E12 -> 0 | H12: =D12/2 -> 38.25
A13: 11 | B13: Gizli Işık İmalatı | C13: mt | D13: 120 | F13: =+D13*E13 -> 0 | H13: =D13/2 -> 60
A14: 12 | B14: Perdelik İmalatı | C14: mt | D14: 498 | F14: =+D14*E14 -> 0 | H14: =D14/2 -> 249
... A43: 41 | B43: GİRİŞ KARTLI ÇIKIŞ FOTOSELLİ CAM KAYAR KAPI 5+5 TEMPERLİ CAM 130X220 CM | C43: ADET | D43: 9 | F43: =+D43*E43 -> 0 | H43: =D43/2 -> 4.5
B44: TOPLAM TUTAR | F44: =SUM(F3:F43) -> 0
A45: NOT : TUTARLAR KDV HARİÇTİR.
A46: NOT : YUKARIDAKİ İŞLER ŞARTNAMESİNE UYGUN YAPILACAK OLUP İŞİN SONUNDA KESİN HESAP YAPILACAKTIR.

Sheet 1.2-MOBİLYA
B2: SABİT VE HAREKETLİ MOBİLYA
B3: SIRA NO | C3: 26.05.2025 MOBİLYA | D3: ÖLÇÜLER | E3: BİRİM | F3: MİKTAR | G3: BİRİM FİYAT | H3: TUTAR
B4: 1 | C4: ÇALIŞMA MASASI | D4: 120*80*75 | E4: ADET | F4: 110 | H4: =G4*F4 -> 0
B5: 2 | C5: ÇALIŞMA SANDALYESİ | D5: 60*55*75 | E5: ADET | F5: 110 | H5: =G5*F5 -> 0
B6: 3 | C6: OFİS ÇALIŞMA MASASI | D6: 140*70*75 | E6: ADET | F6: 20 | H6: =G6*F6 -> 0
B7: 4 | C7: OFİS ÇALIŞMA SANDALYESİ | D7: 60*55*75 | E7: ADET | F7: 20 | H7: =G7*F7 -> 0
B8: 5 | C8: OFİS ÇEKMECELİ KESON | D8: 45*45*50 | E8: ADET | F8: 20 | H8: =G8*F8 -> 0
B9: 6 | C9: TOPLANTI MASASI | D9: 370*120*75 | E9: ADET | F9: 1 | H9: =G9*F9 -> 0
B10: 7 | C10: OFİS DOSYA DOLABI | D10: 90*50*210 | E10: ADET | F10: 20 | H10: =G10*F10 -> 0
B11: 8 | C11: OFİS MİSAFİR KOLTUĞU | D11: 60*55*75 | E11: ADET | F11: 40 | H11: =G11*F11 -> 0
B12: 9 | C12: OFİS SEHPA | D12: 35*35*40 | E12: ADET | F12: 20 | H12: =G12*F12 -> 0
B13: 10 | C13: KAPI | D13: 100*210*4 | E13: ADET | F13: 38 | H13: =G13*F13 -> 0
B14: 11 | C14: TEKLİ GİYSİ DOLABI | D14: 70*60*210 | E14: ADET | F14: 15 | H14: =G14*F14 -> 0
B15: 14 | C15: SOYUNMA DOLAPLARI | D15: 80*40*210 | E15: ADET | F15: 10 | H15: =G15*F15 -> 0
... B21: 28 | C21: DANIŞMA BANKOSU | D21: 300*75*75 | E21: ADET | F21: 2 | H21: =G21*F21 -> 0
C22: MOBİLYA TOPLAMI | H22: =SUM(H4:H21) -> 0

Sheet 1.3-MEKANİK İCMAL 
A1: MEKANİK TESİSATI İCMALİ | E1: 45879
A2: SIRA NO | B2: YAPILACAK İŞİN TANIMI | C2: MİKTAR | D2: BİRİM | E2: TOPLAM TUTAR (TL) | G2: MALZEME TUTARI EURO | H2: MALZEME TUTARI USD | I2: MALZEME TUTARI TL | J2: İŞÇİLİK TUTARI TL | K2: MALİYET TUTARI TL | L2: GENEL GİDER TUTARI TL | M2: KAR TUTARI TL | N2: TUTAR TL | O2: Adam Saat
A3: 1 | B3: =+'1.3.1-MEKANİK KEŞİF '!C4 -> SIHHİ TESİSAT | C3: 1 | D3: SET | E3: ='1.3.1-MEKANİK KEŞİF '!H4 -> 0 | G3: =+'1.3.1-MEKANİK KEŞİF '!#REF! -> #REF! | H3: =+'1.3.1-MEKANİK KEŞİF '!#REF! -> #REF! | I3: =+'1.3.1-MEKANİK KEŞİF '!#REF! -> #REF! | J3: =+'1.3.1-MEKANİK KEŞİF '!#REF! -> #REF! | K3: =SUM(I3:J3) -> #REF! | L3: =+'1.3.1-MEKANİK KEŞİF '!#REF! -> #REF! | M3: =+'1.3.1-MEKANİK KEŞİF '!#REF! -> #REF! | N3: =M3+L3+J3+I3 -> #REF! | O3: =+'1.3.1-MEKANİK KEŞİF '!#REF! -> #REF!
A4: 2 | B4: =+'1.3.1-MEKANİK KEŞİF '!C56 -> YANGIN TESİSATI | C4: 1 | D4: SET | E4: ='1.3.1-MEKANİK KEŞİF '!H56 -> 0 | G4: =+'1.3.1-MEKANİK KEŞİF '!#REF! -> #REF! | H4: =+'1.3.1-MEKANİK KEŞİF '!#REF! -> #REF! | I4: =+'1.3.1-MEKANİK KEŞİF '!#REF! -> #REF! | J4: =+'1.3.1-MEKANİK KEŞİF '!#REF! -> #REF! | K4: =SUM(I4:J4) -> #REF! | L4: =+'1.3.1-MEKANİK KEŞİF '!#REF! -> #REF! | M4: =+'1.3.1-MEKANİK KEŞİF '!#REF! -> #REF! | N4: =M4+L4+J4+I4 -> #REF! | O4: =+'1.3.1-MEKANİK KEŞİF '!#REF! -> #REF!
A5: 3 | B5: =+'1.3.1-MEKANİK KEŞİF '!C95 -> HAVALANDIRMA VE KLİMA TESİSATI | C5: 1 | D5: SET | E5: ='1.3.1-MEKANİK KEŞİF '!H95 -> 0 | G5: =+'1.3.1-MEKANİK KEŞİF '!#REF! -> #REF! | H5: =+'1.3.1-MEKANİK KEŞİF '!#REF! -> #REF! | I5: =+'1.3.1-MEKANİK KEŞİF '!#REF! -> #REF! | J5: =+'1.3.1-MEKANİK KEŞİF '!#REF! -> #REF! | K5: =SUM(I5:J5) -> #REF! | L5: =+'1.3.1-MEKANİK KEŞİF '!#REF! -> #REF! | M5: =+'1.3.1-MEKANİK KEŞİF '!#REF! -> #REF! | N5: =M5+L5+J5+I5 -> #REF! | O5: =+'1.3.1-MEKANİK KEŞİF '!#REF! -> #REF!
A7: GENEL TOPLAM (KDV Hariç) : | E7: =SUM(E3:E6) -> 0 | G7: =SUM(G3:G6) -> #REF! | H7: =SUM(H3:H6) -> #REF! | I7: =SUM(I3:I5) -> #REF! | J7: =SUM(J3:J5) -> #REF! | K7: =SUM(K3:K5) -> #REF! | L7: =SUM(L3:L5) -> #REF! | M7: =SUM(M3:M5) -> #REF! | N7: =SUM(N3:N5) -> #REF! | O7: =SUM(O3:O5) -> #REF!

Sheet 1.3.1-MEKANİK KEŞİF 
A1: MEKANİK TESİSAT İŞLERİ KEŞFİ
A2: SIRA NO | B2: POZ NO | C2: YAPILACAK İŞİN CİNSİ | D2: MARKA | E2: MİKTAR | F2: BR. | G2: BİRİM FİYAT TL | H2: TUTAR TL
B3: *** | C3: GENEL ÜST TOPLAM | H3: =+H4+H56+H95 -> 0
B4: A | C4: SIHHİ TESİSAT | H4: =SUM(H5:H55) -> 0
A5: 1 | C5: Gömme Rezervuarlı Alafranga Tuvalet Seti | D5: MONTAJ | E5: 51 | F5: Adet | H5: =E5*G5 -> 0 | J5: =E5/2 -> 25.5
A6: =1+A5 -> 2 | C6: Anti Bakteriyel 40x50 cm tezgah altı veya üstü oval lavabo | D6: MONTAJ | E6: 45 | F6: Adet | H6: =E6*G6 -> 0 | J6: =E6/2 -> 22.5
A7: =1+A6 -> 3 | C7: 50x60 cm bedensel engelli lavabo (lavabonun derinliği en az 43 cm, en fazla 49 cm olmalıdır) | D7: MONTAJ | E7: 4 | F7: Adet | H7: =E7*G7 -> 0 | J7: =E7/2 -> 2
A8: =1+A7 -> 4 | C8: Birinci sınıf bir gözlü eviye | D8: MONTAJ | E8: 10 | F8: Adet | H8: =E8*G8 -> 0 | J8: =E8/2 -> 5
A9: =1+A8 -> 5 | C9: 1/2" Kromajlı çamaşır musluğu, seramik salmastralı, musluk rozeti dahil. | D9: MONTAJ | E9: 17 | F9: Adet | H9: =E9*G9 -> 0 | J9: =E9/2 -> 8.5
A10: =1+A9 -> 6 | C10: Abdest Alma Bataryası (Duvardan Çıkışlı Ankastre) | D10: MONTAJ | E10: 7 | F10: Adet | H10: =E10*G10 -> 0 | J10: =E10/2 -> 3.5
A11: =1+A10 -> 7 | C11: Ankastre Banyo Bataryası | D11: MONTAJ | E11: 22 | F11: Adet | H11: =E11*G11 -> 0 | J11: =E11/2 -> 11
A12: =1+A11 -> 8 | C12: Tek kumandalı, tek gövde, lavabo bataryası | D12: MONTAJ | E12: 0 | F12: Adet | H12: =E12*G12 -> 0 | J12: =E12/2 -> 0
A13: =1+A12 -> 9 | C13: Fotoselli lavabo bataryası ve tesisatı, çift su girişli | D13: MONTAJ | E13: 44 | F13: Adet | H13: =E13*G13 -> 0 | J13: =E13/2 -> 22
A14: =1+A13 -> 10 | C14: Eviye Bataryası | D14: MONTAJ | E14: 10 | F14: Adet | H14: =E14*G14 -> 0 | J14: =E14/2 -> 5
A15: =1+A14 -> 11 | C15: Filtreli ara musluk(paslanmaz çelik filtre, rozet dahil) | D15: MONTAJ | E15: 131 | F15: Adet | H15: =E15*G15 -> 0 | J15: =E15/2 -> 65.5
A16: =1+A15 -> 12 | C16: Ankastre Stop Valf | D16: MONTAJ | E16: 56 | F16: Adet | H16: =E16*G16 -> 0 | J16: =E16/2 -> 28
A17: =1+A16 -> 13 | C17: Engelli kullanımına uygun takriben 50x70 cm. ayna | D17: MONTAJ | E17: 4 | F17: Adet | H17: =E17*G17 -> 0 | J17: =E17/2 -> 2
... A52: =1+A51 -> 48 | C52: Ø50 mm. - Kauçuk Köpüğü Boru İzolasyonu | D52: PAFLEX/ODE | E52: 270 | F52: mt. | H52: =E52*G52 -> 0 | J52: =E52/2 -> 135
A53: =1+A52 -> 49 | G53: 0 | H53: =E53*G53 -> 0 | J53: =E53/2 -> 0
A54: =1+A53 -> 50 | G54: 0 | H54: =E54*G54 -> 0 | J54: =E54/2 -> 0
G55: 0 | H55: =E55*G55 -> 0 | J55: =E55/2 -> 0
B56: B | C56: YANGIN TESİSATI | G56: 0 | H56: =SUM(H57:H94) -> 0 | J56: =E56/2 -> 0
A57: 1 | C57: Dn25 30m TS EN 671-1 normlarında tüplü model yangın dolabı - Sıva Altı Plazma Kapak *** 2" - Stroz Kaplinli Vana *** Tüp Haznesi Altta *** Hortum Uzunluğu 1"-30 mt *** 2 Gözlü. (1 Göz Hortum ve Bağlantı Elemanı. 2. Göz Yangın Tüpü) *** Gövde Sac Kalınlığı 1,50 mm. ***Gövde Renk : Kırmızı | D57: FETAŞ/MUADILI | E57: 12 | H57: =E57*G57 -> 0 | J57: =E57/2 -> 6
A58: =1+A57 -> 2 | C58: Dn15 standart uygulamalar için otomatik yangın sprinkleri (dik) - Hızlı Tepkili | D58: AYVAZ/MUADILI | E58: 960 | F58: Adet | H58: =E58*G58 -> 0 | J58: =E58/2 -> 480
A59: =1+A58 -> 3 | C59: Dn15 standart uygulamalar için otomatik yangın sprinkleri (sarkık) - Hızlı Tepkili | E59: 960 | F59: Adet | H59: =E59*G59 -> 0 | J59: =E59/2 -> 480
A60: =1+A59 -> 4 | C60: Sprinkler Bağlantı Hortumu ve Seti Bağlanttı Çapları: 1"x1/2" Hortum Boyu: 1.200 mm. Konsol Boyu: 700 mm. | D60: AYVAZ/MUADILI | E60: 960 | F60: Adet | H60: =E60*G60 -> 0 | J60: =E60/2 -> 480
A61: =1+A60 -> 5 | C61: Test ve drenaj vanası, dişli, pirinç DN 25 | D61: AYVAZ/MUADILI | E61: 12 | F61: Adet | H61: =E61*G61 -> 0 | J61: =E61/2 -> 6
A62: =1+A61 -> 6 | C62: Su akış anahtarı | D62: AYVAZ/MUADILI | E62: 12 | F62: Adet | H62: =E62*G62 -> 0 | J62: =E62/2 -> 6
A63: =1+A62 -> 7 | C63: Dn 65 izlenebilir flanş arası sıkıştırmalı kelebek vana | D63: AYVAZ/MUADILI | E63: 1.5 | F63: Adet | H63: =E63*G63 -> 0 | J63: =E63/2 -> 0.75
A64: =1+A63 -> 8 | C64: Dn 80 izlenebilir flanş arası sıkıştırmalı kelebek vana | D64: AYVAZ/MUADILI | E64: 1.5 | F64: Adet | H64: =E64*G64 -> 0 | J64: =E64/2 -> 0.75
A65: =1+A64 -> 9 | C65: Dn 100 izlenebilir flanş arası sıkıştırmalı kelebek vana | D65: AYVAZ/MUADILI | E65: 12 | F65: Adet | H65: =E65*G65 -> 0 | J65: =E65/2 -> 6
A66: =1+A65 -> 10 | C66: Dn 150 izlenebilir flanş arası sıkıştırmalı kelebek vana | D66: AYVAZ/MUADILI | E66: 1.5 | F66: Adet | H66: =E66*G66 -> 0 | J66: =E66/2 -> 0.75
A67: =1+A66 -> 11 | C67: Dn 65 yangın çek vana | D67: AYVAZ/MUADILI | E67: 1.5 | F67: Adet | H67: =E67*G67 -> 0 | J67: =E67/2 -> 0.75
A68: =1+A67 -> 12 | C68: Dn 80 yangın çek vana | D68: AYVAZ/MUADILI | E68: 1.5 | F68: Adet | H68: =E68*G68 -> 0 | J68: =E68/2 -> 0.75
A69: =1+A68 -> 13 | C69: Dn 100 yangın çek vana | D69: AYVAZ/MUADILI | E69: 12 | F69: Adet | H69: =E69*G69 -> 0 | J69: =E69/2 -> 6
A70: =1+A69 -> 14 | C70: Dn 150 yangın çek vana | D70: AYVAZ/MUADILI | E70: 1.5 | F70: Adet | H70: =E70*G70 -> 0 | J70: =E70/2 -> 0.75
A71: =1+A70 -> 15 | C71: DN 65 İtfaiye Kat Bağlantı Vanası | D71: AYVAZ/MUADILI | E71: 12 | F71: Adet | H71: =E71*G71 -> 0 | J71: =E71/2 -> 6
... A90: =1+A89 -> 34 | C90: Yağlı boya ile boru boyanması ø 100 mm - 150 mm, (4" - 12") arası (12") dahil | D90: DYO/MUADILI | E90: 540 | F90: mt. | H90: =E90*G90 -> 0 | J90: =E90/2 -> 270
A91: =1+A90 -> 35 | C91: 0 - 16 bar Manometre (Gliserinli) | D91: PAKKENS/MUAIDLI | E91: 12 | H91: =E91*G91 -> 0 | J91: =E91/2 -> 6
A92: =1+A91 -> 36 | G92: 0 | H92: =E92*G92 -> 0 | J92: =E92/2 -> 0
A93: =1+A92 -> 37 | G93: 0 | H93: =E93*G93 -> 0 | J93: =E93/2 -> 0
G94: 0 | H94: =E94*G94 -> 0 | J94: =E94/2 -> 0
B95: C | C95: HAVALANDIRMA VE KLİMA TESİSATI | G95: 0 | H95: =SUM(H96:H138) -> 0 | J95: =E95/2 -> 0
A96: 1 | C96: En geniş kenarı 600 mm.ye kadar olanlarda 0,60 mm. galvanizli saçtan dikdörtgen hava kanalı yapılması | D96: İMALAT | E96: 3477 | F96: M2 | H96: =E96*G96 -> 0 | J96: =E96/2 -> 1738.5
A97: =1+A96 -> 2 | C97: En geniş kenarı 1.249 mm.ye kadar olanlarda 0,80 mm. galvanizli saçtan dikdörtgen hava kanalı yapılması | D97: İMALAT | E97: 525 | F97: M2 | H97: =E97*G97 -> 0 | J97: =E97/2 -> 262.5
A98: =1+A97 -> 3 | C98: İç mekanlarda kanal yalıtımı (levha genişliği:1000 et kalınlığı:13) | D98: ODE/MUADILI | E98: 1500.75 | F98: M2 | H98: =E98*G98 -> 0 | J98: =E98/2 -> 750.375
A99: =1+A98 -> 4 | C99: İç mekanlarda kanal yalıtımı (levha genişliği:1000 et kalınlığı:19) | D99: ODE/MUADILI | E99: 2001 | F99: M2 | H99: =E99*G99 -> 0 | J99: =E99/2 -> 1000.5
A100: =1+A99 -> 5 | C100: Alüminyumdan yarı esnek hava kanalları (Montaj Malzeme Bedeli Dahil) | D100: AFS/MUADILI | E100: 1279.236 | F100: M2 | H100: =E100*G100 -> 0 | J100: =E100/2 -> 639.618
A101: =1+A100 -> 6 | C101: Cam yünü ile ısı yalıtımlı yarı esnek izoleli alüminyum hava kanalları (Montaj Malzeme Bedeli Dahil) | D101: AFS/MUADILI | E101: 1246.266 | F101: M2 | H101: =E101*G101 -> 0 | J101: =E101/2 -> 623.133
A102: =1+A101 -> 7 | C102: Üç slotlu lineer anemostad difuzör | D102: DOĞUŞ/FİTATEKNİK/MUADILI | E102: 1134 | F102: Adet | H102: =E102*G102 -> 0 | J102: =E102/2 -> 567
A103: =1+A102 -> 8 | C103: Ø 150 mm gemici tip anemostat | D103: DOĞUŞ/FİTATEKNİK/MUADILI | E103: 15 | F103: Adet | H103: =E103*G103 -> 0 | J103: =E103/2 -> 7.5
A104: =1+A103 -> 9 | C104: Motorlu Yangın Damperi - 500x300 | D104: DOĞUŞ/FİTATEKNİK/MUADILI | E104: 36 | F104: Adet | H104: =E104*G104 -> 0 | J104: =E104/2 -> 18
A105: =1+A104 -> 10 | C105: Volum Damperi - 500x300 | D105: DOĞUŞ/FİTATEKNİK/MUADILI | E105: 36 | F105: Adet | H105: =E105*G105 -> 0 | J105: =E105/2 -> 18
A106: =1+A105 -> 11 | C106: Panjur (alüminyumdan) | D106: DOĞUŞ/FİTATEKNİK/MUADILI | E106: 15 | F106: M2 | H106: =E106*G106 -> 0 | J106: =E106/2 -> 7.5
A107: =1+A106 -> 12 | C107: Çatı Tipi WC Egzoz Fanı Egzoz Hava Debisi : 15.000 m3/h Cihaz Dışı Statik Basınç : 350 Pa | D107: FANTÜRK/MUADILI | E107: 1.5 | F107: Adet | H107: =E107*G107 -> 0 | J107: =E107/2 -> 0.75
A108: =1+A107 -> 13 | C108: KS-1/2/3 İç Mimarlık Atölye Klima Santrali Taze Hava Debisi : 15.000 m3/h Cihaz Dışı Statik Basınç : 650 Pa Egzoz Hava Debisi : 15.000 m3/h Cihaz Dışı Statik Basınç : 650 Pa DX Bataryalı VRF Dış Ünite ve Otomasyon Panosu Dahil | D108: UNTES/MUADILI | E108: 3 | F108: Adet | H108: =E108*G108 -> 0 | J108: =E108/2 -> 1.5
... A121: =1+A120 -> 26 | C121: DAGITIM KUTUSU HEAT RECOVERY - 5 BS | D121: HISENSE/MUADILI | E121: 48 | F121: Adet | H121: =E121*G121 -> 0 | J121: =E121/2 -> 24
A122: =1+A120 -> 26 | C122: 25 kw.'a kadar bağlantı (joint) elamanları | D122: HISENSE/MUADILI | E122: 300 | F122: Adet | H122: =E122*G122 -> 0 | J122: =E122/2 -> 150
A123: =1+A122 -> 27 | C123: 25-50 kw.'a kadar bağlantı (joint) elamanları | D123: HISENSE/MUADILI | E123: 135 | F123: Adet | H123: =E123*G123 -> 0 | J123: =E123/2 -> 67.5
A124: =1+A123 -> 28 | C124: 50-100 kw.'a kadar bağlantı (joint) elamanları | D124: HISENSE/MUADILI | E124: 45 | F124: Adet | H124: =E124*G124 -> 0 | J124: =E124/2 -> 22.5
A125: =1+A124 -> 29 | C125: 100 kw üzeri bağlantı (joint) elamanları | D125: HISENSE/MUADILI | E125: 9 | F125: Adet | H125: =E125*G125 -> 0 | J125: =E125/2 -> 4.5
A126: =1+A125 -> 30 | C126: Merkezi Klima Sistemi ve DX Bataryalı Klima Santrali Dış Ünite Borulama, Sinyalizasyon ve Devreye Alma İşleri | D126: HISENSE/MUADILI | E126: 1 | F126: Set | H126: =E126*G126 -> 0 | J126: =E126/2 -> 0.5
A127: =1+A126 -> 31 | C127: Sert pvc plastik içme suyu borusu ø 25 mm 10 atmosfer (yapışt.muflu) | D127: PİMTAŞ/MUAIDLI | E127: 1440 | F127: mt. | H127: =E127*G127 -> 0 | J127: =E127/2 -> 720
A128: =1+A127 -> 32 | C128: Sert pvc plastik içme suyu borusu ø 32 mm 10 atmosfer (yapışt.muflu) | D128: PİMTAŞ/MUAIDLI | E128: 300 | F128: mt. | H128: =E128*G128 -> 0 | J128: =E128/2 -> 150
A129: =1+A128 -> 33 | C129: Sert pvc plastik içme suyu borusu ø 40 mm 10 atmosfer (yapışt.muflu) | D129: PİMTAŞ/MUAIDLI | E129: 225 | F129: mt. | H129: =E129*G129 -> 0 | J129: =E129/2 -> 112.5
A130: =1+A129 -> 34 | C130: Sert pvc plastik içme suyu borusu ø 50 mm 10 atmosfer (yapışt.muflu) | D130: PİMTAŞ/MUAIDLI | E130: 225 | F130: mt. | H130: =E130*G130 -> 0 | J130: =E130/2 -> 112.5
A131: =1+A130 -> 35 | C131: Yapıştırma ve geçme muflu boru montaj malzemesi bedeli (Bina içinde döşenmesi halinde) (Ölç. :%) | D131: PİMTAŞ/MUAIDLI | E131: 0.125 | F131: % | H131: =E131*G131 -> 0 | J131: =E131/2 -> 0.0625
A132: =1+A131 -> 36 | C132: 28Ø mm et: 9 mm alüm.komp.fılm kaplı kauçuk köpüğü esaslı prefabrik boru ile ısı yalıtımı | D132: PAFLEX/ODE | E132: 4320 | F132: mt. | H132: =E132*G132 -> 0 | J132: =E132/2 -> 2160
A133: =1+A132 -> 37 | C133: 35Ø mm et: 13 mm alüm.komp.fılm kaplı kauçuk köpüğü esaslı prefabrik boru ile ısı yalıtımı | D133: PAFLEX/ODE | E133: 900 | F133: mt. | H133: =E133*G133 -> 0 | J133: =E133/2 -> 450
A134: =1+A133 -> 38 | C134: 48Ø mm et: 13 mm alüm.komp.fılm kaplı kauçuk köpüğü esaslı prefabrik boru ile ısı yalıtımı | D134: PAFLEX/ODE | E134: 675 | F134: mt. | H134: =E134*G134 -> 0 | J134: =E134/2 -> 337.5
A135: =1+A134 -> 39 | C135: 60Ø mm et: 13 mm alüm.komp.fılm kaplı kauçuk köpüğü esaslı prefabrik boru ile ısı yalıtımı | D135: PAFLEX/ODE | E135: 675 | F135: mt. | H135: =E135*G135 -> 0 | J135: =E135/2 -> 337.5
A136: =1+A135 -> 40
A137: =1+A136 -> 41
C139: TOPLAM TUTAR | H139: =SUM(H4:H138)/2 -> 0

Sheet 1.4-ELEKTRİK
A1: ELEKTRİK TESİSATI KEŞFİ
A2: POZ | B2: İŞİN TANIMI | C2: SEÇİLEN MARKA | D2: MODEL (ÜRÜN KODU) | E2: ÖLÇÜ | F2: KALINLIK | G2: BİRİM | H2: MİKTAR | I2: YATAK ODASI (X5) | J2: YEMEKHANE | K2: ÇAMAŞIRHANE | L2: MESCİT | M2: TEKNİK MAHAL | N2: KORİDOR | O2: YATAK ODASI (X12) | P2: YEMEKHANE | Q2: ÇAMAŞIRHANE | R2: MESCİT | S2: BAVUL ODASI | T2: REVİR | U2: TEKNİK MAHAL | EU2: POZ BİRİM FİYAT (TL) ( F )=B+C+D+E | EV2: POZ TOPLAM TUTAR (TL) E=AxF
A3: A | B3: OG/ UPS/ SAC PANOLAR
B4: NOT: TÜM PANOLAR PROJE VE TEKHAT ŞEMALARI DİKKATE ALINARAK SET OLARAK ŞALT MALZEME DAHİL FİYAT VERİLECEKTİR. Proje ve Elektrik Teknik Şartnameye uygun önceden kısa devre hesaplarının yapılarak kontrollüğe onaylatılmak kaydıyla, gerekli kısa devre dayanımında her türlü mesnet, izolatör vb. aksesuar dahil modüler tip panoların çalışır vaziyette teslimi
A5: A-3.1 | B5: Duvar Tipi Dağıtım Ve Kuvvet Panoları
A6: A-3.1.2 | B6: KAT PANOSU (Detaylar Pano dökümündedir) | C6: LOKAL- ABB-SCHNEIDER-SIEMENS | G6: Ad. | H6: 12 | AL6: 1 | BV6: 1 | DM6: 1 | DT6: 1 | EV6: =+EU6*H6 -> 0 | EY6: =H6/2 -> 6
A7: A-3.1.3 | B7: UPS PANOSU (Detaylar Pano dökümündedir) | C7: LOKAL- ABB-SCHNEIDER-SIEMENS | G7: Ad. | H7: 12 | AL7: 1 | BV7: 1 | DM7: 1 | DT7: 1 | EV7: =+EU7*H7 -> 0 | EY7: =H7/2 -> 6
A8: A-3.1.4 | B8: MCC1 PANOSU (Detaylar Pano dökümündedir) | C8: LOKAL- ABB-SCHNEIDER-SIEMENS | G8: Ad. | H8: 6 | AL8: 1 | BV8: 1 | DM8: 1 | DT8: 1 | EV8: =+EU8*H8 -> 0 | EY8: =H8/2 -> 3
A9: A-3.1.5 | B9: MCC2 PANOSU (Detaylar Pano dökümündedir) | C9: LOKAL- ABB-SCHNEIDER-SIEMENS | G9: Ad. | H9: 6 | AL9: 1 | BV9: 1 | DM9: 1 | DT9: 1 | EV9: =+EU9*H9 -> 0 | EY9: =H9/2 -> 3
A10: A-6 | B10: Sigorta Kutuları | H10: 0 | EY10: =H10/2 -> 0
A11: A-6.6 | B11: elektrostatik toz boyalı, sac malzemeden yapılmış, kilitli, anahtarlı 24'lü sıva altı sigorta kutusu (aley yaymayan klemens seti dahil) | C11: ABB-LEGRAND-PANASONIC | G11: Ad. | H11: 90 | AL11: 32 | BV11: 35 | BZ11: 1 | DM11: 32 | DT11: 34 | EV11: =+EU11*H11 -> 0 | EY11: =H11/2 -> 45
A12: D | B12: KABLOLAR | H12: 0 | EY12: =H12/2 -> 0
B13: Proje ve Elektrik Teknik Şartnamesine uygun her nevi montaj malzemesi dahil (kablo bağı, yüksük vs.) çalışır halde teslimi | H13: 0 | EY13: =H13/2 -> 0
A14: D-1 | B14: Kuvvetli Akım Kabloları | H14: 0 | EY14: =H14/2 -> 0
A15: D-1.1 | B15: NHXMH Kablolar | H15: 0 | EY15: =H15/2 -> 0
A16: D-1.1.3 | B16: 3x1,5 mm2 NHXMH | C16: PRYSMIAN-NEXANS-ÖZNUR | G16: Mt. | H16: 10500 | EV16: =+EU16*H16 -> 0 | EY16: =H16/2 -> 5250
A17: D-1.1.4 | B17: 3x2,5 mm2 NHXMH | C17: PRYSMIAN-NEXANS-ÖZNUR | G17: Mt. | H17: 37500 | EV17: =+EU17*H17 -> 0 | EY17: =H17/2 -> 18750
A18: D-1.1.7 | B18: 4x1,5 mm2 NHXMH | C18: PRYSMIAN-NEXANS-ÖZNUR | G18: Mt. | H18: 300 | EV18: =+EU18*H18 -> 0 | EY18: =H18/2 -> 150
A19: D-1.1.12 | B19: 5x2,5 mm2 NHXMH | C19: PRYSMIAN-NEXANS-ÖZNUR | G19: Mt. | H19: 300 | EV19: =+EU19*H19 -> 0 | EY19: =H19/2 -> 150
A20: D-1.1.13 | B20: 5x4 mm2 NHXMH | C20: PRYSMIAN-NEXANS-ÖZNUR | G20: Mt. | H20: 300 | EV20: =+EU20*H20 -> 0 | EY20: =H20/2 -> 150
A21: D-1.2 | B21: N2XH Kablolar | H21: 0 | EY21: =H21/2 -> 0
A22: D-1.2.6 | B22: 3x4 mm2 N2XH | C22: PRYSMIAN-NEXANS-ÖZNUR | G22: Mt. | H22: 7500 | EV22: =+EU22*H22 -> 0 | EY22: =H22/2 -> 3750
A23: D-1.2.7 | B23: 3x6 mm2 N2XH | C23: PRYSMIAN-NEXANS-ÖZNUR | G23: Mt. | H23: 3750 | EV23: =+EU23*H23 -> 0 | EY23: =H23/2 -> 1875
A24: D-1.2.15 | B24: 3x25+16 mm2 N2XH | C24: PRYSMIAN-NEXANS-ÖZNUR | G24: Mt. | H24: 375 | EV24: =+EU24*H24 -> 0 | EY24: =H24/2 -> 187.5
A25: D-1.2.16 | B25: 3x35+16 mm2 N2XH | C25: PRYSMIAN-NEXANS-ÖZNUR | G25: Mt. | H25: 375 | EV25: =+EU25*H25 -> 0 | EY25: =H25/2 -> 187.5
A26: D-1.2.36 | B26: 5x4 mm2 N2XH | C26: PRYSMIAN-NEXANS-ÖZNUR | G26: Mt. | H26: 3000 | EV26: =+EU26*H26 -> 0 | EY26: =H26/2 -> 1500
A27: D-1.2.38 | B27: 5x10 mm2 N2XH | C27: PRYSMIAN-NEXANS-ÖZNUR | G27: Mt. | H27: 750 | EV27: =+EU27*H27 -> 0 | EY27: =H27/2 -> 375
A28: D-1.2.39 | B28: 5x16 mm2 N2XH | C28: PRYSMIAN-NEXANS-ÖZNUR | G28: Mt. | H28: 450 | EV28: =+EU28*H28 -> 0 | EY28: =H28/2 -> 225
A29: D-2 | B29: Zayıf Akım Akım Kabloları | H29: 0 | EY29: =H29/2 -> 0
A30: D-2.1 | B30: Yangın Sistemi Kabloları | H30: 0 | EY30: =H30/2 -> 0
A31: D-2.1.3 | B31: 1x2x0,8+0,8 JH(st)H Fe-180 | C31: ERSE-2M-REÇBER | G31: Mt. | H31: 0 | EV31: =+EU31*H31 -> 0 | EY31: =H31/2 -> 0
A32: D-2.1.4 | B32: 2x2x0,8+0,8 JH(st)H Fe-180 | C32: ERSE-2M-REÇBER | G32: Mt. | H32: 7500 | EV32: =+EU32*H32 -> 0 | EY32: =H32/2 -> 3750
A33: D-2.2 | B33: Seslendirme-Otomasyon Sistemi Kabloları | H33: 0 | EY33: =H33/2 -> 0
A34: D-2.2.5 | B34: 2x1,5 LIHCH | C34: ERSE-2M-REÇBER | G34: Mt. | H34: 7500 | EV34: =+EU34*H34 -> 0 | EY34: =H34/2 -> 3750
A35: D-2.2.8 | B35: 2x1.5 LIHCH Fe-180 | C35: ERSE-2M-REÇBER | G35: Mt. | H35: 0 | EV35: =+EU35*H35 -> 0 | EY35: =H35/2 -> 0
A36: D-2.2.10 | B36: 4x1.5 LIHCH Fe-180 | C36: ERSE-2M-REÇBER | G36: Mt. | H36: 4500 | EV36: =+EU36*H36 -> 0 | EY36: =H36/2 -> 2250
A37: D-2.3 | B37: TV Sistemi Kabloları | H37: 0 | EY37: =H37/2 -> 0
A38: D-2.3.2 | B38: RG6 U6 HF Koaksiyel Kablo | C38: ERSE-2M-REÇBER | G38: Mt. | H38: 2250 | EV38: =+EU38*H38 -> 0 | EY38: =H38/2 -> 1125
A39: D-2.3.3 | B39: RG11 U6 HF Koaksiyel Kablo | C39: ERSE-2M-REÇBER | G39: Mt. | H39: 0 | EV39: =+EU39*H39 -> 0 | EY39: =H39/2 -> 0
A40: D-2.6 | B40: Kartlı Geçiş Sistemi Kabloları | H40: 0 | EY40: =H40/2 -> 0
A41: D-2.6.1 | B41: 2x0,75 LIHCH | C41: ERSE-2M-REÇBER | G41: Mt. | H41: 750 | EV41: =+EU41*H41 -> 0 | EY41: =H41/2 -> 375
A42: D-2.6.2 | B42: 4x0,75 LIHCH | C42: ERSE-2M-REÇBER | G42: Mt. | H42: 1500 | EV42: =+EU42*H42 -> 0 | EY42: =H42/2 -> 750
A43: D-2.6.4 | B43: 8x0,75 LIHCH | C43: ERSE-2M-REÇBER | G43: Mt. | H43: 900 | EV43: =+EU43*H43 -> 0 | EY43: =H43/2 -> 450
A44: E | B44: KABLO TAŞIYICILARI | H44: 0 | EY44: =H44/2 -> 0
A45: E-1 | B45: Sac Kablo Taşıyıcıları (TS. 914) h:40mm | H45: 0 | EY45: =H45/2 -> 0
B46: NOT: TÜM ASKI APARATLARI SOMUN VİDAT VB. HER TÜRLÜ DÖNÜŞLER VE TIJ, KONSOL DAHİL FİYAT VERİLECEKTİR. S 914 şartlarında proje ve Elektrik Teknik Şartnamesine uygun sıcak daldırma galvaniz sacdan imal edilmiş 40mm kenar yüksekliğinde 1/3 oranında delikli her nevi montaj aksesuarı ve montajı dahil kablo çekimine hazır halde teslimi | H46: 0 | EY46: =H46/2 -> 0
A47: E-1.1 | B47: 100mm Kablo Tavası, h:40mm, sac kalınlığı: 1,5mm, ağır hizmet | C47: STS-EUROTRAY-KIRAÇ | G47: Mt. | H47: 7500 | EV47: =+EU47*H47 -> 0 | EY47: =H47/2 -> 3750
A48: E-1.7 | B48: 200mm Kablo Tavası, h:40mm, sac kalınlığı: 1,5mm, ağır hizmet | C48: STS-EUROTRAY-KIRAÇ | G48: Mt. | H48: 7500 | EV48: =+EU48*H48 -> 0 | EY48: =H48/2 -> 3750
A49: E-1.14 | B49: 300mm Kablo Tavası, h:40mm, sac kalınlığı: 1,5mm, ağır hizmet | C49: STS-EUROTRAY-KIRAÇ | G49: Mt. | H49: 750 | EV49: =+EU49*H49 -> 0 | EY49: =H49/2 -> 375
A50: E-1.21 | B50: 400mm Kablo Tavası, h:40mm, sac kalınlığı: 2mm, ağır hizmet | C50: STS-EUROTRAY-KIRAÇ | G50: Mt. | H50: 750 | EV50: =+EU50*H50 -> 0 | EY50: =H50/2 -> 375
A51: E-1.28 | B51: 500mm Kablo Tavası, h:40mm, sac kalınlığı: 2mm, ağır hizmet | C51: STS-EUROTRAY-KIRAÇ | G51: Mt. | H51: 0 | EV51: =+EU51*H51 -> 0 | EY51: =H51/2 -> 0
A52: E-4 | B52: Parapet Kanal | H52: 0 | EY52: =H52/2 -> 0
B53: Proje ve Elektrik Teknik Şartnamesine uygun her nevi ufak montaj malzemesi ve işçilik dahil çalışır halde teslimi (Dirsek vb ara parçalar kanal fiyatına dahildir) | H53: 0 | EY53: =H53/2 -> 0
A54: E-4.1 | B54: 50x100mm Kablo Kanalı | C54: MUTLUSAN-SERT PLASTİK | G54: Mt. | H54: 0 | EV54: =+EU54*H54 -> 0 | EY54: =H54/2 -> 0
A55: F | B55: HALOGENFREE PVC BORULAR Halogenfree PVC Kaplı Çelik Spiral Boru-Galvanize Çelik Borular (EMT) | H55: 0 | EY55: =H55/2 -> 0
B56: Proje ve Elektrik Teknik Şartnamesine uygun her nevi ufak montaj malzemesi ve işçilik dahil çalışır halde teslimi Yanmaz özellikte olacak,imalatta veya montajda sallanan ya da sarkan boru olmayacaktır.(Her türlü dirsek,ekmuf,kapaklı ay kroşe,dübel,vida vb moıntaj fiyatına dahildir) | H56: 0 | EY56: =H56/2 -> 0
A57: F-1 | B57: Q20 mm'ye kadar Halogenfree PVC Spiral Boru (Aks. Dahil) Alev yaymayan | C57: ENSMET-CANLAR-İPEK | G57: Mt. | H57: 10500 | EV57: =+EU57*H57 -> 0 | EY57: =H57/2 -> 5250
A58: H | B58: ANAHTAR PRİZ TESİSATLARI | H58: 0 | EY58: =H58/2 -> 0
B59: Proje ve Elektrik Teknik Şartnamesine uygun her nevi ufak montaj malzemesi (kasa, vidalı kaide, çerçeve) ve işçilik dahil çalışır halde teslimi, modüler kasa, buat, kaide cerceve malzeme fiyatlarına dahildir ) | H59: 0 | EY59: =H59/2 -> 0
A60: H-1 | B60: Sıva Altı Anahtar Prizler (Genel Mahaller) | H60: 0 | EY60: =H60/2 -> 0
A61: H-1.1 | B61: SA 2M Modüler anahtar | C61: LEGRAND BTİCİNO-PANASONIC THEA-GÜNSAN | G61: Ad. | H61: 180 | EV61: =+EU61*H61 -> 0 | EY61: =H61/2 -> 90
A62: H-1.2 | B62: SA 1M Modüler anahtar | C62: LEGRAND BTİCİNO-PANASONIC THEA-GÜNSAN | G62: Ad. | H62: 75 | EV62: =+EU62*H62 -> 0 | EY62: =H62/2 -> 37.5
A63: H-1.5 | B63: SA 2M Vaviyen anahtar | C63: LEGRAND BTİCİNO-PANASONIC THEA-GÜNSAN | G63: Ad. | H63: 27 | EV63: =+EU63*H63 -> 0 | EY63: =H63/2 -> 13.5
A64: H-1.6 | B64: SA 2M Modüler Çocuk Korumalı Topraklı Priz | C64: LEGRAND BTİCİNO-PANASONIC THEA-GÜNSAN | G64: Ad. | H64: 558 | EV64: =+EU64*H64 -> 0 | EY64: =H64/2 -> 279
A65: H-1.9 | B65: SA 2M Modüler Kapaklı Topraklı Priz | C65: LEGRAND BTİCİNO-PANASONIC THEA-GÜNSAN | G65: Ad. | H65: 45 | EV65: =+EU65*H65 -> 0 | EY65: =H65/2 -> 22.5
A66: H-1.10 | B66: SA 2M Modüler Çocuk Korumalı Topraklı UPS Priz | C66: LEGRAND BTİCİNO-PANASONIC THEA-GÜNSAN | G66: Ad. | H66: 558 | EV66: =+EU66*H66 -> 0 | EY66: =H66/2 -> 279
A67: H-1.15 | B67: SA 2M Modüler TV Priz | C67: LEGRAND BTİCİNO-PANASONIC THEA-GÜNSAN | G67: Ad. | H67: 45 | EV67: =+EU67*H67 -> 0 | EY67: =H67/2 -> 22.5
A68: H-1.25 | B68: SA 1M Modüler RJ-45 Data Priz (Çekirdek Hariç) | C68: LEGRAND BTİCİNO-PANASONIC THEA-GÜNSAN | G68: Ad. | H68: 46.5 | EV68: =+EU68*H68 -> 0 | EY68: =H68/2 -> 23.25
A69: H-1.32 | B69: 2 modül Beyaz Çerçeve (Kasa ve Karkas dahil) | C69: LEGRAND BTİCİNO-PANASONIC THEA-GÜNSAN | G69: Ad. | H69: 750 | EV69: =+EU69*H69 -> 0 | EY69: =H69/2 -> 375
A70: H-1.33 | B70: 3 modül Beyaz Çerçeve (Kasa ve Karkas dahil) | C70: LEGRAND BTİCİNO-PANASONIC THEA-GÜNSAN | G70: Ad. | H70: 0 | EV70: =+EU70*H70 -> 0 | EY70: =H70/2 -> 0
A71: H-1.34 | B71: 4 modül Beyaz Çerçeve (Kasa ve Karkas dahil) | C71: LEGRAND BTİCİNO-PANASONIC THEA-GÜNSAN | G71: Ad. | H71: 150 | EV71: =+EU71*H71 -> 0 | EY71: =H71/2 -> 75
A72: H-1.36 | B72: 7 modül Beyaz Çerçeve (Kasa ve Karkas dahil) | C72: LEGRAND BTİCİNO-PANASONIC THEA-GÜNSAN | G72: Ad. | H72: 52.5 | EV72: =+EU72*H72 -> 0 | EY72: =H72/2 -> 26.25
B73: 45x45 şebeke prizi | H73: 1122 | EV73: =+EU73*H73 -> 0 | EY73: =H73/2 -> 561
B74: 22,5x45 data prizi | H74: 564 | EV74: =+EU74*H74 -> 0 | EY74: =H74/2 -> 282
B75: bürotik 10 modül | H75: 267 | EV75: =+EU75*H75 -> 0 | EY75: =H75/2 -> 133.5
A76: H-3 | B76: Sıva Üstü Anahtar Prizler | H76: 0 | EY76: =H76/2 -> 0
A77: H-3.6 | B77: Sıvaüstü kauçuk nemliyer 16 A 3P+1N+1Pe priz | C77: LEGRAND BTİCİNO-PANASONIC THEA-GÜNSAN | G77: Ad. | H77: 0 | EV77: =+EU77*H77 -> 0 | EY77: =H77/2 -> 0
A78: H-3.12 | B78: Saç Kurutma Cihazı montajı | C78: LEGRAND BTİCİNO-PANASONIC THEA-GÜNSAN | G78: Ad. | H78: 45 | EV78: =+EU78*H78 -> 0 | EY78: =H78/2 -> 22.5
A79: I | B79: AYDINLATMA ARMATÜRLERİ | H79: 0 | EY79: =H79/2 -> 0
A80: I-1 | B80: Aydınlatma Armatür Montajı | H80: 0 | EY80: =H80/2 -> 0
B81: Proje ve Elektrik Teknik Şartnamesine uygun her nevi ufak montaj malzemesi (klemens v.b) ve işçilik dahil çalışır halde teslimi-Montaj | H81: 0 | EY81: =H81/2 -> 0
A82: I-1.21 | B82: Zincirlili Sarkıt EXIT armatür | C82: EEC-ALTEZ-ARSEL | G82: Ad. | H82: 27 | EV82: =+EU82*H82 -> 0 | EY82: =H82/2 -> 13.5
A83: I-1.43 | B83: Led Spot15W 9cm | C83: JOHNSON-ESA-PELSAN | D83: JOHNSON-ESA-PELSAN | E83: JOHNSON-ESA-PELSAN | F83: JOHNSON-ESA-PELSAN | G83: Ad. | H83: 615 | EV83: =+EU83*H83 -> 0 | EY83: =H83/2 -> 307.5
A84: I-1.55 | B84: 60x60 Led panel | C84: JOHNSON-ESA-PELSAN | G84: Ad. | H84: 300 | EV84: =+EU84*H84 -> 0 | EY84: =H84/2 -> 150
A85: I-1.57 | B85: 60x60 Led panel Steril | C85: JOHNSON-ESA-PELSAN | G85: Ad. | H85: 0 | EV85: =+EU85*H85 -> 0 | EY85: =H85/2 -> 0
A86: I-1.44 | B86: İkili Spot | C86: JOHNSON-ESA-PELSAN | G86: Ad. | H86: 0 | EV86: =+EU86*H86 -> 0 | EY86: =H86/2 -> 0
A87: I-1.45 | B87: Acil Aydınlatma Kiti | C87: JOHNSON-ESA-PELSAN | G87: Ad. | H87: 0 | EV87: =+EU87*H87 -> 0 | EY87: =H87/2 -> 0
A88: I-1.46 | B88: Gizli ışık bar led | C88: JOHNSON-ESA-PELSAN | G88: Mt. | H88: 375 | EV88: =+EU88*H88 -> 0 | EY88: =H88/2 -> 187.5
A89: I-1.48 | B89: 100w 24v led trafosu | C89: TRIDONIC-OSRAM-PHILIPS | G89: Ad. | H89: 0 | EV89: =+EU89*H89 -> 0 | EY89: =H89/2 -> 0
A90: I-1.54 | B90: Etanj Armatür 36W (120 CM)-Açık Tavan Askılı | C90: JOHNSON-ESA-PELSAN | G90: Ad. | H90: 21 | EV90: =+EU90*H90 -> 0 | EY90: =H90/2 -> 10.5
B91: panik armatürü | H91: 54 | EV91: =+EU91*H91 -> 0 | EY91: =H91/2 -> 27
B92: sensör | H92: 49.5 | EV92: =+EU92*H92 -> 0 | EY92: =H92/2 -> 24.75
A93: J | B93: ZAYIF AKIM SİSTEMLERİ | H93: 0 | EY93: =H93/2 -> 0
A94: J-1 | B94: Seslendirme ve Acil Anons Sistemi | H94: 0 | EY94: =H94/2 -> 0
B95: Proje ve Elektrik Teknik Şartnamesine uygun her nevi ufak montaj malzemesi (klemens v.b) ve işçilik dahil supervisor firma nezaretinde çalışır halde teslimi-Montaj (Merkez ünite ve amplifikatör gruplandırması, marka ve firmaya göre değişebilir.) | H95: 0 | EY95: =H95/2 -> 0
A96: J-1.14 | B96: 6W Asma Tavan Tipi Hoparlör, Montaj Kutusu ile Birlikte | C96: BOSCH-HONEYWELL-TYCO | G96: Ad. | H96: 36 | EV96: =+EU96*H96 -> 0 | EY96: =H96/2 -> 18
A97: J-1.22 | B97: Test Devreye Alma ve Mühendislik Hizmetleri | G97: Set | H97: 0 | EV97: =+EU97*H97 -> 0 | EY97: =H97/2 -> 0
A98: J-2 | B98: Yangın Algılama ve İhbar Sistemi | H98: 0 | EY98: =H98/2 -> 0
B99: Proje ve Elektrik Teknik Şartnamesine uygun her nevi ufak montaj malzemesi (klemens v.b) ve işçilik dahil supervisor firma nezaretinde çalışır halde teslimi-Montaj | H99: 0 | EY99: =H99/2 -> 0
A100: J-2.9 | B100: Elektronik Adresli Optik Duman Detektörü | C100: BOSCH-HONEYWELL-TYCO | G100: Ad. | H100: 150 | EV100: =+EU100*H100 -> 0 | EY100: =H100/2 -> 75
...

Sheet GRUP-2 KEŞİF ÖZETİ 
A1: İSÜ TOPKAPI YERLEŞKESİ LABORATUVAR-DERSLİK-OFİS VE SOSYAL ALANLAR YAPIMI İŞİ 2. ETAP İHALE DOSYASI
A2: SIRA NO | B2: GRUP-2 KEŞİF ÖZETİ | C2: TUTAR
A3: 1 | B3: İNŞAAT İŞLERİ | C3: ='2.1-İNŞAAT '!F44 -> 0
A4: 2 | B4: SABİT VE HAREKETLİ MOBİLYA İŞLERİ | C4: ='2.2-MOBİLYA'!H36 -> 0
B5: TOPLAM TUTAR | C5: =SUM(C3:C4) -> 0
A7: NOT : TUTARLAR KDV HARİÇTİR.
A8: NOT : YUKARIDAKİ İŞLER ŞARTNAMESİNE UYGUN YAPILACAK OLUP İŞİN SONUNDA KESİN HESAP YAPILACAKTIR.

Sheet 2.1-İNŞAAT 
B1: İNŞAAT İŞLERİ
A2: SIRA NO | B2: İŞİN TANIMI | C2: BİRİM | D2: MİKTAR | E2: BİRİM FİYAT | F2: TUTAR
A3: 1 | B3: 2FX+40*60*1,5 mm+Knauf İnsulation+2FX Çelik Konstrüksiyonlu Bölme Duvar İmalatı | C3: m2 | D3: 625.5 | F3: =+D3*E3 -> 0
A4: 2 | B4: 2FR+40*60*1,5 mm+Knauf İnsulation+2FR Çelik Konstrüksiyonlu Bölme Duvar İmalatı | C4: m2 | D4: 47.25 | F4: =+D4*E4 -> 0
A5: 3 | B5: 2WR+40*60*1,5 mm+Knauf İnsulation+2WR Çelik Konstrüksiyonlu Bölme Duvar İmalatı | C5: m2 | D5: 67.5 | F5: =+D5*E5 -> 0
A6: 4 | B6: 2FR+40*40*1,5 mm+Knauf İnsulationÇelik Konstrüksiyonlu Giydirme Duvar İmalatı | C6: m2 | D6: 24.75 | F6: =+D6*E6 -> 0
A7: 5 | B7: 2FX+40*40*1,5 mm+Knauf İnsulationÇelik Konstrüksiyonlu Giydirme Duvar İmalatı | C7: m2 | D7: 349.875 | F7: =+D7*E7 -> 0
A8: 6 | B8: 2WR+40*40*1,5 mm+Knauf İnsulationÇelik Konstrüksiyonlu Giydirme Duvar İmalatı | C8: m2 | D8: 39.375 | F8: =+D8*E8 -> 0
A9: 7 | B9: 2FX+40*60*1,5 mm+Knauf İnsulationÇelik Konstrüksiyonlu Duvar alın İmalatı | C9: mt | D9: 573.75 | F9: =+D9*E9 -> 0
A10: 8 | B10: FX+40*20*1,5 mm profil ile alçıpan asma tavan yapılması | C10: m2 | D10: 283.5 | F10: =+D10*E10 -> 0
A11: 9 | B11: WR+40*20*1,5 mm profil ile alçıpan asma tavan yapılması | C11: m2 | D11: 140.625 | F11: =+D11*E11 -> 0
A12: 10 | B12: FR+40*20*1,5 mm profil ile alçıpan asma tavan yapılması | C12: m2 | D12: 57.375 | F12: =+D12*E12 -> 0
A13: 11 | B13: Gizli Işık İmalatı | C13: mt | D13: 90 | F13: =+D13*E13 -> 0
A14: 12 | B14: Perdelik İmalatı | C14: mt | D14: 373.5 | F14: =+D14*E14 -> 0
... A43: 41 | B43: GİRİŞ KARTLI ÇIKIŞ FOTOSELLİ CAM KAYAR KAPI 5+5 TEMPERLİ CAM 130X220 CM | C43: ADET | D43: 7 | F43: =+D43*E43 -> 0
B44: TOPLAM TUTAR | F44: =SUM(F3:F43) -> 0
A45: NOT : TUTARLAR KDV HARİÇTİR.
A46: NOT : YUKARIDAKİ İŞLER ŞARTNAMESİNE UYGUN YAPILACAK OLUP İŞİN SONUNDA KESİN HESAP YAPILACAKTIR.

Sheet 2.2-MOBİLYA
B2: SABİT VE HAREKETLİ MOBİLYA
B3: SIRA NO | C3: 26.05.2025 MOBİLYA | D3: ÖLÇÜLER | E3: BİRİM | F3: MİKTAR | G3: BİRİM FİYAT | H3: TUTAR
B4: 1 | C4: ÇALIŞMA MASASI | D4: 120*80*75 | E4: ADET | F4: 110 | H4: =G4*F4 -> 0
B5: 2 | C5: ÇALIŞMA SANDALYESİ | D5: 60*55*75 | E5: ADET | F5: 110 | H5: =G5*F5 -> 0
B6: 3 | C6: OFİS ÇALIŞMA MASASI | D6: 140*70*75 | E6: ADET | F6: 20 | H6: =G6*F6 -> 0
B7: 4 | C7: OFİS ÇALIŞMA SANDALYESİ | D7: 60*55*75 | E7: ADET | F7: 20 | H7: =G7*F7 -> 0
B8: 5 | C8: OFİS ÇEKMECELİ KESON | D8: 45*45*50 | E8: ADET | F8: 20 | H8: =G8*F8 -> 0
B9: 6 | C9: TOPLANTI MASASI | D9: 370*120*75 | E9: ADET | F9: 1 | H9: =G9*F9 -> 0
B10: 7 | C10: OFİS DOSYA DOLABI | D10: 90*50*210 | E10: ADET | F10: 20 | H10: =G10*F10 -> 0
B11: 8 | C11: OFİS MİSAFİR KOLTUĞU | D11: 60*55*75 | E11: ADET | F11: 40 | H11: =G11*F11 -> 0
B12: 9 | C12: OFİS SEHPA | D12: 35*35*40 | E12: ADET | F12: 20 | H12: =G12*F12 -> 0
B13: 10 | C13: KAPI | D13: 100*210*4 | E13: ADET | F13: 38 | H13: =G13*F13 -> 0
B14: 11 | C14: TEKLİ GİYSİ DOLABI | D14: 70*60*210 | E14: ADET | F14: 15 | H14: =G14*F14 -> 0
B15: 14 | C15: SOYUNMA DOLAPLARI | D15: 80*40*210 | E15: ADET | F15: 10 | H15: =G15*F15 -> 0
... B21: 28 | C21: DANIŞMA BANKOSU | D21: 300*75*75 | E21: ADET | F21: 2 | H21: =G21*F21 -> 0
B22: 29 | C22: KOMODİN | E22: ADET | F22: 20 | H22: =F22*G22 -> 0
B23: 30 | C23: DEPO DOLABI | E23: ADET | F23: 8 | H23: =F23*G23 -> 0
B24: 31 | C24: ÖZEL YAPI DOLAP AÇIK / KİTAPLIK | E24: ADET | F24: 20 | H24: =G24*F24 -> 0
B25: 32 | C25: ÖZEL YAPI DOLAP KAPALI / KİTAPLIK | E25: ADET | F25: 20 | H25: =G25*F25 -> 0
B26: 33 | C26: METAL AYAKLI İSLİ MEŞE MASA 400*110 / KÜTÜPHANE MASALARI | E26: ADET | F26: 20 | H26: =G26*F26 -> 0
B27: 34 | C27: OTURMA ALANI (SEPERATÖRLER) | E27: ADET | F27: 16 | H27: =G27*F27 -> 0
B28: 35 | C28: KÖŞE KOLTUK | E28: ADET | F28: 36 | H28: =G28*F28 -> 0
B29: 36 | C29: ARA KOLTUK | E29: ADET | F29: 44 | H29: =G29*F29 -> 0
B30: 37 | C30: PUF | E30: ADET | F30: 178 | H30: =G30*F30 -> 0
B31: 38 | C31: DIŞ MEKAN OTURMA GRUPLARI | E31: ADET | F31: 64 | H31: =G31*F31 -> 0
B32: 39 | C32: SOSYAL ALANLAR İÇİN SANDALYELER | E32: ADET | F32: 300 | H32: =G32*F32 -> 0
B33: 40 | C33: ÇİÇEKLİK | E33: ADET | F33: 150 | H33: =G33*F33 -> 0
B34: 41 | C34: STEP TEKERLEKLİ SEMİNER SANDALYESİ | E34: ADET | F34: 280 | H34: =G34*F34 -> 0
C36: MOBİLYA TOPLAMI | H36: =SUM(H4:H35) -> 0
