Workbook
Name \0: #N/A
Name \a: #N/A
Name \aa: #REF!
Name \b: #REF!
Name \b: #REF!
Name \d: #REF!
Name \d: #REF!
Name \e: #REF!
Name \e: #REF!
Name \m: [1]ISITMA!#REF!
Name \m: [1]ISITMA!#REF!
Name \m: [1]ISITMA!#REF!
Name \m: #REF!
Name \m: #REF!
Name \n: #N/A
Name \p: #N/A
Name \Q: #REF!
Name \Q: #REF!
Name \rt: #REF!
Name \s: #REF!
Name \s: #REF!
Name \s1: #REF!
Name \s1: #REF!
Name \z: #REF!
Name \z: #REF!
Name _______________________________________________Tdb1: #REF!
Name _______________________________________________Tdb1: #REF!
Name _______________________________________________Tdb1_1: "#REF!"
Name _______________________________________________Tdb1_2: "#REF!"
Name _______________________________________________Tdb2: #REF!
Name _______________________________________________Tdb2: #REF!
Name _______________________________________________Tdb2_1: "#REF!"
Name _______________________________________________Tdb2_2: "#REF!"
Name _______________________________________________Twb1: #REF!
Name _______________________________________________Twb1: #REF!
Name _______________________________________________Twb1_1: "#REF!"
Name _______________________________________________Twb1_2: "#REF!"
Name _______________________________________________Twb2: #REF!
Name _______________________________________________Twb2: #REF!
Name _______________________________________________Twb2_1: "#REF!"
Name _______________________________________________Twb2_2: "#REF!"
Name ___________________KA1: #REF!
Name ___________________KA1: #REF!
Name ___________________KA2: #REF!
Name ___________________KA2: #REF!
Name ___________________KA3: #REF!
Name ___________________KA3: #REF!
Name ___________________KA4: #REF!
Name ___________________KA4: #REF!
Name ___________________KA5: #REF!
Name ___________________KA5: #REF!
Name ___________________KA6: #REF!
Name ___________________KA6: #REF!
Name ___________________KK10: #REF!
Name ___________________KK10: #REF!
Name ___________________KK11: #REF!
Name ___________________KK11: #REF!
Name ___________________KK12: #REF!
Name ___________________KK12: #REF!
Name ___________________KK13: #REF!

Sheet İCMAL
A1: İSÜ VADİ KAMPÜS BİYOBANKA-METABOLOMİC VE ORTAK ALANLAR(3.KAT) YAPIMI İŞİ İHALE DOSYASI
A2: SIRA NO | B2: İMALATIN ADI | C2: TUTAR
A3: GRUP-1 | B3: BİYOBANKA İŞLERİ
A4: 1 | B4: İNŞAAT YAPIM İŞLERİ (BİYOBANKA) | C4: =+'GRUP-1 BİYOBANKA İNŞ. YAP. İŞ.'!F72 -> 0
A5: 2 | B5: MOBİLYA YAPIM İŞLERİ (BİYOBANKA) | C5: =+'GRUP-1 BİYOBANKA MOB. YAP. İŞ.'!I35 -> 0
A6: 3 | B6: MEKANİK YAPIM İŞLERİ (BİYOBANKA) | C6: =+'GRUP-1 BİYOBANKA MEK. YAP. İŞ.'!H3 -> 0
A7: 4 | B7: ELEKTRİK YAPIM İŞLERİ (BİYOBANKA) | C7: =+'GRUP-1 BİYOBANKA ELEK. YAP. İŞ.'!F273 -> 0
B8: BİYOBANKA İŞLERİ TOPLAMI | C8: =SUM(C4:C7) -> 0
A9: GRUP-2 | B9: METABOLOMİC İŞLERİ
A10: 5 | B10: İNŞAAT YAPIM İŞLERİ (METABOLOMİC) | C10: =+'GRUP-2METABOLOMİC İNŞ. YAP. İŞ.'!F71 -> 0
A11: 6 | B11: MOBİLYA YAPIM İŞLERİ (METABOLOMİC) | C11: =+'GRUP-2METABOLOMİC MOB. YAP. İŞ.'!I25 -> 0
A12: 7 | B12: MEKANİK YAPIM İŞLERİ (METABOLOMİC) | C12: =+'GRUP-2METABOLOMİC MEK. YAP. İŞ.'!H3 -> 0
A13: 8 | B13: ELEKTRİK YAPIM İŞLERİ (METABOLOMİC) | C13: =+'GRUP-2 METABOLOMİC ELEK. YAP. '!F273 -> 0
B14: METABOLOMİC İŞLERİ TOPLAMI | C14: =SUM(C10:C13) -> 0
A15: GRUP-3 | B15: 3. KAT ORTAK ALAN İŞLERİ
A16: 9 | B16: İNŞAAT YAPIM İŞLERİ (ORTAK ALANLAR) | C16: =+'GRUP-3 ORTAK ALAN İNŞ. YAP. İŞ.'!F44 -> 0
A17: 10 | B17: MEKANİK YAPIM İŞLERİ (ORTAK ALANLAR) | C17: =+'GRUP-3 ORTAK ALAN MEK. İŞ.'!H3 -> 0
A18: 11 | B18: ELEKTRİK YAPIM İŞLERİ (ORTAK ALANLAR) | C18: =+'GRUP-3ORTAK ALAN ELEK. YAP. İŞ.'!F72 -> 0
B19: ORTAK ALAN İŞLERİ TOPLAMI | C19: =SUM(C16:C18) -> 0
B20: TOPLAM TUTAR | C20: =+C8+C14+C19 -> 0
A22: NOT : TUTARLAR KDV HARİÇTİR.
A23: NOT : YUKARIDAKİ İŞLER ŞARTNAMESİNE UYGUN YAPILACAK OLUP İŞİN SONUNDA KESİN HESAP YAPILACAKTIR.

Sheet GRUP-1

Sheet GRUP-1 BİYOBANKA İNŞ. YAP. İŞ.
A2: GRUP-1 BİYOBANKA İNŞAAT KEŞİF ÖZETİ
A4: SIRA NO | B4: İMALATIN ADI | C4: BİRİM | D4: MİKTARI | E4: BİRİM FİYAT | F4: TOPLAM
A5: 1 | B5: PVC - TARKETT OXIDE BLACK STEEL (FİRE EKLENMEMİŞTİR) | C5: M2 | D5: 1968.7013 | F5: =+D5*E5 -> 0
A6: 2 | B6: STERİL ALAN KONDAKTİF PVC - TARKETT IQ GRANİT SD 3096 467 CONDUCTIVE RULO) (FİRE EKLENMEMİŞTİR) | C6: M2 | D6: 183.71808 | F6: =+D6*E6 -> 0
A7: 3 | B7: PVC İŞÇİLİK (HER TÜRLÜ SARF MALZEME YÜKLENİCİYE AİTTİR) | C7: M2 | D7: 2152.4194 | F7: =+D7*E7 -> 0
A8: 4 | B8: H:10 CM KONDAKTİF PVC KEPLİ SÜPÜRGELİK MALZEME + İŞÇİLİK (FİRE EKLENMEMİŞTİR) | C8: MT | D8: 27.23448 | F8: =+D8*E8 -> 0
A9: 5 | B9: 300 DOZ ENDÜSTRİYEL ŞAP (8-9 CM ARASI) (BETON YÜKLENİCİYE AİT) | C9: M2 | D9: 3189.4044 | F9: =+D9*E9 -> 0
A10: 6 | B10: SERAMİK VİSTA FÜME MAT KÜTAHYA SERAMİK 60X120 ZEMİN MALZEME(FİRE EKLENMEMİŞTİR) | C10: M2 | D10: 45.03408 | F10: =+D10*E10 -> 0
A11: 7 | B11: SERAMİK VİSTA FÜME MAT KÜTAHYA SERAMİK 60X120 DUVAR MALZEME (FİRE EKLENMEMİŞTİR) (H:270 CM ALINMIŞTIR) | C11: M2 | D11: 703.794 | F11: =+D11*E11 -> 0
A12: 8 | B12: SERAMİK İŞÇİLİK 60X120 | C12: M2 | D12: 748.82808 | F12: =+D12*E12 -> 0
A13: 9 | B13: ISLAK HACİM ÇİMENTO ESASLI SÜRME İZOLASYON YAPILMASI MALZEME + İŞÇİLİK | C13: M2 | D13: 46.14792 | F13: =+D13*E13 -> 0
A14: 10 | B14: MUTFAK POLİÜRETAN İZOLASYON YAPILMASI MALZEME + İŞÇİLİK | C14: M2 | D14: 10.63608 | F14: =+D14*E14 -> 0
A15: 11 | B15: YÜKSELTİLMİŞ DÖŞEME.(FİRE EKLENMEMİŞTİR) (KALSİYUM SÜLFAT ÖZLÜ 30 MM ENKAPSÜL PLAKALI AYAKLI H:17 CM 60X60) | C15: M2 | D15: 35.29344 | F15: =+D15*E15 -> 0
A16: 12 | B16: MERMER PİETRA GREY MALZEME + İŞÇİLİK 3CM | C16: M2 | D16: 707.70336 | F16: =+D16*E16 -> 0
... A71: 67 | B71: 100x240 ALÜMİNYUM KASALI LAMİNAT KAPI | C71: adet | D71: 1 | F71: =+D71*E71 -> 0
B72: TOPLAM | F72: =SUM(F5:F71) -> 0

Sheet GRUP-1 BİYOBANKA MOB. YAP. İŞ.
A1: GRUP-1 BİYOBANKA MOBİLYA YAPIM İŞLERİ
A2: No | B2: İMALAT | F2: MİKTAR | G2: BİRİM | H2: BR FİYAT | I2: TOPLAM
A3: 1 | B3: Toplantı Masası 350*140*75h | F3: 1 | G3: Set | I3: =F3*H3 -> 0
B4: Metal Ayak | F4: 1 | G4: Adet
B5: Mdflam Üst Tabla | F5: 1 | G5: mTüle
A6: 2 | B6: Çalışma Ofisleri 70*140*75h | F6: 10 | G6: Set | I6: =F6*H6 -> 0
B7: Metal Ayak elektro Statik Toz Boyalı | F7: 10 | G7: Adet
B8: Mdflam Üst Tabla Beyaz Mdflam | F8: 10 | G8: Adet
B9: Keson | F9: 10 | G9: Adet
A10: 3 | B10: Hareketli mobilya
B11: Toplantı masası Sandalye | F11: 10 | G11: Adet | I11: =F11*H11 -> 0
B12: Çalışma Sandalyesi | F12: 10 | G12: Adet | I12: =F12*H12 -> 0
A13: 4 | B13: Mutfak Dolabı 280*60*210h | F13: 1 | G13: Set | I13: =F13*H13 -> 0
B14: Mdflam gövde | F14: 1 | G14: Adet
B15: Mdflam kapaklar | F15: 1 | G15: Adet
A16: 5 | B16: Soyunma Dolapları 120*45*210h | F16: 2 | G16: Set | I16: =F16*H16 -> 0
B17: 12 mm Kompak Gövde | F17: 1 | G17: Adet
B18: 12 mm Kompak Kapaklar | F18: 1 | G18: Adet
A19: 6 | B19: Kenar Tezgahlar Ve Alt Dolaplar Kule Sistemleri | F19: 100 | G19: mt | I19: =+H19*F19 -> 0
B20: Ya da 1,2mm Kalınlıkta AISI 304 Paslanmaz Çelikten İmal Üst Çalışma Tablası
B21: AISI 304 Paslanmaz Çelik Laboratuvar Tip Evyeler
B22: Elektrostatik Toz Boyalı Bazalı Sistem Taşıyıcı Çelik Konstrüksiyon
B23: 30*50*2mm Çelik Kutu Profilden İmal A Frame Yapıda Taşıyıcı Çelik Konstrüksiyon.
B24: Tezgah Altı Dolaplar G:900mm D:500mm Y:780mm 1mm Kalınlıkta Galvanizli Çelik Sactan Çift cidarlı olarak imal dolaplar. Cidarlar arasında ses engelleyici izolasyon dolgusu Dolapların iç ve dış yüzeylerinde Anti Bakteriyel (Gümüş İyonlu) Elektrostatik Toz Boya Kaplama Yavaş/Sessiz Kapanım Özellikli Menteşe ve Teleskopik Raylar.
B25: Paslanmaz Çelik musluk , Sıcak/Soğuk Çift Giriş Mix Tek Çıkışlı Musluklar. (Nouvo Far)
B26: Oturma Boşluğu Kapama Paneli
A27: 7 | B27: Ada Tezgah | F27: 1 | G27: Adet | I27: =+H27*F27 -> 0
B28: Ya da 1,2mm Kalınlıkta AISI 304 Paslanmaz Çelikten İmal Üst Çalışma Tablası
B29: AISI 304 Paslanmaz Çelik Laboratuvar Tip Evyeler
B30: Elektrostatik Toz Boyalı Bazalı Sistem Taşıyıcı Çelik Konstrüksiyon
B31: 30*50*2mm Çelik Kutu Profilden İmal A Frame Yapıda Taşıyıcı Çelik Konstrüksiyon.
B32: Tezgah Altı Dolaplar G:900mm D:500mm Y:780mm 1mm Kalınlıkta Galvanizli Çelik Sactan Çift cidarlı olarak imal dolaplar. Cidarlar arasında ses engelleyici izolasyon dolgusu Dolapların iç ve dış yüzeylerinde Anti Bakteriyel (Gümüş İyonlu) Elektrostatik Toz Boya Kaplama Yavaş/Sessiz Kapanım Özellikli Menteşe ve Teleskopik Raylar.
B33: Paslanmaz Çelik musluk , Sıcak/Soğuk Çift Giriş Mix Tek Çıkışlı Musluklar. (Nouvo Far)
B34: Oturma Boşluğu Kapama Paneli
H35: Toplam | I35: =SUM(I3:I34) -> 0

Sheet GRUP-1 BİYOBANKA MEK. YAP. İŞ.
A1: GRUP-1 BİYOBANKA MEKANİK TESİSAT İŞLERİ
A2: SIRA NO | B2: POZ NO | C2: YAPILACAK İŞİN CİNSİ | D2: MARKA | E2: MİKTAR | F2: BR. | G2: BİRİM FİYAT | H2: TUTAR TL
B3: *** | C3: GENEL ÜST TOPLAM | H3: =+H4+H34+H61+H120 -> 0
B4: A | C4: SIHHİ TESİSAT | H4: =SUM(H5:H33) -> 0
A5: 1 | C5: Lavabo veya eviye batarya montajı | D5: MONTAJ | E5: 14 | F5: ad | H5: =+E5*G5 -> 0
A6: =1+A5 -> 2 | C6: Engelli lavabo montajı | D6: MONTAJ | E6: 2 | F6: ad | H6: =+E6*G6 -> 0
A7: =1+A6 -> 3 | C7: Engelli lavabo batarya montajı | D7: MONTAJ | E7: 2 | F7: ad | H7: =+E7*G7 -> 0
A8: =1+A7 -> 4 | C8: Ara musluk montajı | D8: MONTAJ | E8: 29 | F8: ad | H8: =+E8*G8 -> 0
A9: =1+A8 -> 5 | C9: Sifon ve süzgeç montajı | D9: MONTAJ | E9: 15 | F9: ad | H9: =+E9*G9 -> 0
A10: =1+A9 -> 6 | C10: Göz duşu montajı | D10: MONTAJ | E10: 3 | F10: ad | H10: =+E10*G10 -> 0
A11: =1+A10 -> 7 | C11: Klozet ve klozet kapağı montajı | D11: MONTAJ | E11: 5 | F11: ad | H11: =+E11*G11 -> 0
A12: =1+A11 -> 8 | C12: Gömme rezervuar ve rezervuar kumandası montajı | D12: MONTAJ | E12: 5 | F12: ad | H12: =+E12*G12 -> 0
A13: =1+A12 -> 9 | C13: Engelli klozet ve klozet kapağı montajı | D13: MONTAJ | E13: 1 | F13: ad | H13: =+E13*G13 -> 0
A14: =1+A13 -> 10 | C14: Engelli gömme rezervuar ve rezervuar kumandası montajı | D14: MONTAJ | E14: 1 | F14: ad | H14: =+E14*G14 -> 0
A15: =1+A14 -> 11 | C15: Ankastre stop valf montajı | D15: MONTAJ | E15: 6 | F15: ad | H15: =+E15*G15 -> 0
A16: =1+A15 -> 12 | C16: Engelliler için katlanabilir tutunma barı montajı | D16: MONTAJ | E16: 1 | F16: ad | H16: =+E16*G16 -> 0
A17: =1+A16 -> 13 | C17: Engelliler için tutunma barı montajı | D17: MONTAJ | E17: 2 | F17: ad | H17: =+E17*G17 -> 0
... A29: =1+A28 -> 25 | C29: 20 Ø mm (3/4") Pirinç, preste imal edilmiş teflon (PTFE) contalı, tam geçişli, vidalı; (TS EN 13547) | D29: AYVAZ/DUYAR/UNTES | E29: 36 | F29: ad | H29: =+E29*G29 -> 0
A30: =1+A29 -> 26 | E30: 0 | H30: =+E30*G30 -> 0
A31: =1+A30 -> 27 | E31: 0 | H31: =+E31*G31 -> 0
A32: =1+A31 -> 28 | E32: 0 | H32: =+E32*G32 -> 0
E33: 0 | H33: =E33*G33 -> 0
B34: B | C34: ISITMA VE SOĞUTMA TESİSATI | E34: 0 | H34: =SUM(H35:H60) -> 0
A35: 1 | C35: VRF İÇ ÜNİTE FDT36KXZE1 (Ceiling Cassette - 4 Way) Qc : 3.6 Kw Qh : 4.0 Kw Qe : 0,04 Kw P.Source : 1 Ph.220/240 V 50 Hz Wiring : 3x1,5 mm Fuse : 6A Delayed Dimensions : HxWxD Unit : 236x840x840 Panel : 35x950x950 | D35: DAIKIN/MUADILI | E35: 5 | F35: ad | H35: =+E35*G35 -> 0
A36: =1+A35 -> 2 | C36: VRF İÇ ÜNİTE FDT56KXZE1 (Ceiling Cassette - 4 Way) Qc : 5.6 Kw Qh : 6.3 Kw Qe : 0,07 Kw P.Source : 1 Ph.220/240 V 50 Hz Wiring : 3x1,5 mm Fuse : 6A Delayed Dimensions : HxWxD Unit : 236x840x840 Panel : 35x950x950 | D36: DAIKIN/MUADILI | E36: 8 | F36: ad | H36: =+E36*G36 -> 0
A37: =1+A36 -> 3 | C37: VRF İÇ ÜNİTE FDT71KXZE1 (Ceiling Cassette - 4 Way) Qc : 7.1 Kw Qh : 8.0 Kw Qe : 0,08 Kw P.Source : 1 Ph.220/240 V 50 Hz Wiring : 3x1,5 mm Fuse : 6A Delayed Dimensions : HxWxD Unit : 236x840x840 Panel : 35x950x950 | D37: DAIKIN/MUADILI | E37: 3 | F37: ad | H37: =+E37*G37 -> 0
A38: =1+A37 -> 4 | C38: VRF İÇ ÜNİTE FDT112KXZE1 (Ceiling Cassette - 4 Way) Qc : 11.2 Kw Qh : 12.5 Kw Qe : 0,14 Kw P.Source : 1 Ph.220/240 V 50 Hz Wiring : 3x1,5 mm Fuse : 6A Delayed Dimensions : HxWxD Unit : 298x840x840 Panel : 35x950x950 | D38: DAIKIN/MUADILI | E38: 2 | F38: ad | H38: =+E38*G38 -> 0
A39: =1+A38 -> 5 | C39: VRF İÇ ÜNİTE FDT140KXZE1 (Ceiling Cassette - 4 Way) Qc : 14.0 Kw Qh : 16.0 Kw Qe : 0,14 Kw P.Source : 1 Ph.220/240 V 50 Hz Wiring : 3x1,5 mm Fuse : 6A Delayed Dimensions : HxWxD Unit : 298x840x840 Panel : 35x950x950 | D39: DAIKIN/MUADILI | E39: 6 | F39: ad | H39: =+E39*G39 -> 0
A40: =1+A39 -> 6 | C40: VRF DIŞ ÜNİTE DU-01 (Asıl) FDC280KXZE2 (10 Hp) (KXZ2 Heat Pump) Qc : 28.0 Kw Qh : 31.5 Kw Qe : 7.41 Kw Curr.(nom) : 12.2/ 12.0 Amper Curr.(max) : 20.1 Amper P.Source : 3 Ph.380/415 V 50 Hz Wiring : 4x4 mm Fuse : 32A Dimensions : HxWxD Unit : 1697x1350x720 | D40: DAIKIN/MUADILI | E40: 2 | F40: ad | H40: =+E40*G40 -> 0
A41: =1+A40 -> 7 | C41: VRF DIŞ ÜNİTE DU-02 (Yedek) FDC280KXZE2 (10 Hp) (KXZ2 Heat Pump) Qc : 28.0 Kw Qh : 31.5 Kw Qe : 7.41 Kw Curr.(nom) : 12.2/ 12.0 Amper Curr.(max) : 20.1 Amper P.Source : 3 Ph.380/415 V 50 Hz Wiring : 4x4 mm Fuse : 32A Dimensions : HxWxD Unit : 1697x1350x720 | D41: DAIKIN/MUADILI | E41: 2 | F41: ad | H41: =+E41*G41 -> 0
A42: =1+A41 -> 8 | C42: VRF DIŞ ÜNİTE FDC335KXRE2 (12 Hp) (KXE2 Heat Recovery) Qc : 33.5 Kw Qh : 33.5 Kw Qe : 9.65 Kw Curr.(nom) : 15.8/ 13.8Amper Curr.(max) : 21.2 Amper P.Source : 3 Ph.380/415 V 50 Hz Wiring : 4x6 mm Fuse : 32A Dimensions : HxWxD Unit : 1697x1350x720 Net Weigth : 305 kg | D42: DAIKIN/MUADILI | E42: 2 | F42: ad | H42: =+E42*G42 -> 0
A43: =1+A42 -> 9 | C43: VRF DIŞ ÜNİTE FDC400KXZRE2 (14 Hp) (KXZE2 Heat Recovery) Qc : 40.0 Kw Qh : 40.0 Kw Qe : 11.56 Kw Curr.(nom) : 18.5/ 15.9 Amper Curr.(max) : 30 Amper P.Source : 3 Ph.380/415 V 50 Hz Wiring : 4x6 mm Fuse : 32A Dimensions : HxWxD Unit : 2052x1350x720 Net Weigth : 372 kg | D43: DAIKIN/MUADILI | E43: 1 | F43: ad | H43: =+E43*G43 -> 0
A44: =1+A43 -> 10 | C44: AHU-02 ÜNİTESİ FDC450KXZE1 (16Hp) (KXE1 Heat Pump) Qc : 45.0 Kw Qh : 50.0 Kw Qe : 13.98 Kw/h Curr.(nom) : 22.4 / 20.4 Amper Curr.(max) : 32 Amper P.Source : 3 Ph.380/415 V 50 Hz Wiring : 4x6 mm Fuse : 32A Dimensions : HxWxD Unit : 2048x1350x720 Net Weigth : 317 kg | D44: DAIKIN/MUADILI | E44: 1 | F44: ad | H44: =+E44*G44 -> 0
A45: =1+A44 -> 11 | C45: AHU-02 ÜNİTESİ FDC500KXZE1 (18Hp) (KXE1 Heat Pump) Qc : 50.0 Kw Qh : 56.0 Kw Qe : 13.97 Kw/h Curr.(nom) : 22.6 / 21.8Amper Curr.(max) : 42.4 Amper P.Source : 3 Ph.380/415 V 50 Hz Wiring : 4x10 mm Fuse : 40A Dimensions : HxWxD Unit : 2048x1350x720 Net Weigth : 370 kg | D45: DAIKIN/MUADILI | E45: 1 | F45: ad | H45: =+E45*G45 -> 0
A46: =1+A45 -> 12 | C46: AHU-02 ÜNİTESİ FDC560KXZE1 (20Hp) (KXE1 Heat Pump) Qc : 56.0 Kw Qh : 63.0 Kw Qe : 16.62 Kw/h Curr.(nom) : 26.9 / 25.8 Amper Curr.(max) : 42.4 Amper P.Source : 3 Ph.380/415 V 50 Hz Wiring : 4x10 mm Fuse : 40A Dimensions : HxWxD Unit : 2048x1350x720 Net Weigth : 370 kg | D46: DAIKIN/MUADILI | E46: 3 | F46: ad | H46: =+E46*G46 -> 0
A47: =1+A46 -> 13 | C47: AHU-01 ÜNİTESİ FDC280KXZE1 (10 Hp) (KXZ2 Heat Pump) Qc : 28.0 Kw Qh : 31.5 Kw Qe : 7.28 Kw Curr.(nom) : 11.9 / 12.0Amper Curr.(max) : 21.2 Amper P.Source : 3 Ph.380/415 V 50 Hz Wiring : 4x4 mm Fuse : 32A Dimensions : HxWxD Unit : 1690x1350x720 Net Weigth : 272 kg | D47: DAIKIN/MUADILI | E47: 2 | F47: ad | H47: =+E47*G47 -> 0
... A57: =1+A56 -> 23 | C57: (1") ø 35,t=13 mm.kauçuk esaslı prefabrik boru izolesi | D57: ODE/MUADILI | E57: 43.2 | F57: mt | H57: =+E57*G57 -> 0
A58: =1+A56 -> 23 | C58: Vakum Ceketli Paslanmaz Vakum Hattı | E58: 162 | F58: mt | H58: =+E58*G58 -> 0
A59: =1+A57 -> 24 | C59: Likit Azot Tankı - 6,0 Ton | E59: 2 | F59: Adet | H59: =+E59*G59 -> 0
E60: 0 | H60: =E60*G60 -> 0
...

Sheet GRUP-1 BİYOBANKA ELEK. YAP. İŞ.
A1: GRUP-1 BİYOBANKA ELEKTRİK TESİSAT İŞLERİ KEŞFİ
A2: POZ | B2: İŞİN TANIMI | C2: SEÇİLEN MARKA | D2: BİRİM | E2: MİKTAR | F2: POZ BİRİM FİYAT | G2: POZ TOPLAM TUTAR
A3: A | B3: OG/ UPS/ SAC PANOLAR
B4: NOT: TÜM PANOLAR PROJE VE TEKHAT ŞEMALARI DİKKATE ALINARAK SET OLARAK ŞALT MALZEME DAHİL FİYAT VERİLECEKTİR.Proje ve Elektrik Teknik Şartnameye uygun önceden kısa devre hesaplarının yapılarak kontrollüğe onaylatılmak kaydıyla, gerekli kısa devre dayanımında her türlü mesnet, izolatör vb. aksesuar dahil,enerji analizörü modbus haberleşmeli modüler tip panoların çalışır vaziyette teslimi
A5: A-1.1 | B5: Dikili tip Ana Dağıtım Ve Kuvvet Panoları
A6: A-1.1.1 | B6: ADP | C6: LOKAL-Şalt ABB Schnider | D6: Ad. | E6: 1 | G6: =+E6*F6 -> 0
A7: A-1.1.2 | B7: 2K MCC1 | C7: LOKAL-Şalt ABB Schnider | D7: Ad. | E7: 1 | G7: =+E7*F7 -> 0
A8: A-1.1.3 | B8: 2K MCC2 | C8: LOKAL-Şalt ABB Schnider | D8: Ad. | E8: 1 | G8: =+E8*F8 -> 0
A9: A-1.1.4 | B9: 2K KDP | C9: LOKAL-Şalt ABB Schnider | D9: Ad. | E9: 1 | G9: =+E9*F9 -> 0
A10: A-1.1.5 | B10: 2K-KDUP | C10: LOKAL-Şalt ABB Schnider | D10: Ad. | E10: 1 | G10: =+E10*F10 -> 0
A11: A-1.1.6 | B11: 2K-DDC | C11: LOKAL-Şalt ABB Schnider | D11: Ad. | E11: 1 | G11: =+E11*F11 -> 0
A12: A-1.1.7 | B12: ATS 800A/800A Anapano içerisine konulacak | C12: ABB Schnider | D12: Ad. | E12: 1 | G12: =+E12*F12 -> 0
A13: A-3 | B13: KESİNTİSİZ GÜÇ KAYNAKLARI
B14: Aşağıda Belirtilen Malzeme/Sistemlerin temini, Şantiye içinde yatay/dikey Taşıma İşleri, Montajları için gerekli kontrol, kumanda vb. kablajların yapılması ve Devreye Alma İşleri Dahildir.
B15: 30 DAKİKA BEKLEME SÜRELİ UPS
A16: A-3.1 | B16: 120 kVA 380V/380V UPS tam yükte 30 dakika çalışabilen aküler , dc kablolama dahil Hot swap olacak ana kabin minimum 200KVA ana kasa 2 CPU lu olacak 20KVA UPS blokları olacaktır. | C16: Vertiv-Schneider-Inform-Power | D16: Set | E16: 1 | G16: =+E16*F16 -> 0
A17: C | B17: KABLOLAR
B18: Proje ve Elektrik Teknik Şartnamesine uygun Her nevi montaj malzemesi dahil (kablo bağı, yüksük vs.) çalışır halde teslimi
A19: C-1 | B19: Kuvvetli Akım Kabloları
A20: C-1.1 | B20: NHXMH Kablolar
A21: C-1.1.1 | B21: 2x1,5 mm2 LIHCH | C21: PRYSMIAN-NEXANS-ÖZNUR | D21: Mt. | E21: 750 | G21: =+E21*F21 -> 0
A22: C-1.1.3 | B22: 3x1,5 mm2 NHXMH | C22: PRYSMIAN-NEXANS-ÖZNUR | D22: Mt. | E22: 1500 | G22: =+E22*F22 -> 0
A23: C-1.1.4 | B23: 3x2,5 mm2 NHXMH | C23: PRYSMIAN-NEXANS-ÖZNUR | D23: Mt. | E23: 11977.5 | G23: =+E23*F23 -> 0
A24: C-1.1.5 | B24: 3x4 mm2 NHXMH | C24: PRYSMIAN-NEXANS-ÖZNUR | D24: Mt. | E24: 2977.5 | G24: =+E24*F24 -> 0
A25: C-1.1.6 | B25: 3x6 mm2 NHXMH | C25: PRYSMIAN-NEXANS-ÖZNUR | D25: Mt. | E25: 562.5 | G25: =+E25*F25 -> 0
A26: C-1.2 | B26: N2XH Kablolar
A27: C-1.2.5 | B27: 3x2,5 mm2 N2XH | C27: PRYSMIAN-NEXANS-ÖZNUR | D27: Mt. | E27: 1500 | G27: =+E27*F27 -> 0
A28: C-1.2.29 | B28: 4x 70 mm2 N2XH | C28: PRYSMIAN-NEXANS-ÖZNUR | D28: Mt. | E28: 60 | G28: =+E28*F28 -> 0
A29: C-1.2.30 | B29: 4x 50 mm2 N2XH | C29: PRYSMIAN-NEXANS-ÖZNUR | D29: Mt. | E29: 60 | G29: =+E29*F29 -> 0
A30: C-1.2.32 | B30: 4x 25 mm2 N2XH | C30: PRYSMIAN-NEXANS-ÖZNUR | D30: Mt. | E30: 45 | G30: =+E30*F30 -> 0
A31: C-1.2.36 | B31: 5x4 mm2 N2XH | C31: PRYSMIAN-NEXANS-ÖZNUR | D31: Mt. | E31: 375 | G31: =+E31*F31 -> 0
A32: C-1.2.37 | B32: 5x6 mm2 N2XH | C32: PRYSMIAN-NEXANS-ÖZNUR | D32: Mt. | E32: 375 | G32: =+E32*F32 -> 0
A33: C-1.2.38 | B33: 5x10 mm2 N2XH | C33: PRYSMIAN-NEXANS-ÖZNUR | D33: Mt. | E33: 270 | G33: =+E33*F33 -> 0
A34: C-1.2.39 | B34: 5x16 mm2 N2XH | C34: PRYSMIAN-NEXANS-ÖZNUR | D34: Mt. | E34: 120 | G34: =+E34*F34 -> 0
A35: C-1.2.40 | B35: 1x240 mm2 N2XH | C35: PRYSMIAN-NEXANS-ÖZNUR | D35: Mt. | E35: 2460 | G35: =+E35*F35 -> 0
A36: C-1.2.42 | B36: 1x150 mm2 N2XH | C36: PRYSMIAN-NEXANS-ÖZNUR | D36: Mt. | E36: 1485 | G36: =+E36*F36 -> 0
A37: C-1.2.44 | B37: 1x 95 mm2 N2XH | C37: PRYSMIAN-NEXANS-ÖZNUR | D37: Mt. | E37: 135 | G37: =+E37*F37 -> 0
A38: C-1.3 | B38: N2XH Fe-180 Kablolar
A39: C-1.3.11 | B39: 1x185 mm² N2XH FE-180 (BIO Ozel 800kVA Jenerator ADP beslemesi için) | C39: PRYSMIAN-NEXANS-ÖZNUR | D39: Mt. | E39: 3420 | G39: =+E39*F39 -> 0
A40: C-1.5 | B40: 07Z1-U/R Kablolar
...

Sheet GRUP-2

Sheet GRUP-2METABOLOMİC İNŞ. YAP. İŞ.
A2: GRUP-2 METABOLOMİC İNŞAAT KEŞİF ÖZETİ
A4: SIRA NO | B4: İMALATIN ADI | C4: BİRİM | D4: MİKTARI | E4: BİRİM FİYAT | F4: TOPLAM
A5: 1 | B5: STERİL ALAN KONDAKTİF PVC - TARKETT IQ GRANİT SD 3096 467 CONDUCTIVE RULO) (FİRE EKLENMEMİŞTİR) | C5: M2 | D5: 1035.8544 | F5: =+D5*E5 -> 0
A6: 2 | B6: PVC İŞÇİLİK (HER TÜRLÜ SARF MALZEME YÜKLENİCİYE AİTTİR) | C6: M2 | D6: 1035.8544 | F6: =+D6*E6 -> 0
A7: 3 | B7: H:10 CM KONDAKTİF PVC KEPLİ SÜPÜRGELİK MALZEME + İŞÇİLİK (FİRE EKLENMEMİŞTİR) | C7: MT | D7: 27.23448 | F7: =+D7*E7 -> 0
A8: 4 | B8: 300 DOZ ENDÜSTRİYEL ŞAP (8-9 CM ARASI) (BETON YÜKLENİCİYE AİT) | C8: M2 | D8: 3189.4044 | F8: =+D8*E8 -> 0
A9: 5 | B9: SERAMİK VİSTA FÜME MAT KÜTAHYA SERAMİK 60X120 ZEMİN MALZEME(FİRE EKLENMEMİŞTİR) | C9: M2 | D9: 45.03408 | F9: =+D9*E9 -> 0
A10: 6 | B10: SERAMİK VİSTA FÜME MAT KÜTAHYA SERAMİK 60X120 DUVAR MALZEME (FİRE EKLENMEMİŞTİR) (H:270 CM ALINMIŞTIR) | C10: M2 | D10: 703.794 | F10: =+D10*E10 -> 0
A11: 7 | B11: SERAMİK İŞÇİLİK 60X120 | C11: M2 | D11: 748.82808 | F11: =+D11*E11 -> 0
A12: 8 | B12: ISLAK HACİM ÇİMENTO ESASLI SÜRME İZOLASYON YAPILMASI MALZEME + İŞÇİLİK | C12: M2 | D12: 46.14792 | F12: =+D12*E12 -> 0
A13: 9 | B13: MUTFAK POLİÜRETAN İZOLASYON YAPILMASI MALZEME + İŞÇİLİK | C13: M2 | D13: 10.63608 | F13: =+D13*E13 -> 0
A14: 10 | B14: YÜKSELTİLMİŞ DÖŞEME.(FİRE EKLENMEMİŞTİR) (KALSİYUM SÜLFAT ÖZLÜ 30 MM ENKAPSÜL PLAKALI AYAKLI H:17 CM 60X60) | C14: M2 | D14: 35.29344 | F14: =+D14*E14 -> 0
A15: 11 | B15: MERMER PİETRA GREY MALZEME + İŞÇİLİK 3CM | C15: M2 | D15: 707.70336 | F15: =+D15*E15 -> 0
A16: 12 | B16: ALÜMİNYUM SÜPÜRGELİK MALZEME+İŞÇİLİK YAPILMASI (SP-01 H:10 CM) | C16: MTÜL | D16: 334.61064 | F16: =+D16*E16 -> 0
... A70: 66 | B70: 100x240 ALÜMİNYUM KASALI LAMİNAT KAPI | C70: adet | D70: 1 | F70: =+D70*E70 -> 0
B71: TOPLAM | F71: =SUM(F5:F70) -> 0

Sheet GRUP-2METABOLOMİC MOB. YAP. İŞ.
A1: GRUP-2 METABOLOMİC MOBİLYA YAPIM İŞLERİ
A2: No | B2: İMALAT | F2: MİKTAR | G2: BİRİM | H2: BR FİYAT | I2: TOPLAM
A3: 1 | B3: Toplantı Masası 350*140*75h | F3: 1 | G3: Set | I3: =F3*H3 -> 0
B4: Metal Ayak | F4: 1 | G4: Adet
B5: Mdflam Üst Tabla | F5: 1 | G5: mTüle
A6: 2 | B6: Çalışma Ofisleri 70*120*75h | F6: 8 | G6: Set | I6: =F6*H6 -> 0
B7: Metal Ayak elektro Statik Toz Boyalı | F7: 8 | G7: Adet
B8: Mdflam Üst Tabla Beyaz Mdflam | F8: 8 | G8: Adet
B9: Keson | F9: 8 | G9: Adet
A10: 3 | B10: Hareketli mobilya
B11: Toplantı masası Sandalye | F11: 9 | G11: Adet | I11: =F11*H11 -> 0
B12: Çalışma Sandalyesi | F12: 8 | G12: Adet | I12: =F12*H12 -> 0
A13: 4 | B13: Kenar Tezgahlar Ve Alt Dolaplar | F13: 16 | G13: mt | I13: =+H13*F13 -> 0
B14: 16mm Kalınlıkta Anti Kimöyasal-Anti Bakteriyelik Fenolik Reçine Hücreli Kompakt Laminant (Fundermax Max Resist)
B15: Elektrostatik Toz Boyalı Bazalı Sistem Taşıyıcı Çelik Konstrüksiyon
B16: 18mm MDF Lamdan İmal Çift Kapaklı Dolap G:900mm D:500mm Y:780mm 18mm MDF Lamdan İmal Raf (Tüm Kenarıları PVC Kaplamalı) 5mm Kalınlığında Çıkartılabilir Arkalık Hetich (Almanya) Frenli Dahili Menteşeler Kimyasallara ve Korozyona Dayanıklı Polipropilen Kulplar
B17: 18mm MDF Lamdan İmal Tek Kapaklı Dolap G:450mm D:500mm Y:780mm 18mm MDF Lamdan İmal Raf (Tüm Kenarıları PVC Kaplamalı) 5mm Kalınlığında Çıkartılabilir Arkalık Hetich (Almanya) Frenli Dahili Menteşeler Kimyasallara ve Korozyona Dayanıklı Polipropilen Kulplar
B18: Laminant Kaplamalı Marin Kontraplak Baza (h:100mm)
A19: 5 | B19: Pc Tezgah | F19: 4 | G19: Adet | I19: =+H19*F19 -> 0
B20: 16mm Kalınlıkta Kimyasal Dayanımlı Fenolik Reçine Çalışma Zemini
B21: Elektrostatik Toz Boyalı Bazalı Sistem Taşıyıcı Çelik Konstrüksiyon
A22: 6 | B22: Soyunma Dolapları 120*45*210h | F22: 8 | G22: Set | I22: =F22*H22 -> 0
B23: Kompak Gövde | F23: 1 | G23: Adet
B24: Kompak Kapaklar | F24: 1 | G24: Adet
H25: Toplam | I25: =SUM(I3:I24) -> 0

Sheet GRUP-2METABOLOMİC MEK. YAP. İŞ.
A1: GRUP-2 METABOLOMİC MEKANİK TESİSAT İŞLERİ
A2: SIRA NO | B2: POZ NO | C2: YAPILACAK İŞİN CİNSİ | D2: MARKA | E2: MİKTAR | F2: BR. | G2: BİRİM FİYAT TL | H2: TUTAR TL
B3: *** | C3: GENEL ÜST TOPLAM | H3: =+H4+H8+H23+H62 -> 0
B4: A | C4: SIHHİ TESİSAT | H4: =SUM(H5:H7) -> 0
A5: 1 | H5: =+G5*E5 -> 0
A6: =1+A5 -> 2 | H6: =+G6*E6 -> 0
H7: =+G7*E7 -> 0
B8: B | C8: ISITMA VE SOĞUTMA TESİSATI | H8: =SUM(H9:H22) -> 0
A9: 1 | C9: VRF İÇ ÜNİTE FDT36KXZE1 (Ceiling Cassette - 4 Way) Qc : 3.6 Kw Qh : 4.0 Kw Qe : 0,04 Kw P.Source : 1 Ph.220/240 V 50 Hz Wiring : 3x1,5 mm Fuse : 6A Delayed Dimensions : HxWxD Unit : 236x840x840 Panel : 35x950x950 | D9: DAIKIN/MUADILI | E9: 3 | F9: ad | H9: =+E9*G9 -> 0
A10: =1+A9 -> 2 | C10: VRF İÇ ÜNİTE FDT71KXZE1 (Ceiling Cassette - 4 Way) Qc : 7.1 Kw Qh : 8.0 Kw Qe : 0,08 Kw P.Source : 1 Ph.220/240 V 50 Hz Wiring : 3x1,5 mm Fuse : 6A Delayed Dimensions : HxWxD Unit : 236x840x840 Panel : 35x950x950 | D10: DAIKIN/MUADILI | E10: 3 | F10: ad | H10: =+E10*G10 -> 0
A11: =1+A10 -> 3 | C11: VRF İÇ ÜNİTE FDT112KXZE1 (Ceiling Cassette - 4 Way) Qc : 11.2 Kw Qh : 12.5 Kw Qe : 0,14 Kw P.Source : 1 Ph.220/240 V 50 Hz Wiring : 3x1,5 mm Fuse : 6A Delayed Dimensions : HxWxD Unit : 298x840x840 Panel : 35x950x950 | D11: DAIKIN/MUADILI | E11: 1 | F11: ad | H11: =+E11*G11 -> 0
A12: =1+A11 -> 4 | C12: VRF DIŞ ÜNİTE FDC400KXZRE2 (14 Hp) (KXZE2 Heat Recovery) Qc : 40.0 Kw Qh : 40.0 Kw Qe : 11.56 Kw Curr.(nom) : 18.5/ 15.9 Amper Curr.(max) : 30 Amper P.Source : 3 Ph.380/415 V 50 Hz Wiring : 4x6 mm Fuse : 32A Dimensions : HxWxD Unit : 2052x1350x720 Net Weigth : 372 kg | D12: DAIKIN/MUADILI | E12: 1 | F12: ad | H12: =+E12*G12 -> 0
A13: =1+A12 -> 5 | C13: AHU-01 ÜNİTESİ FDC450KXZE1 (16Hp) (KXE1 Heat Pump) Qc : 45.0 Kw Qh : 50.0 Kw Qe : 13.98 Kw/h Curr.(nom) : 22.4 / 20.4 Amper Curr.(max) : 32 Amper P.Source : 3 Ph.380/415 V 50 Hz Wiring : 4x6 mm Fuse : 32A Dimensions : HxWxD Unit : 2048x1350x720 Net Weigth : 317 kg | D13: DAIKIN/MUADILI | E13: 2 | F13: ad | H13: =+E13*G13 -> 0
A14: =1+A13 -> 6 | C14: AHU-01 ÜNİTESİ FDC500KXZE1 (18Hp) (KXE1 Heat Pump) Qc : 50.0 Kw Qh : 56.0 Kw Qe : 13.97 Kw/h Curr.(nom) : 22.6 / 21.8Amper Curr.(max) : 42.4 Amper P.Source : 3 Ph.380/415 V 50 Hz Wiring : 4x10 mm Fuse : 40A Dimensions : HxWxD Unit : 2048x1350x720 Net Weigth : 370 kg | D14: DAIKIN/MUADILI | E14: 1 | F14: ad | H14: =+E14*G14 -> 0
A15: =1+A14 -> 7 | C15: AHU-01 ÜNİTESİ FDC560KXZE1 (20Hp) (KXE1 Heat Pump) Qc : 56.0 Kw Qh : 63.0 Kw Qe : 16.62 Kw/h Curr.(nom) : 26.9 / 25.8 Amper Curr.(max) : 42.4 Amper P.Source : 3 Ph.380/415 V 50 Hz Wiring : 4x10 mm Fuse : 40A Dimensions : HxWxD Unit : 2048x1350x720 Net Weigth : 370 kg | D15: DAIKIN/MUADILI | E15: 4 | F15: ad | H15: =+E15*G15 -> 0
A16: =1+A15 -> 8 | C16: İhale Dosyasında Belirtilen Merkezi Klima Sistemi İmalatların Üretici Firmanın Hazırlayacağı Uygulama Projesine Göre Montaj ve Devreye Alma İşleri (Çalışır Halde Teslimi) -İç ve Dış Ünite Montajları -Bakır Borulama ve İzolasyon İşleri -Joint ve Dağıtım Kutu Montaj İşleri -Soğutucu Akışkan Şarjı -Zayıf Akım Kablo İmalatları -Termostad Montajı -Merkezi Kumanda Montajı -BMS Otomasyon Montaj ve Kurulum İşleri -Azot Test ve Devreye Alma İşleri Çalışır Halde Teslimi | D16: DAIKIN/MUADILI | E16: 1 | F16: set | H16: =+E16*G16 -> 0
A17: =1+A16 -> 9 | C17: Ø25 MM. U-PVC Drenaj Borusu | D17: PİLSA/MUADILI | E17: 54 | F17: mt | H17: =+E17*G17 -> 0
A18: =1+A17 -> 10 | C18: Ø32 MM. U-PVC Drenaj Borusu | D18: PİLSA/MUADILI | E18: 54 | F18: mt | H18: =+E18*G18 -> 0
A19: =1+A18 -> 11 | C19: U-PVC Drenaj Boruları Montaj Malzemesi Bedeli | D19: PİLSA/MUADILI | E19: 0.45 | F19: % | H19: =+E19*G19 -> 0
A20: =1+A19 -> 12 | C20: (3/4") ø 28,t=13 mm.kauçuk esaslı prefabrik boru izolesi | D20: ODE/MUADILI | E20: 54 | F20: mt | H20: =+E20*G20 -> 0
A21: =1+A20 -> 13 | C21: (1") ø 35,t=13 mm.kauçuk esaslı prefabrik boru izolesi | D21: ODE/MUADILI | E21: 54 | F21: mt | H21: =+E21*G21 -> 0
H22: =E22*G22 -> 0
B23: C | C23: HAVALANDIRMA TESİSATI | H23: =SUM(H24:H61) -> 0
A24: 1 | C24: EF-01 Radyal Fan - 500m3/h, 150Pa | D24: S&P/VENCO/MUADILI | E24: 1 | F24: ad | H24: =+E24*G24 -> 0
A25: =1+A24 -> 2 | C25: EF-02-03 Salyangoz Tipi Ergzoz Fan - 1.400m3/h, 200Pa | D25: S&P/VENCO/MUADILI | E25: 2 | F25: ad | H25: =+E25*G25 -> 0
A26: =1+A25 -> 3 | C26: EF-04 Geriye Eğik Seyrek Kanatlı Fan - 250m3/h, 400Pa | D26: S&P/VENCO/MUADILI | E26: 1 | F26: ad | H26: =+E26*G26 -> 0
A27: =1+A26 -> 4 | C27: EF-05-06 Geriye Eğik Seyrek Kanatlı Fan - 500m3/h, 400Pa | D27: S&P/VENCO/MUADILI | E27: 2 | F27: ad | H27: =+E27*G27 -> 0
A28: =1+A27 -> 5 | C28: IGK-01 Tavan Tipi Isı Geri Kazanım Cihazı (Cihaz Seçimi İçin Bknz. IGK-01_Cihaz Secimi.jpeg) | D28: S&P/VENCO/AERA/MUADILI | E28: 1 | F28: ad | H28: =+E28*G28 -> 0
A29: =1+A28 -> 6 | C29: AHU-01 HİJYENİK KLİMA SANTRALİ 100% Taze Hava / Dış Ünite / MMC+DDC PANO / Yatay / Plakalı Isı Geri Kazanım (Cihaz Seçimi İçin Bknz. EC-110-Rev0_AHU-01_PER_18.pdf) | D29: SYSTEMAİR/DAIKIN/MUADILI | E29: 1 | F29: ad | H29: =+E29*G29 -> 0
A30: =1+A29 -> 7 | C30: 600 x 600 Düz kanatlı Kare Alüminyum Anemostat - Planium Box Dahil. | D30: ELEKTROTEKNİK/FİTATEKNİK/DOĞUŞ | E30: 32 | F30: ad | H30: =+E30*G30 -> 0
A31: =1+A30 -> 8 | C31: MOTORLU YANGIN DAMPERİ - 550x250mm | D31: ELEKTROTEKNİK/FİTATEKNİK/DOĞUŞ | E31: 2 | F31: ad | H31: =+E31*G31 -> 0
A32: =1+A31 -> 9 | C32: YANGIN DAMPERİ - 250x200mm | D32: ELEKTROTEKNİK/FİTATEKNİK/DOĞUŞ | E32: 1 | F32: ad | H32: =+E32*G32 -> 0
A33: =1+A32 -> 10 | C33: VOLUME(HAVA AYAR) DAMPERİ - 150x150mm | D33: ELEKTROTEKNİK/FİTATEKNİK/DOĞUŞ | E33: 13 | F33: ad | H33: =+E33*G33 -> 0
A34: =1+A33 -> 11 | C34: VOLUME(HAVA AYAR) DAMPERİ - 200x150mm | D34: ELEKTROTEKNİK/FİTATEKNİK/DOĞUŞ | E34: 4 | F34: ad | H34: =+E34*G34 -> 0
A35: =1+A34 -> 12 | C35: VOLUME(HAVA AYAR) DAMPERİ - 250x200mm | D35: ELEKTROTEKNİK/FİTATEKNİK/DOĞUŞ | E35: 2 | F35: ad | H35: =+E35*G35 -> 0
A36: =1+A35 -> 13 | C36: VOLUME(HAVA AYAR) DAMPERİ - 300x200mm | D36: ELEKTROTEKNİK/FİTATEKNİK/DOĞUŞ | E36: 2 | F36: ad | H36: =+E36*G36 -> 0
... A59: =1+A58 -> 36 | C59: Kauçuk köpüğü yalıtım malzemesi ile kanal izolesi 19mm (Hijyenik klima santrallerin üfleme ile emiş kanallarına + klima santrallerin üfleme kanallarına uygulanacak) | D59: ODE/MUADILI | E59: 455.325 | F59: m2 | H59: =+E59*G59 -> 0
A60: =1+A59 -> 37 | H60: =E60*G60 -> 0
H61: =E61*G61 -> 0
B62: D | C62: YANGIN TESİSATI | H62: =SUM(H63:H94) -> 0
...

Sheet GRUP-2 METABOLOMİC ELEK. YAP. 
A1: GRUP-2 METABOLOMİC ELEKTRİK TESİSAT İŞLERİ KEŞFİ
A2: POZ | B2: İŞİN TANIMI | C2: SEÇİLEN MARKA | D2: BİRİM | E2: MİKTAR | F2: POZ BİRİM FİYAT | G2: POZ TOPLAM TUTAR
A3: A | B3: OG/ UPS/ SAC PANOLAR
B4: NOT: TÜM PANOLAR PROJE VE TEKHAT ŞEMALARI DİKKATE ALINARAK SET OLARAK ŞALT MALZEME DAHİL FİYAT VERİLECEKTİR.Proje ve Elektrik Teknik Şartnameye uygun önceden kısa devre hesaplarının yapılarak kontrollüğe onaylatılmak kaydıyla, gerekli kısa devre dayanımında her türlü mesnet, izolatör vb. aksesuar dahil,enerji analizörü modbus haberleşmeli modüler tip panoların çalışır vaziyette teslimi
A5: A-1.1 | B5: Dikili tip Ana Dağıtım Ve Kuvvet Panoları
A6: A-1.1.1 | B6: ADP | C6: LOKAL-Şalt ABB Schnider | D6: Ad. | E6: 1 | G6: =+E6*F6 -> 0
A7: A-1.1.2 | B7: 2K MCC1 | C7: LOKAL-Şalt ABB Schnider | D7: Ad. | E7: 1 | G7: =+E7*F7 -> 0
A8: A-1.1.3 | B8: 2K MCC2 | C8: LOKAL-Şalt ABB Schnider | D8: Ad. | E8: 1 | G8: =+E8*F8 -> 0
A9: A-1.1.4 | B9: 2K KDP | C9: LOKAL-Şalt ABB Schnider | D9: Ad. | E9: 1 | G9: =+E9*F9 -> 0
A10: A-1.1.5 | B10: 2K-KDUP | C10: LOKAL-Şalt ABB Schnider | D10: Ad. | E10: 1 | G10: =+E10*F10 -> 0
A11: A-1.1.6 | B11: 2K-DDC | C11: LOKAL-Şalt ABB Schnider | D11: Ad. | E11: 1 | G11: =+E11*F11 -> 0
A12: A-1.1.7 | B12: ATS 400A/400A Anapano içerisine konulacak | C12: ABB Schnider | D12: Ad. | E12: 1 | G12: =+E12*F12 -> 0
A13: A-3 | B13: KESİNTİSİZ GÜÇ KAYNAKLARI
B14: Aşağıda Belirtilen Malzeme/Sistemlerin temini, Şantiye içinde yatay/dikey Taşıma İşleri, Montajları için gerekli kontrol, kumanda vb. kablajların yapılması ve Devreye Alma İşleri Dahildir.
B15: 30 DAKİKA BEKLEME SÜRELİ UPS
A16: A-3.1 | B16: 80 kVA 380V/380V UPS tam yükte 30 dakika çalışabilen aküler , dc kablolama dahil Hot swap olacak ana kabin minimum 200KVA ana kasa 2 CPU lu olacak 20KVA UPS blokları olacaktır. | C16: Vertiv-Schneider-Inform-Power | D16: Set | E16: 1 | G16: =+E16*F16 -> 0
A17: C | B17: KABLOLAR
B18: Proje ve Elektrik Teknik Şartnamesine uygun Her nevi montaj malzemesi dahil (kablo bağı, yüksük vs.) çalışır halde teslimi
A19: C-1 | B19: Kuvvetli Akım Kabloları
A20: C-1.1 | B20: NHXMH Kablolar
A21: C-1.1.1 | B21: 2x1,5 mm2 LIHCH | C21: PRYSMIAN-NEXANS-ÖZNUR | D21: Mt. | E21: 375 | G21: =+E21*F21 -> 0
A22: C-1.1.3 | B22: 3x1,5 mm2 NHXMH | C22: PRYSMIAN-NEXANS-ÖZNUR | D22: Mt. | E22: 750 | G22: =+E22*F22 -> 0
A23: C-1.1.4 | B23: 3x2,5 mm2 NHXMH | C23: PRYSMIAN-NEXANS-ÖZNUR | D23: Mt. | E23: 5988.75 | G23: =+E23*F23 -> 0
A24: C-1.1.5 | B24: 3x4 mm2 NHXMH | C24: PRYSMIAN-NEXANS-ÖZNUR | D24: Mt. | E24: 1488.75 | G24: =+E24*F24 -> 0
A25: C-1.1.6 | B25: 3x6 mm2 NHXMH | C25: PRYSMIAN-NEXANS-ÖZNUR | D25: Mt. | E25: 281.25 | G25: =+E25*F25 -> 0
A26: C-1.2 | B26: N2XH Kablolar
A27: C-1.2.5 | B27: 3x2,5 mm2 N2XH | C27: PRYSMIAN-NEXANS-ÖZNUR | D27: Mt. | E27: 750 | G27: =+E27*F27 -> 0
A28: C-1.2.29 | B28: 4x 70 mm2 N2XH | C28: PRYSMIAN-NEXANS-ÖZNUR | D28: Mt. | E28: 30 | G28: =+E28*F28 -> 0
A29: C-1.2.30 | B29: 4x 50 mm2 N2XH | C29: PRYSMIAN-NEXANS-ÖZNUR | D29: Mt. | E29: 30 | G29: =+E29*F29 -> 0
A30: C-1.2.32 | B30: 4x 25 mm2 N2XH | C30: PRYSMIAN-NEXANS-ÖZNUR | D30: Mt. | E30: 22.5 | G30: =+E30*F30 -> 0
A31: C-1.2.36 | B31: 5x4 mm2 N2XH | C31: PRYSMIAN-NEXANS-ÖZNUR | D31: Mt. | E31: 187.5 | G31: =+E31*F31 -> 0
A32: C-1.2.37 | B32: 5x6 mm2 N2XH | C32: PRYSMIAN-NEXANS-ÖZNUR | D32: Mt. | E32: 187.5 | G32: =+E32*F32 -> 0
A33: C-1.2.38 | B33: 5x10 mm2 N2XH | C33: PRYSMIAN-NEXANS-ÖZNUR | D33: Mt. | E33: 135 | G33: =+E33*F33 -> 0
A34: C-1.2.39 | B34: 5x16 mm2 N2XH | C34: PRYSMIAN-NEXANS-ÖZNUR | D34: Mt. | E34: 60 | G34: =+E34*F34 -> 0
A35: C-1.2.40 | B35: 1x240 mm2 N2XH | C35: PRYSMIAN-NEXANS-ÖZNUR | D35: Mt. | E35: 1230 | G35: =+E35*F35 -> 0
A36: C-1.2.42 | B36: 1x150 mm2 N2XH | C36: PRYSMIAN-NEXANS-ÖZNUR | D36: Mt. | E36: 742.5 | G36: =+E36*F36 -> 0
A37: C-1.2.44 | B37: 1x 95 mm2 N2XH | C37: PRYSMIAN-NEXANS-ÖZNUR | D37: Mt. | E37: 67.5 | G37: =+E37*F37 -> 0
A38: C-1.3 | B38: N2XH Fe-180 Kablolar
A39: C-1.3.11 | B39: 1x185 mm² N2XH FE-180 (BIO Ozel 800kVA Jenerator ADP beslemesi için) | C39: PRYSMIAN-NEXANS-ÖZNUR | D39: Mt. | E39: 1710 | G39: =+E39*F39 -> 0
A40: C-1.5 | B40: 07Z1-U/R Kablolar
...

Sheet GRUP-3

Sheet GRUP-3 ORTAK ALAN İNŞ. YAP. İŞ.
A2: GRUP-3 ORTAK ALAN İNŞAAT KEŞİF ÖZETİ
A4: SIRA NO | B4: İMALATIN ADI | C4: BİRİM | D4: MİKTARI | E4: BİRİM FİYAT | F4: TOPLAM
A5: 1 | B5: SERAMİK VİSTA FÜME MAT KÜTAHYA SERAMİK 60X120 ZEMİN MALZEME(FİRE EKLENMEMİŞTİR) | C5: M2 | D5: 68.11 | F5: =+D5*E5 -> 0
A6: 2 | B6: SERAMİK VİSTA FÜME MAT KÜTAHYA SERAMİK 60X120 DUVAR MALZEME (FİRE EKLENMEMİŞTİR) (H:270 CM ALINMIŞTIR) | C6: M2 | D6: 81.102 | F6: =+D6*E6 -> 0
A7: 3 | B7: SERAMİK İŞÇİLİK 60X120 | C7: M2 | D7: 149.212 | F7: =+D7*E7 -> 0
A8: 4 | B8: ISLAK HACİM ÇİMENTO ESASLI SÜRME İZOLASYON YAPILMASI MALZEME + İŞÇİLİK | C8: M2 | D8: 68.11 | F8: =+D8*E8 -> 0
A9: 5 | B9: MERMER PİETRA GREY MALZEME + İŞÇİLİK 3CM | C9: M2 | D9: 716.436 | F9: =+D9*E9 -> 0
A10: 6 | B10: FX+40*20*1,5 MM PROFİL İLE ALÇIPAN ASMA TAVAN YAPILMASI (Tek kat suya dayanımlı yeşil alçıpanı temsil eder.Tavan köşe birleşimlerinde atılması gereken ilave profillerde dahil edilecektir.) (KNAUF-DALSAN) | C10: M2 | D10: 716.436 | F10: =+D10*E10 -> 0
A11: 7 | B11: WR+40*20*1,5 MM PROFİL İLE ALÇIPAN ASMA TAVAN YAPILMASI (Tek kat suya dayanımlı yeşil alçıpanı temsil eder.Tavan köşe birleşimlerinde atılması gereken ilave profillerde dahil edilecektir.) (KNAUF-DALSAN) | C11: M2 | D11: 68.11 | F11: =+D11*E11 -> 0
A12: 8 | B12: TAVAN SATEN ALÇI (1) Projedeki ölçülere göre, sıvanan bütün yüzler (boşluk yanları dâhil) hesaplanır. 2) Doğrama pervazları ve varsa ahşap süpürgelik altında kalan sıva yüzeyleri hesaba katılır. 3) Bütün boşluklar ve diğer cins kaplama yüzeyleri düşülür. ) | C12: M2 | D12: 784.546 | F12: =+D12*E12 -> 0
A13: 9 | B13: Tavan Boya Yapılması (Saten alçı üzeri) (RAL-9005) (Projesi üzerinden boya yapılan yüzeyler ölçülür. Tüm boşluklar düşülür.) | C13: M2 | D13: 784.546 | F13: =+D13*E13 -> 0
A14: 10 | B14: CUBİCLE SİSTEM YAPILMASI (H:2,10 ALINMIŞTIR) (AYAK:10 CM ALINMIŞTIR) | C14: M2 | D14: 45.304 | F14: =+D14*E14 -> 0
A15: 11 | B15: 2WR+40*40*1,5 mm+Knauf İnsulationÇelik Konstrüksiyonlu Giydirme Duvar İmalatı [Proje de gösterilen duvar kalınlığında içerisinde taşyünü yalıtımı bulunan imalat açıklamasıdır. Çift kat suya dayanımlı yeşil alçıpanı temsil eder.Duvar köşe birleşimlerinde atılması gereken ilave profillerde dahil edilecektir. Ekstra ilave profil yazılmayacaktır.) | C15: M2 | D15: 152.082 | F15: =+D15*E15 -> 0
A16: 12 | B16: 90*220 ALÜMİNYUM KASALI LAMİNAT KAPI | C16: adet | D16: 2 | F16: =+D16*E16 -> 0
... A43: 39 | B43: MEVCUT ASANSÖR KAPI REVİZYONU (ACİL DURUMLARDA AZOT TANKLARININ TAHLİYESİ İÇİN ASANSÖR KAPISI GENİŞLETİLMESİ İÇİN) | C43: SET | D43: 1 | F43: =+D43*E43 -> 0
B44: TOPLAM | F44: =SUM(F5:F43) -> 0

Sheet GRUP-3 ORTAK ALAN MEK. İŞ.
A1: GRUP-3 ORTAK ALAN MEKANİK TESİSAT İŞLERİ
A2: SIRA NO | B2: POZ NO | C2: YAPILACAK İŞİN CİNSİ | D2: MARKA | E2: MİKTAR | F2: BR. | G2: BİRİM FİYAT TL | H2: TUTAR TL
B3: *** | C3: GENEL ÜST TOPLAM | H3: =+H4+H32+H44+H56 -> 0
B4: A | C4: SIHHİ TESİSAT | H4: =SUM(H5:H31) -> 0
A5: 1 | C5: Lavabo veya eviye batarya montajı | D5: MONTAJ | E5: 8 | F5: ad | H5: =+E5*G5 -> 0
A6: =1+A5 -> 2 | C6: Engelli lavabo montajı | D6: MONTAJ | E6: 1 | F6: ad | H6: =+E6*G6 -> 0
A7: =1+A6 -> 3 | C7: Engelli lavabo batarya montajı | D7: MONTAJ | E7: 1 | F7: ad | H7: =+E7*G7 -> 0
A8: =1+A7 -> 4 | C8: Ara musluk montajı | D8: MONTAJ | E8: 18 | F8: ad | H8: =+E8*G8 -> 0
A9: =1+A8 -> 5 | C9: Sifon ve süzgeç montajı | D9: MONTAJ | E9: 9 | F9: ad | H9: =+E9*G9 -> 0
A10: =1+A9 -> 6 | C10: Klozet ve klozet kapağı montajı | D10: MONTAJ | E10: 8 | F10: ad | H10: =+E10*G10 -> 0
A11: =1+A10 -> 7 | C11: Gömme rezervuar ve rezervuar kumandası montajı | D11: MONTAJ | E11: 8 | F11: ad | H11: =+E11*G11 -> 0
A12: =1+A11 -> 8 | C12: Engelli klozet ve klozet kapağı montajı | D12: MONTAJ | E12: 1 | F12: ad | H12: =+E12*G12 -> 0
A13: =1+A12 -> 9 | C13: Engelli gömme rezervuar ve rezervuar kumandası montajı | D13: MONTAJ | E13: 1 | F13: ad | H13: =+E13*G13 -> 0
A14: =1+A13 -> 10 | C14: Ankastre stop valf montajı | D14: MONTAJ | E14: 8 | F14: ad | H14: =+E14*G14 -> 0
A15: =1+A14 -> 11 | C15: Engelliler için katlanabilir tutunma barı montajı | D15: MONTAJ | E15: 1 | F15: ad | H15: =+E15*G15 -> 0
A16: =1+A15 -> 12 | C16: Engelliler için tutunma barı montajı | D16: MONTAJ | E16: 2 | F16: ad | H16: =+E16*G16 -> 0
A17: =1+A16 -> 13 | C17: Engelliler için klozet tutunma barı montajı | D17: MONTAJ | E17: 1 | F17: ad | H17: =+E17*G17 -> 0
... A28: =1+A27 -> 24 | C28: 20 Ø mm (3/4") Pirinç, preste imal edilmiş teflon (PTFE) contalı, tam geçişli, vidalı; (TS EN 13547) | D28: AYVAZ/DUYAR/UNTES | E28: 9 | F28: ad | H28: =+E28*G28 -> 0
A29: =1+A28 -> 25 | H29: =+G29*E29 -> 0
A30: =1+A29 -> 26 | H30: =+G30*E30 -> 0
H31: =+G31*E31 -> 0
B32: B | C32: ISITMA VE SOĞUTMA TESİSATI | H32: =SUM(H33:H43) -> 0
A33: 1 | C33: VRF İÇ ÜNİTE FDT71KXZE1 (Ceiling Cassette - 4 Way) Qc : 7.1 Kw Qh : 8.0 Kw Qe : 0,08 Kw P.Source : 1 Ph.220/240 V 50 Hz Wiring : 3x1,5 mm Fuse : 6A Delayed Dimensions : HxWxD Unit : 236x840x840 Panel : 35x950x950 | D33: DAIKIN/MUADILI | E33: 7 | F33: ad | H33: =+E33*G33 -> 0
A34: =1+A33 -> 2 | C34: VRF DIŞ ÜNİTE FDC280KXZE2 (10 Hp) (KXZ2 Heat Pump) Qc : 28.0 Kw Qh : 31.5 Kw Qe : 7.41 Kw Curr.(nom) : 12.2/ 12.0 Amper Curr.(max) : 20.1 Amper P.Source : 3 Ph.380/415 V 50 Hz Wiring : 4x4 mm Fuse : 32A Dimensions : HxWxD Unit : 1697x1350x720 | D34: DAIKIN/MUADILI | E34: 2 | F34: ad | H34: =+E34*G34 -> 0
A35: =1+A34 -> 3 | C35: Ø25 MM. U-PVC Drenaj Borusu | D35: PİLSA/MUADILI | E35: 108 | F35: mt | H35: =+E35*G35 -> 0
A36: =1+A35 -> 4 | C36: Ø32 MM. U-PVC Drenaj Borusu | D36: PİLSA/MUADILI | E36: 72 | F36: mt | H36: =+E36*G36 -> 0
A37: =1+A36 -> 5 | C37: U-PVC Drenaj Boruları Montaj Malzemesi Bedeli | D37: PİLSA/MUADILI | E37: 0.45 | F37: % | H37: =+E37*G37 -> 0
A38: =1+A37 -> 6 | C38: Ø25 MM. U-PVC Drenaj Borusu - pn10 | D38: HAKAN/FIRAT/MUADILI | E38: 423 | F38: mt | H38: =+E38*G38 -> 0
A39: =1+A38 -> 7 | C39: Ø32 MM. U-PVC Drenaj Borusu - pn10 | D39: HAKAN/FIRAT/MUADILI | E39: 36 | F39: mt | H39: =+E39*G39 -> 0
A40: =1+A39 -> 8 | C40: U-PVC Drenaj Borusu - pn10 Borular Montaj Malzemesi Bedeli | D40: HAKAN/FIRAT/MUADILI | E40: 0.5 | F40: % | H40: =+E40*G40 -> 0
A41: =1+A40 -> 9 | C41: (3/4") ø 28,t=13 mm.kauçuk esaslı prefabrik boru izolesi | D41: ODE/MUADILI | E41: 423 | F41: mt | H41: =+E41*G41 -> 0
A42: =1+A41 -> 10 | C42: (1") ø 35,t=13 mm.kauçuk esaslı prefabrik boru izolesi | D42: ODE/MUADILI | E42: 36 | F42: mt | H42: =+E42*G42 -> 0
H43: =+G43*E43 -> 0
B44: C | C44: HAVALANDIRMA TESİSATI | H44: =SUM(H45:H53) -> 0
A45: 1 | C45: EF-01 Kanal Tipi Fan - 500m3/h, 150Pa | D45: S&P/VENCO/MUADILI | E45: 1 | F45: ad | H45: =+E45*G45 -> 0
A46: =A45+1 -> 2 | C46: IGK-01 Tavan Tipi Isı Geri Kazanım Cihazı Debi Taze Hava - Egzoz : 1.000 m3/h | D46: S&P/VENCO/AERA/MUADILI | E46: 1 | F46: ad | H46: =+E46*G46 -> 0
A47: =A46+1 -> 3 | C47: 600 x 600 Düz kanatlı Kare Alüminyum Anemostat - Planium Box Dahil. | D47: ELEKTROTEKNİK/FİTATEKNİK/DOĞUŞ | E47: 8 | F47: ad | H47: =+E47*G47 -> 0
A48: =A47+1 -> 4 | C48: MOTORLU YANGIN DAMPERİ - 550x250mm | D48: ELEKTROTEKNİK/FİTATEKNİK/DOĞUŞ | E48: 2 | F48: ad | H48: =+E48*G48 -> 0
A49: =A48+1 -> 5 | C49: Ø 125 mm gemici tip anemostat | D49: ELEKTROTEKNİK/FİTATEKNİK/DOĞUŞ | E49: 5 | F49: ad | H49: =+E49*G49 -> 0
A50: =A49+1 -> 6 | C50: İzolesiz flex - ø125mm Alüminyum-polyester laminasyonlu tam esnek (flexible) yalıtımsız borudan hava kanalları | D50: AFS/PAFLEX/MUADILI | E50: 15 | F50: mt | H50: =+E50*G50 -> 0
...

Sheet GRUP-3ORTAK ALAN ELEK. YAP. İŞ.
A1: GRUP-3 ORTAK ALAN ELEKTRİK TESİSAT İŞLERİ KEŞFİ
A2: POZ | B2: İŞİN TANIMI | C2: SEÇİLEN MARKA | D2: BİRİM | E2: MİKTAR ( A ) | F2: POZ BİRİM FİYAT | G2: POZ TOPLAM TUTAR
A3: A | B3: OG/ UPS/ SAC PANOLAR
B4: NOT: TÜM PANOLAR PROJE VE TEKHAT ŞEMALARI DİKKATE ALINARAK SET OLARAK ŞALT MALZEME DAHİL FİYAT VERİLECEKTİR.Proje ve Elektrik Teknik Şartnameye uygun önceden kısa devre hesaplarının yapılarak kontrollüğe onaylatılmak kaydıyla, gerekli kısa devre dayanımında her türlü mesnet, izolatör vb. aksesuar dahil,enerji analizörü modbus haberleşmeli modüler tip panoların çalışır vaziyette teslimi
A5: A-1.1 | B5: Dikili tip Ana Dağıtım Ve Kuvvet Panoları
A6: A-1.1.1 | B6: Ortak Alan Panosu | C6: LOKAL-Şalt ABB Schnider | D6: Ad. | E6: 1 | G6: =+E6*F6 -> 0
A7: C | B7: KABLOLAR
B8: Proje ve Elektrik Teknik Şartnamesine uygun Her nevi montaj malzemesi dahil (kablo bağı, yüksük vs.) çalışır halde teslimi
A9: C-1 | B9: Kuvvetli Akım Kabloları
A10: C-1.1 | B10: NHXMH Kablolar
A11: C-1.1.3 | B11: 3x1,5 mm2 NHXMH | C11: PRYSMIAN-NEXANS-ÖZNUR | D11: Mt. | E11: 75 | G11: =+E11*F11 -> 0
A12: C-1.1.4 | B12: 3x2,5 mm2 NHXMH | C12: PRYSMIAN-NEXANS-ÖZNUR | D12: Mt. | E12: 585 | G12: =+E12*F12 -> 0
A13: C-1.2 | B13: N2XH Kablolar
A14: C-1.2.5 | B14: 3x2,5 mm2 N2XH | C14: PRYSMIAN-NEXANS-ÖZNUR | D14: Mt. | E14: 75 | G14: =+E14*F14 -> 0
A15: C-2 | B15: Zayıf Akım Akım Kabloları
A16: C-2.1 | B16: Yangın Sistemi Kabloları
A17: C-2.1.4 | B17: 2x2x0,8+0,8 JH(st)H Fe-180 | C17: NEXANS-HCS-ERSE | D17: Mt. | E17: 75 | G17: =+E17*F17 -> 0
A18: C-2.1.8 | B18: 2x1.5 mm LIHCH FE180 | C18: NEXANS-HCS-ERSE | D18: Mt. | E18: 52.5 | G18: =+E18*F18 -> 0
A19: C-2.2 | B19: Seslendirme-Otomasyon Sistemi Kabloları
A20: C-2.2.5 | B20: 2x1,5 LIHCH | C20: NEXANS-HCS-ERSE | D20: Mt. | E20: 300 | G20: =+E20*F20 -> 0
A21: C-2.2.7 | B21: 4x1,5 LIHCH | C21: NEXANS-HCS-ERSE | D21: Mt. | E21: 150 | G21: =+E21*F21 -> 0
A22: C-2.2.8 | B22: 2x1.5 LIHCH Fe-180 | C22: NEXANS-HCS-ERSE | D22: Mt. | E22: 75 | G22: =+E22*F22 -> 0
A23: C-2.2.12 | B23: CAT 6 UTP Cable LSZH | C23: NEXANS-HCS-ERSE | D23: Mt. | E23: 75 | G23: =+E23*F23 -> 0
A24: D | B24: KABLO TAŞIYICILARI
A25: D-1 | B25: Sac Kablo Taşıyıcıları (TS. 914) h:40mm
B26: NOT: TÜN ASKI APARATLARI,DÖNÜŞLERİ, SOMUN VİDAT VB. HER TÜRLÜ ASKI APARAT DAHİL FİYAT VERİLECEKTİR. S 914 şartlarında proje ve Elektrik Teknik Şartnamesine uygun sıcak daldırma galvaniz sacdan imal edilmiş 40mm kenar yüksekliğinde 1/3 oranında delikli her nevi montaj aksesuarı , montajı dahil kablo çekimine hazır halde teslimi
A27: D-1.1 | B27: 100mm Kablo Tavası | C27: EAE STS | D27: Mt. | E27: 37.5 | G27: =+E27*F27 -> 0
A28: E | B28: HALOGENFREE PVC BORULAR-Halogenfree PVC Kaplı Çelik Spiral Boru-Galvanize Çelik Borular(EMT)
B29: Proje ve Elektrik Teknik Şartnamesine uygun her nevi ufak montaj malzemesi ve işçilik dahil çalışır halde teslimi Yanmaz özellikte olacak
A30: E-1 | B30: Q20 mm'ye kadar Halogenfree PVC Spiral Boru (Aks. Dahil) -Alev yaymaz | C30: PINARSAN-MUTLUSAN | D30: Mt. | E30: 300 | G30: =+E30*F30 -> 0
A31: F | B31: ANAHTAR PRİZ TESİSATLARI
B32: Proje ve Elektrik Teknik Şartnamesine uygun her nevi ufak montaj malzemesi (kasa,vidalı kaide,çerçeve,buat,buat plakası vb.) ve işçilik dahil çalışır halde teslimi
A33: F-1 | B33: Sıva Altı Anahtar Prizler (Genel Mahaller)
A34: F-1.30 | B34: Tekli Priz | C34: BTİCİNO LIVING NOW SERİSİ | D34: Ad. | E34: 15 | G34: =+E34*F34 -> 0
A35: G | B35: AYDINLATMA ARMATÜRLERİ
A36: G-1 | B36: Aydınlatma Armatür Montajı
B37: Proje ve Elektrik Teknik Şartnamesine uygun her nevi ufak montaj malzemesi(buat , buat plakası ,klemens v.b) ve işçilik dahil çalışır halde teslimi-Montaj
A38: G-1.5 | B38: Sıva altı - Sıva üstü kare spot (ıslak hacim) Kitli-Kitsiz | C38: Led Chip Markaları: Osram, Philips, Samsung | D38: Ad. | E38: 40 | G38: =+E38*F38 -> 0
A39: G-1.21 | B39: Sıva altı - Sıva üstü EXIT armatür | C39: ARSEL-EEC | D39: Ad. | E39: 5 | G39: =+E39*F39 -> 0
A40: G-1.38 | B40: Koridor Lineer Armatür 22W/mt | C40: Led Chip Markaları: Osram, Philips, Samsung | D40: Mt. | E40: 52.5 | G40: =+E40*F40 -> 0
...

Sheet ELEKTRİK DETAY-1
B1: AYDINLATMA TEKNİK ŞARTNAMESİ
B2: Sıra No | C2: Temsili Ürün Görseli | D2: Ürünün Teknik İsmi | E2: Teklif Edilen Ürün Görseli | F2: Ürünün Elektronik Özellikleri | G2: Ürünün Fiziksel Özellikleri | H2: Ürünün Ebatları Ürün Rengi | I2: Ürüne ait Led Chip, Driver, Sensör, Kit Markaları
B4: 1 | D4: Koridor Lineer Led | F4: CRI>80 P: 30 Watt/Metre V: 24V DC Φ=675 Lümen (Difüzörlü) Verim: 90 Lümen/Watt IP Sınıfı: IP20 Renk Sıcaklığı: 3000 Kelvin MacAdam 3-step 5mm 480 LED 24V Şerit Led (Yapışkanlı) | G4: Gövde; En az 20 mikron eloksalli alüminyum ekstrüzyon profil Montaj aparatı; alüminyum olmalıdır, Difüzör; opal polisitren malzemeden homojen ışık çıkışı sağlayan yüksek verimli olmalı, Montaj aparatları alüminyum paslanmaz olmalı, Enerji girişleri soket ile yapılmalıdır, Yan kapaklar UV korumali olmalı, Ahşap yüzeye montaj için uygun olmalı, Difüzör profil ile hem yüz olmalı (Oval değil) Ürünün enerji girişi gövdeden olmalı, | H4: Taban genişliği: 10mm, Yüksekliği: 6.15mm, Ürün uzunluğu 1200 mm olacaktır. 1 boy için 3 adet bağlantı parçası birim fiyata dahildir. Garanti süresi 3 yıldır. Ürünün renk sıcaklığı ve lümen değerleri sahada LüxMetre ile ölçülecektir. | I4: Led Chip Markaları: Nichia, Philips, Samsung Lütfen başka marka driver teklif etmeyiniz. Ürüne ait parçaların marka ve etiket bilgileri teslim alınırken veya alındıktan sonra kontrol edilecektir.
B5: 4 | D5: 120 Cm 36 W LED Etanj Armatür | F5: CRI>80 P: 36 Watt Φ=3210 Lümen Verim: 110 Lümen/Watt IP Sınıfı: IP65 Renk Sıcaklığı: 4000 Kelvin En az 2 saat acil aydınlatma kitli | G5: Gövde; plastik ekstrüzyon olmalı, Difüzör; homojen ışık çıkışı sağlayan yüksek verimli olmalı, Bitiş kapakları; PVC malzemeden UV dayanımı yüksek olmalı, Sabit ON/OFF akım trafolu, cosφ= 0,9 olmalı, Ürün kablo çıkışında Gizli IP67 conta ve bağlantısı yapılmış en az 1.5mt uzunluğunda 3x1.5mm2 kesitinde NHXMH türü cca sınıfı kablo olmalı. | I5: Led Chip Markaları: Nichia, Philips, Samsung Driver Markaları: Tridonic, Osram, Philips
B6: 5 | D6: 120 Cm 36 W LED Etanj Armatür -Kitli | F6: CRI>80 P: 36 Watt Φ=3210 Lümen Verim: 110 Lümen/Watt IP Sınıfı: IP65 Renk Sıcaklığı: 4000 Kelvin En az 2 saat acil aydınlatma kitli | G6: Gövde; plastik ekstrüzyon olmalı, Difüzör; homojen ışık çıkışı sağlayan yüksek verimli olmalı, Bitiş kapakları; PVC malzemeden UV dayanımı yüksek olmalı, Sabit ON/OFF akım trafolu, cosφ= 0,9 olmalı, Ürün kablo çıkışında Gizli IP67 conta ve bağlantısı yapılmış en az 1.5mt uzunluğunda 3x1.5mm2 kesitinde NHXMH türü cca sınıfı kablo olmalı. | I6: Led Chip Markaları: Nichia, Philips, Samsung Driver Markaları: Tridonic, Osram, Philips Acil Aydınlatma Kit Markaları: EEC, Arsel Acil Aydınlatma Kiti EN/IEC 60598-2-22 standartlarına uygun olmalıdır.
B7: 9 | D7: SLIM DOWN. S.Ü. DS13 300mm KARE 24W 3000K 80CRI SV BEYAZ(RAL9016) ON/OFF IR SENS. S 3S KITLI IP20 | F7: CRI>80 P: 24Watt IP Sınıfı: IP44 Renk Sıcaklığı: 3000 Kelvin En az 3 saat acil aydınlatma kitli Lens açısı: 95" | G7: Gövde; elektrostatik boyalı DKP metalden olmalı, Çerçeve: elektrostatik boyalı DKP metalden olmalı, Difüzör; opal polisitren malzemeden homojen ışık çıkışı sağlayan yüksek verimli olmalı, Gömme kullanıma uygun olmalı, Sabit akım trafolu, ON/OFF, cosφ= 0,9 olmalı, | H7: Garanti süresi 3 yıldır. Ürünün renk sıcaklığı ve lümen değerleri sahada LüxMetre ile ölçülecektir. | I7: Led Chip Markaları: Nichia, Philips, Samsung Driver Markaları: Tridonic, Osram, Philips, Ledvance Lütfen başka marka driver teklif etmeyiniz. Ürüne ait parçaların marka ve etiket bilgileri teslim alınırken veya alındıktan sonra kontrol edilecektir.
B8: 14 | D8: 60x60 Steril Panel LED Aydınlatma 4000 K | F8: Dim edilebilir olması lazım. | H8: Taban genişliği: 525x575mm, | I8: Led Chip Markaları: Nichia, Philips, Samsung Driver Markaları: Tridonic, Osram, Philips, Ledvance Lütfen başka marka driver teklif etmeyiniz. Ürüne ait parçaların marka ve etiket bilgileri teslim alınırken veya alındıktan sonra kontrol edilecektir.
B9: 15 | D9: 60x60 Steril Panel LED Aydınlatma 4000 K -Kitli | F9: Dim edilebilir olması lazım. | H9: Taban genişliği: 525x575mm, | I9: Led Chip Markaları: Nichia, Philips, Samsung Driver Markaları: Tridonic, Osram, Philips, Ledvance Acil Aydınlatma Kit Markaları: EEC, Beş-A, Cesa Acil Aydınlatma Kiti EN 60598-2-22, EN 61347-2-7, EN 61347-2-13, EN 62384, CE normlarına uygun olmalıdır. Lütfen başka marka kit ve driver teklif etmeyiniz. Ürüne ait parçaların marka ve etiket bilgileri teslim alınırken veya alındıktan sonra kontrol edilecektir.
C10: #VALUE! | D10: ACİL ÇIKIŞ ARMATÜRÜ | F10: CRI>80 E=10 Lux IP Sınıfı: IP30-IP40-IP55 Renk Sıcaklığı: 6500 Kelvin En az 2 saat acil aydınlatma kitli | G10: Gövde; Alüminyum extrüzyon olmalı, Panel; Şeffaf akrilik Yüksek sıcaklığa dayanıklı, endüstriyel tip Ni-Cd batarya 30 metreden görünebilirlik Tavana gömme tip olacaktır. | I10: Led Chip Markaları: Nichia, Philips, Samsung Driver Markaları: Tridonic, Osram, Philips Acil Aydınlatma Kit Markaları: EEC, Cesa, Altez, Arsel Acil Aydınlatma Kiti EN/IEC 60598-2-22 standartlarına uygun olmalıdır.
D11: ACİL AYDINLATMA KİTİ | F11: 220V AC Beslemeli EN 61347-2-7 Uyumlu Test Butonlu Yeşil Şarj LED Göstergeli Harici Röle Kontrollü NiCd/NiMH Bataryalı CE, EMC, LVD Ve RoHS Belgeli | G11: Polikarbon Gövdeli Class II İzolasyonlu 850°C Glow Wire Testine Uygun | I11: Acil Aydınlatma Kit Markaları: EEC, Cesa, Altez, Arsel, Acil Aydınlatma Kiti EN/IEC 60598-2-22 Standartlarına Uygun Olmalıdır
B12: 16 | D12: Varlık Sensörü ( cata marka )
B13: 25 | D13: Sıva Altı İkili Kare Spot | F13: CRI>80 P: 14Watt Φ=1420 Lümen Verim: 100 Lümen/Watt IP Sınıfı: IP20 Renk Sıcaklığı: 3000 Kelvin, MacAdam 3-step COB Led | G13: Gövde; elektrostatik boyalı alüminyum ekstrüzyon olmalı, Soğutucu: alüminyum enjeksiyon olmalı, Reflektör; alüminyum desenli olmalı, Reflektör camı: Temperli olmalı, Gömme kullanıma uygun olmalı, Led başlıklar hareketli olmalı, Sabit akım trafolu,ON/OFF, cosφ= 0,9 olmalı, Ürünün Kablo Ucunda 5'li yaylı tırnaklı klemens kullanılmalı, Kademe derinliği min 20mm olmalı (reflektör derinliği). | H13: Taban genişliği: 234x117mm, Yüksekliği: 90mm, Gövde RAL kodu: 9016 Garanti süresi 3 yıldır. Ürünün renk sıcaklığı ve lümen değerleri sahada LüxMetre ile çöçülecektir. | I13: Led Chip Markaları: Nichia, Philips, Samsung Driver Markaları: Tridonic, Osram, Philips, Ledvance Lütfen başka marka driver teklif etmeyiniz. Ürüne ait parçaların marka ve etiket bilgileri teslim alınırken veya alındıktan sonra kontrol edilecektir.
B14: 26 | D14: Sıva Altı İkili Kare Spot -Kitli | F14: CRI>80 P: 14Watt Φ=1420 Lümen Verim: 100 Lümen/Watt IP Sınıfı: IP20 Renk Sıcaklığı: 3000 Kelvin, MacAdam 3-step COB Led En az 2 saat acil aydınlatma kitli | G14: Gövde; elektrostatik boyalı alüminyum ekstrüzyon olmalı, Soğutucu: alüminyum enjeksiyon olmalı, Reflektör; alüminyum desenli olmalı, Reflektör camı: Temperli olmalı, Gömme kullanıma uygun olmalı, Led başlıklar hareketli olmalı, Sabit akım trafolu,ON/OFF, cosφ= 0,9 olmalı, Ürünün Kablo Ucunda 7'li yaylı tırnaklı klemens kullanılmalı, Kademe derinliği min 20mm olmalı (reflektör derinliği). | H14: Taban genişliği: 234x117mm, Yüksekliği: 90mm, Gövde RAL kodu: 9016 Garanti süresi 3 yıldır. Ürünün renk sıcaklığı ve lümen değerleri sahada LüxMetre ile çöçülecektir. | I14: Led Chip Markaları: Nichia, Philips, Samsung Driver Markaları: Tridonic, Osram, Philips, Ledvance Acil Aydınlatma Kit Markaları: EEC, Beş-A, Cesa Acil Aydınlatma Kiti EN 60598-2-22, EN 61347-2-7, EN 61347-2-13, EN 62384, CE normlarına uygun olmalıdır. Lütfen başka marka kit ve driver teklif etmeyiniz. Ürüne ait parçaların marka ve etiket bilgileri teslim alınırken veya alındıktan sonra kontrol edilecektir.
B15: 27 | D15: Sıva Altı Tekli Kare Spot | F15: CRI>85 P: 6Watt Φ=540 Lümen Verim: 90 Lümen/Watt IP Sınıfı: IP44 Renk Sıcaklığı: 3000 Kelvin, MacAdam 3-step COB Led | G15: Gövde; elektrostatik boyalı alüminyum enjeksiyon olmalı, Çerçeve: elektrostatik boyalı alüminyum enjeksiyon olmalı, Soğutucu: alüminyum enjeksiyon olmalı, Reflektör; alüminyum desenli olmalı, Reflektör camı: Temperli olmalı, Gömme kullanıma uygun olmalı, Sabit akım trafolu, ON/OFF, cosφ= 0,9 olmalı, Ürünün Kablo Ucunda 5'li yaylı tırnaklı klemens kullanılmalı, Kademe derinliği min 30mm olmalı (reflektör derinliği). | H15: Ürün çapı: 94mm, Taban genişliği: 85mm, Yüksekliği: 65mm, Gövde RAL kodu: 9016 Garanti süresi 3 yıldır. Ürünün renk sıcaklığı ve lümen değerleri sahada LüxMetre ile ölçülecektir. | I15: Led Chip Markaları: Nichia, Philips, Samsung Driver Markaları: Tridonic, Osram, Philips, Ledvance Lütfen başka marka driver teklif etmeyiniz. Ürüne ait parçaların marka ve etiket bilgileri teslim alınırken veya alındıktan sonra kontrol edilecektir.
B16: 28 | D16: Sıva Altı Tekli Kare Spot -Kitli | F16: CRI>85 P: 6Watt Φ=540 Lümen Verim: 90 Lümen/Watt IP Sınıfı: IP44 Renk Sıcaklığı: 3000 Kelvin, MacAdam 3-step COB Led En az 2 saat acil aydınlatma kitli | G16: Gövde; elektrostatik boyalı alüminyum enjeksiyon olmalı, Çerçeve: elektrostatik boyalı alüminyum enjeksiyon olmalı, Soğutucu: alüminyum enjeksiyon olmalı, Reflektör; alüminyum desenli olmalı, Reflektör camı: Temperli olmalı, Gömme kullanıma uygun olmalı, Sabit akım trafolu, ON/OFF, cosφ= 0,9 olmalı, Ürünün Kablo Ucunda 5'li yaylı tırnaklı klemens kullanılmalı, Kademe derinliği min 30mm olmalı (reflektör derinliği). | H16: Ürün çapı: 94mm, Taban genişliği: 85mm, Yüksekliği: 65mm, Gövde RAL kodu: 9016 Garanti süresi 3 yıldır. Ürünün renk sıcaklığı ve lümen değerleri sahada LüxMetre ile çöçülecektir. | I16: Led Chip Markaları: Nichia, Philips, Samsung Driver Markaları: Tridonic, Osram, Philips, Ledvance Acil Aydınlatma Kit Markaları: EEC, Beş-A, Cesa Acil Aydınlatma Kiti EN 60598-2-22, EN 61347-2-7, EN 61347-2-13, EN 62384, CE normlarına uygun olmalıdır. Lütfen başka marka kit ve driver teklif etmeyiniz. Ürüne ait parçaların marka ve etiket bilgileri teslim alınırken veya alındıktan sonra kontrol edilecektir.

Sheet 1.2-İNŞAAT-KÜTÜPHANE ZEMİN KAT
B1: İNŞAAT İŞLERİ
A2: SIRA NO | B2: İŞİN TANIMI | C2: BİRİM | D2: MİKTAR | E2: BİRİM FİYAT | F2: TUTAR
A3: 1 | B3: 2WR + 40x60x1,5 mm + Knauf İnsulation + 2WR Çelik Konstrüksiyonlu Bölme Duvar İmalatı | C3: m2 | D3: =43.5*2.8 -> 121.8 | E3: 1450 | F3: =+D3*E3 -> 176610 | G3: İSÜ YEŞİL PLAZA 18.09.2025 TARİHLİ SÖZLEŞME BR. FİYAT BAMAX
A4: 2 | B4: 2FX+40*60*1,5 mm+knauf insulation+2fx çelik konstrüksiyonlu bölme duvar imalatı | C4: MTÜL | D4: 20.21 | E4: 2422.48 | F4: =+D4*E4 -> 48958.321 | G4: 18 KASIM OANYLI BR. FİYAT BAMAX
A5: 3 | B5: WR+40*20*1,5 mm profil ile alçıpan asma tavan yapılması | C5: m2 | D5: =+D21 -> 42.69 | E5: 800 | F5: =+D5*E5 -> 34152 | G5: İSÜ YEŞİL PLAZA 18.09.2025 TARİHLİ SÖZLEŞME BR. FİYAT BAMAX
A6: 4 | B6: Tavan Saten Alçı | C6: m2 | D6: =+D8+D5 -> 1539.94 | E6: 250 | F6: =+D6*E6 -> 384985 | G6: İSÜ YEŞİL PLAZA 18.09.2025 TARİHLİ SÖZLEŞME BR. FİYAT BAMAX
A7: 5 | B7: Tavan boya yapılması (saten alçı üzeri) | C7: m2 | D7: =+D5 -> 42.69 | E7: 150 | F7: =+D7*E7 -> 6403.5 | G7: İSÜ YEŞİL PLAZA 18.09.2025 TARİHLİ SÖZLEŞME BR. FİYAT BAMAX
A8: 6 | B8: Tavan Siyah Boya Yapılması | C8: m2 | D8: =+D10+H8 -> 1497.25 | E8: 104.92 | F8: =+D8*E8 -> 157091.47 | G8: İSÜ YEŞİL PLAZA 18.09.2025 TARİHLİ SÖZLEŞME BR. FİYAT BAMAX | H8: 463.25
A9: 7 | B9: PVC malzeme ( fire eklenmemiştir) (karo) | C9: m2 | D9: 1034 | E9: =49.5474*13.15 -> 651.54831 | F9: =+D9*E9 -> 673700.95 | G9: 5.12.2025 ONAYLI FİYAT 13,15 £
A10: 8 | B10: PVC işçilik yapılması (karo) | C10: m2 | D10: =+D9 -> 1034 | E10: 242.3 | F10: =+D10*E10 -> 250538.2 | G10: İSÜ TOPKAPI YEŞİL PLAZA PANDEX 8.10.2025 SÖZ. BR. FİYAT
A11: 9 | B11: LVT özel yapıştırıcı malzeme+işçilik (sarfiyat 0,35 kg/m2) | C11: kg | D11: =+D10*0.35 -> 361.9 | E11: 143.44 | F11: =+D11*E11 -> 51910.936 | G11: İSÜ TOPKAPI YEŞİL PLAZA PANDEX 8.10.2025 SÖZ. BR. FİYAT
A12: 10 | B12: Self Leveling Yapılması (malzeme +işçilik 1 m2 de 1 mm kalınlık için 1,5 kg gider ortalama 16 mm kalınlıkta) (1 torba:25 kg) | C12: torba | D12: =+(D10*24)/25 -> 992.64 | E12: 1114.56 | F12: =+D12*E12 -> 1106356.8 | G12: İSÜ TOPKAPI YEŞİL PLAZA PANDEX 8.10.2025 SÖZ. BR. FİYAT
A13: 11 | B13: Epoksi işçiliği | C13: m2 | D13: =+D10 -> 1034 | E13: 222.91 | F13: =+D13*E13 -> 230488.94 | G13: İSÜ TOPKAPI YEŞİL PLAZA PANDEX 8.10.2025 SÖZ. BR. FİYAT
A14: 12 | B14: Çelik macun | C14: kg | D14: =+(1034*313.42)/15671.13 -> 20.679828 | E14: 188.99 | F14: =+D14*E14 -> 3908.2808 | G14: İSÜ TOPKAPI YEŞİL PLAZA PANDEX 8.10.2025 SÖZ. BR. FİYAT
A15: 13 | B15: Bally | C15: kg | D15: =+(1034*853.21)/15671.13 -> 56.295822 | E15: 300.45 | F15: =+D15*E15 -> 16914.08 | G15: İSÜ TOPKAPI YEŞİL PLAZA PANDEX 8.10.2025 SÖZ. BR. FİYAT
A16: 14 | B16: 5+5 temperli camlı ve alüminyum profilli cam bölme yapılması imalatı ve montajı (YÜKSEKLİK İÇİN YERİNDE KEŞİF YAPILMALIDIR.H:220 ALINMIŞTIR) | C16: m2 | D16: =(8.17+10.09+1.95)*2.2 -> 44.462 | E16: 5720 | F16: =+D16*E16 -> 254322.64 | G16: 24 kasım onaylı br. Fiyat çakra
A17: 15 | B17: Cam filmi kaplama DEGRADE (YÜKSEKLİK İÇİN YERİNDE KEŞİF YAPILMALIDIR.H:150 ALINMIŞTIR) | C17: m2 | D17: =20.21*1.5 -> 30.315 | E17: 750 | F17: =+D17*E17 -> 22736.25 | G17: 22 kasım onaylı br. Fiyat ALE
A18: 16 | B18: Otomatik kayar kapı (çift yöne- giriş sensörlü -çıkış sensörlü)205*220 (GİRİŞ VE ÇIKIŞ KAPILARI) (YERİNDE KEŞİF YAPILMALIDIR) | C18: adet | D18: 3 | E18: =+(4.51*78508.48)/3.99 -> 88740.162 | F18: =+D18*E18 -> 266220.48 | G18: 18 kasım onaylı br. Fiyat dorma kaba
A19: 17 | B19: Kütüphane giriş bitki | C19: adet | D19: 1 | E19: 120000 | F19: =+D19*E19 -> 120000 | G19: orhan beyden
A20: 18 | B20: WC Cubicle kabin H:210 KASTAMONU ENTEGRE (ayak boy dahil) (12 mt yerinde keşif yapılmalıdır) | C20: m² | D20: =12*2.1 -> 25.2 | E20: 3587 | F20: =+D20*E20 -> 90392.4 | G20: 4 kasım onaylı br. Fiyat wetcom kabin
A21: 19 | B21: Zemin Seramik Malzeme+İşçilik | C21: m2 | D21: 42.69 | E21: 1085 | F21: =+D21*E21 -> 46318.65 | G21: 14.08.2025 ÇANAKKALE MLP KALE SERAMİK 235 TL/M2(22.09.2025 GÜNCEL FİYATDA ALINDI)- İSÜ28.07.2025 SERAMİK İŞÇİLİK 850 TL/M2
A22: 20 | B22: Duvar Seramik Malzeme+İşçilik | C22: m2 | D22: =+(16.8*2*2.4)+(26.7*2.4)-(5*2.2) -> 133.72 | E22: 1085 | F22: =+D22*E22 -> 145086.2 | G22: 14.08.2025 ÇANAKKALE MLP KALE SERAMİK 235 TL/M2(22.09.2025 GÜNCEL FİYATDA ALINDI)- İSÜ28.07.2025 SERAMİK İŞÇİLİK 850 TL/M2
