Workbook
Name \0: #N/A
Name \a: #N/A
Name \aa: #REF!
Name \b: #REF!
Name \b: #REF!
Name \d: #REF!
Name \d: #REF!
Name \e: #REF!
Name \e: #REF!
Name \m: [1]ISITMA!#REF!
Name \m: [1]ISITMA!#REF!
Name \m: [1]ISITMA!#REF!
Name \m: #REF!
Name \m: #REF!
Name \n: #N/A
Name \p: #N/A
Name \Q: #REF!
Name \Q: #REF!
Name \rt: #REF!
Name \s: #REF!
Name \s: #REF!
Name \s1: #REF!
Name \s1: #REF!
Name \z: #REF!
Name \z: #REF!
Name _______________________________________________Tdb1: #REF!
Name _______________________________________________Tdb1: #REF!
Name _______________________________________________Tdb1_1: "#REF!"
Name _______________________________________________Tdb1_2: "#REF!"
Name _______________________________________________Tdb2: #REF!
Name _______________________________________________Tdb2: #REF!
Name _______________________________________________Tdb2_1: "#REF!"
Name _______________________________________________Tdb2_2: "#REF!"
Name _______________________________________________Twb1: #REF!
Name _______________________________________________Twb1: #REF!
Name _______________________________________________Twb1_1: "#REF!"
Name _______________________________________________Twb1_2: "#REF!"
Name _______________________________________________Twb2: #REF!
Name _______________________________________________Twb2: #REF!
Name _______________________________________________Twb2_1: "#REF!"
Name _______________________________________________Twb2_2: "#REF!"
Name ___________________KA1: #REF!
Name ___________________KA1: #REF!
Name ___________________KA2: #REF!
Name ___________________KA2: #REF!
Name ___________________KA3: #REF!
Name ___________________KA3: #REF!
Name ___________________KA4: #REF!
Name ___________________KA4: #REF!
Name ___________________KA5: #REF!
Name ___________________KA5: #REF!
Name ___________________KA6: #REF!
Name ___________________KA6: #REF!
Name ___________________KK10: #REF!
Name ___________________KK10: #REF!
Name ___________________KK11: #REF!
Name ___________________KK11: #REF!
Name ___________________KK12: #REF!
Name ___________________KK12: #REF!
Name ___________________KK13: #REF!

Sheet İCMAL
A1: İSÜ VADİ KAMPÜS BİYOBANKA-METABOLOMİC VE ORTAK ALANLAR(3.KAT) YAPIMI İŞİ İHALE DOSYASI
A2: SIRA NO | B2: İMALATIN ADI | C2: TUTAR
A3: GRUP-1 | B3: BİYOBANKA İŞLERİ
A4: 1 | B4: İNŞAAT YAPIM İŞLERİ (BİYOBANKA) | C4: =+'GRUP-1 BİYOBANKA İNŞ. YAP. İŞ.'!F72 -> 0
A5: 2 | B5: MOBİLYA YAPIM İŞLERİ (BİYOBANKA) | C5: =+'GRUP-1 BİYOBANKA MOB. YAP. İŞ.'!I35 -> 0
A6: 3 | B6: MEKANİK YAPIM İŞLERİ (BİYOBANKA) | C6: =+'GRUP-1 BİYOBANKA MEK. YAP. İŞ.'!H3 -> 0
A7: 4 | B7: ELEKTRİK YAPIM İŞLERİ (BİYOBANKA) | C7: =+'GRUP-1 BİYOBANKA ELEK. YAP. İŞ.'!F273 -> 0
B8: BİYOBANKA İŞLERİ TOPLAMI | C8: =SUM(C4:C7) -> 0
A9: GRUP-2 | B9: METABOLOMİC İŞLERİ
A10: 5 | B10: İNŞAAT YAPIM İŞLERİ (METABOLOMİC) | C10: =+'GRUP-2METABOLOMİC İNŞ. YAP. İŞ.'!F71 -> 0
A11: 6 | B11: MOBİLYA YAPIM İŞLERİ (METABOLOMİC) | C11: =+'GRUP-2METABOLOMİC MOB. YAP. İŞ.'!I25 -> 0
A12: 7 | B12: MEKANİK YAPIM İŞLERİ (METABOLOMİC) | C12: =+'GRUP-2METABOLOMİC MEK. YAP. İŞ.'!H3 -> 0
A13: 8 | B13: ELEKTRİK YAPIM İŞLERİ (METABOLOMİC) | C13: =+'GRUP-2 METABOLOMİC ELEK. YAP. '!F273 -> 0
B14: METABOLOMİC İŞLERİ TOPLAMI | C14: =SUM(C10:C13) -> 0
A15: GRUP-3 | B15: 3. KAT ORTAK ALAN İŞLERİ
A16: 9 | B16: İNŞAAT YAPIM İŞLERİ (ORTAK ALANLAR) | C16: =+'GRUP-3 ORTAK ALAN İNŞ. YAP. İŞ.'!F44 -> 0
A17: 10 | B17: MEKANİK YAPIM İŞLERİ (ORTAK ALANLAR) | C17: =+'GRUP-3 ORTAK ALAN MEK. İŞ.'!H3 -> 0
A18: 11 | B18: ELEKTRİK YAPIM İŞLERİ (ORTAK ALANLAR) | C18: =+'GRUP-3ORTAK ALAN ELEK. YAP. İŞ.'!F72 -> 0
B19: ORTAK ALAN İŞLERİ TOPLAMI | C19: =SUM(C16:C18) -> 0
B20: TOPLAM TUTAR | C20: =+C8+C14+C19 -> 0
A22: NOT : TUTARLAR KDV HARİÇTİR.
A23: NOT : YUKARIDAKİ İŞLER ŞARTNAMESİNE UYGUN YAPILACAK OLUP İŞİN SONUNDA KESİN HESAP YAPILACAKTIR.

Sheet GRUP-1

Sheet GRUP-1 BİYOBANKA İNŞ. YAP. İŞ.
A2: GRUP-1 BİYOBANKA İNŞAAT KEŞİF ÖZETİ
A4: SIRA NO | B4: İMALATIN ADI | C4: BİRİM | D4: MİKTARI | E4: BİRİM FİYAT | F4: TOPLAM
A5: 1 | B5: PVC - TARKETT OXIDE BLACK STEEL (FİRE EKLENMEMİŞTİR) | C5: M2 | D5: 1968.7013 | F5: =+D5*E5 -> 0
A6: 2 | B6: STERİL ALAN KONDAKTİF PVC - TARKETT IQ GRANİT SD 3096 467 CONDUCTIVE RULO) (FİRE EKLENMEMİŞTİR) | C6: M2 | D6: 183.71808 | F6: =+D6*E6 -> 0
A7: 3 | B7: PVC İŞÇİLİK (HER TÜRLÜ SARF MALZEME YÜKLENİCİYE AİTTİR) | C7: M2 | D7: 2152.4194 | F7: =+D7*E7 -> 0
A8: 4 | B8: H:10 CM KONDAKTİF PVC KEPLİ SÜPÜRGELİK MALZEME + İŞÇİLİK (FİRE EKLENMEMİŞTİR) | C8: MT | D8: 27.23448 | F8: =+D8*E8 -> 0
A9: 5 | B9: 300 DOZ ENDÜSTRİYEL ŞAP (8-9 CM ARASI) (BETON YÜKLENİCİYE AİT) | C9: M2 | D9: 3189.4044 | F9: =+D9*E9 -> 0
A10: 6 | B10: SERAMİK VİSTA FÜME MAT KÜTAHYA SERAMİK 60X120 ZEMİN MALZEME(FİRE EKLENMEMİŞTİR) | C10: M2 | D10: 45.03408 | F10: =+D10*E10 -> 0
A11: 7 | B11: SERAMİK VİSTA FÜME MAT KÜTAHYA SERAMİK 60X120 DUVAR MALZEME (FİRE EKLENMEMİŞTİR) (H:270 CM ALINMIŞTIR) | C11: M2 | D11: 703.794 | F11: =+D11*E11 -> 0
A12: 8 | B12: SERAMİK İŞÇİLİK 60X120 | C12: M2 | D12: 748.82808 | F12: =+D12*E12 -> 0
A13: 9 | B13: ISLAK HACİM ÇİMENTO ESASLI SÜRME İZOLASYON YAPILMASI MALZEME + İŞÇİLİK | C13: M2 | D13: 46.14792 | F13: =+D13*E13 -> 0
A14: 10 | B14: MUTFAK POLİÜRETAN İZOLASYON YAPILMASI MALZEME + İŞÇİLİK | C14: M2 | D14: 10.63608 | F14: =+D14*E14 -> 0
A15: 11 | B15: YÜKSELTİLMİŞ DÖŞEME.(FİRE EKLENMEMİŞTİR) (KALSİYUM SÜLFAT ÖZLÜ 30 MM ENKAPSÜL PLAKALI AYAKLI H:17 CM 60X60) | C15: M2 | D15: 35.29344 | F15: =+D15*E15 -> 0
A16: 12 | B16: MERMER PİETRA GREY MALZEME + İŞÇİLİK 3CM | C16: M2 | D16: 707.70336 | F16: =+D16*E16 -> 0
... A71: 67 | B71: 100x240 ALÜMİNYUM KASALI LAMİNAT KAPI | C71: adet | D71: 1 | F71: =+D71*E71 -> 0
B72: TOPLAM | F72: =SUM(F5:F71) -> 0

Sheet GRUP-1 BİYOBANKA MOB. YAP. İŞ.
A1: GRUP-1 BİYOBANKA MOBİLYA YAPIM İŞLERİ
A2: No | B2: İMALAT | F2: MİKTAR | G2: BİRİM | H2: BR FİYAT | I2: TOPLAM
A3: 1 | B3: Toplantı Masası 350*140*75h | F3: 1 | G3: Set | I3: =F3*H3 -> 0
B4: Metal Ayak | F4: 1 | G4: Adet
B5: Mdflam Üst Tabla | F5: 1 | G5: mTüle
A6: 2 | B6: Çalışma Ofisleri 70*140*75h | F6: 10 | G6: Set | I6: =F6*H6 -> 0
B7: Metal Ayak elektro Statik Toz Boyalı | F7: 10 | G7: Adet
B8: Mdflam Üst Tabla Beyaz Mdflam | F8: 10 | G8: Adet
B9: Keson | F9: 10 | G9: Adet
A10: 3 | B10: Hareketli mobilya
B11: Toplantı masası Sandalye | F11: 10 | G11: Adet | I11: =F11*H11 -> 0
B12: Çalışma Sandalyesi | F12: 10 | G12: Adet | I12: =F12*H12 -> 0
A13: 4 | B13: Mutfak Dolabı 280*60*210h | F13: 1 | G13: Set | I13: =F13*H13 -> 0
B14: Mdflam gövde | F14: 1 | G14: Adet
B15: Mdflam kapaklar | F15: 1 | G15: Adet
A16: 5 | B16: Soyunma Dolapları 120*45*210h | F16: 2 | G16: Set | I16: =F16*H16 -> 0
B17: 12 mm Kompak Gövde | F17: 1 | G17: Adet
B18: 12 mm Kompak Kapaklar | F18: 1 | G18: Adet
A19: 6 | B19: Kenar Tezgahlar Ve Alt Dolaplar Kule Sistemleri | F19: 100 | G19: mt | I19: =+H19*F19 -> 0
B20: Ya da 1,2mm Kalınlıkta AISI 304 Paslanmaz Çelikten İmal Üst Çalışma Tablası
B21: AISI 304 Paslanmaz Çelik Laboratuvar Tip Evyeler
B22: Elektrostatik Toz Boyalı Bazalı Sistem Taşıyıcı Çelik Konstrüksiyon
B23: 30*50*2mm Çelik Kutu Profilden İmal A Frame Yapıda Taşıyıcı Çelik Konstrüksiyon.
B24: Tezgah Altı Dolaplar G:900mm D:500mm Y:780mm 1mm Kalınlıkta Galvanizli Çelik Sactan Çift cidarlı olarak imal dolaplar. Cidarlar arasında ses engelleyici izolasyon dolgusu Dolapların iç ve dış yüzeylerinde Anti Bakteriyel (Gümüş İyonlu) Elektrostatik Toz Boya Kaplama Yavaş/Sessiz Kapanım Özellikli Menteşe ve Teleskopik Raylar.
B25: Paslanmaz Çelik musluk , Sıcak/Soğuk Çift Giriş Mix Tek Çıkışlı Musluklar. (Nouvo Far)
B26: Oturma Boşluğu Kapama Paneli
A27: 7 | B27: Ada Tezgah | F27: 1 | G27: Adet | I27: =+H27*F27 -> 0
B28: Ya da 1,2mm Kalınlıkta AISI 304 Paslanmaz Çelikten İmal Üst Çalışma Tablası
B29: AISI 304 Paslanmaz Çelik Laboratuvar Tip Evyeler
B30: Elektrostatik Toz Boyalı Bazalı Sistem Taşıyıcı Çelik Konstrüksiyon
B31: 30*50*2mm Çelik Kutu Profilden İmal A Frame Yapıda Taşıyıcı Çelik Konstrüksiyon.
B32: Tezgah Altı Dolaplar G:900mm D:500mm Y:780mm 1mm Kalınlıkta Galvanizli Çelik Sactan Çift cidarlı olarak imal dolaplar. Cidarlar arasında ses engelleyici izolasyon dolgusu Dolapların iç ve dış yüzeylerinde Anti Bakteriyel (Gümüş İyonlu) Elektrostatik Toz Boya Kaplama Yavaş/Sessiz Kapanım Özellikli Menteşe ve Teleskopik Raylar.
B33: Paslanmaz Çelik musluk , Sıcak/Soğuk Çift Giriş Mix Tek Çıkışlı Musluklar. (Nouvo Far)
B34: Oturma Boşluğu Kapama Paneli
H35: Toplam | I35: =SUM(I3:I34) -> 0

Sheet GRUP-1 BİYOBANKA MEK. YAP. İŞ.
A1: GRUP-1 BİYOBANKA MEKANİK TESİSAT İŞLERİ
A2: SIRA NO | B2: POZ NO | C2: YAPILACAK İŞİN CİNSİ | D2: MARKA | E2: MİKTAR | F2: BR. | G2: BİRİM FİYAT | H2: TUTAR TL
B3: *** | C3: GENEL ÜST TOPLAM | H3: =+H4+H34+H61+H120 -> 0
B4: A | C4: SIHHİ TESİSAT | H4: =SUM(H5:H33) -> 0
A5: 1 | C5: Lavabo veya eviye batarya montajı | D5: MONTAJ | E5: 14 | F5: ad | H5: =+E5*G5 -> 0
A6: =1+A5 -> 2 | C6: Engelli lavabo montajı | D6: MONTAJ | E6: 2 | F6: ad | H6: =+E6*G6 -> 0
A7: =1+A6 -> 3 | C7: Engelli lavabo batarya montajı | D7: MONTAJ | E7: 2 | F7: ad | H7: =+E7*G7 -> 0
A8: =1+A7 -> 4 | C8: Ara musluk montajı | D8: MONTAJ | E8: 29 | F8: ad | H8: =+E8*G8 -> 0
A9: =1+A8 -> 5 | C9: Sifon ve süzgeç montajı | D9: MONTAJ | E9: 15 | F9: ad | H9: =+E9*G9 -> 0
A10: =1+A9 -> 6 | C10: Göz duşu montajı | D10: MONTAJ | E10: 3 | F10: ad | H10: =+E10*G10 -> 0
A11: =1+A10 -> 7 | C11: Klozet ve klozet kapağı montajı | D11: MONTAJ | E11: 5 | F11: ad | H11: =+E11*G11 -> 0
A12: =1+A11 -> 8 | C12: Gömme rezervuar ve rezervuar kumandası montajı | D12: MONTAJ | E12: 5 | F12: ad | H12: =+E12*G12 -> 0
A13: =1+A12 -> 9 | C13: Engelli klozet ve klozet kapağı montajı | D13: MONTAJ | E13: 1 | F13: ad | H13: =+E13*G13 -> 0
A14: =1+A13 -> 10 | C14: Engelli gömme rezervuar ve rezervuar kumandası montajı | D14: MONTAJ | E14: 1 | F14: ad | H14: =+E14*G14 -> 0
A15: =1+A14 -> 11 | C15: Ankastre stop valf montajı | D15: MONTAJ | E15: 6 | F15: ad | H15: =+E15*G15 -> 0
A16: =1+A15 -> 12 | C16: Engelliler için katlanabilir tutunma barı montajı | D16: MONTAJ | E16: 1 | F16: ad | H16: =+E16*G16 -> 0
A17: =1+A16 -> 13 | C17: Engelliler için tutunma barı montajı | D17: MONTAJ | E17: 2 | F17: ad | H17: =+E17*G17 -> 0
... A29: =1+A28 -> 25 | C29: 20 Ø mm (3/4") Pirinç, preste imal edilmiş teflon (PTFE) contalı, tam geçişli, vidalı; (TS EN 13547) | D29: AYVAZ/DUYAR/UNTES | E29: 36 | F29: ad | H29: =+E29*G29 -> 0
A30: =1+A29 -> 26 | E30: 0 | H30: =+E30*G30 -> 0
A31: =1+A30 -> 27 | E31: 0 | H31: =+E31*G31 -> 0
A32: =1+A31 -> 28 | E32: 0 | H32: =+E32*G32 -> 0
E33: 0 | H33: =E33*G33 -> 0
B34: B | C34: ISITMA VE SOĞUTMA TESİSATI | E34: 0 | H34: =SUM(H35:H60) -> 0
A35: 1 | C35: VRF İÇ ÜNİTE FDT36KXZE1 (Ceiling Cassette - 4 Way) Qc : 3.6 Kw Qh : 4.0 Kw Qe : 0,04 Kw P.Source : 1 Ph.220/240 V 50 Hz Wiring : 3x1,5 mm Fuse : 6A Delayed Dimensions : HxWxD Unit : 236x840x840 Panel : 35x950x950 | D35: DAIKIN/MUADILI | E35: 5 | F35: ad | H35: =+E35*G35 -> 0
A36: =1+A35 -> 2 | C36: VRF İÇ ÜNİTE FDT56KXZE1 (Ceiling Cassette - 4 Way) Qc : 5.6 Kw Qh : 6.3 Kw Qe : 0,07 Kw P.Source : 1 Ph.220/240 V 50 Hz Wiring : 3x1,5 mm Fuse : 6A Delayed Dimensions : HxWxD Unit : 236x840x840 Panel : 35x950x950 | D36: DAIKIN/MUADILI | E36: 8 | F36: ad | H36: =+E36*G36 -> 0
A37: =1+A36 -> 3 | C37: VRF İÇ ÜNİTE FDT71KXZE1 (Ceiling Cassette - 4 Way) Qc : 7.1 Kw Qh : 8.0 Kw Qe : 0,08 Kw P.Source : 1 Ph.220/240 V 50 Hz Wiring : 3x1,5 mm Fuse : 6A Delayed Dimensions : HxWxD Unit : 236x840x840 Panel : 35x950x950 | D37: DAIKIN/MUADILI | E37: 3 | F37: ad | H37: =+E37*G37 -> 0
A38: =1+A37 -> 4 | C38: VRF İÇ ÜNİTE FDT112KXZE1 (Ceiling Cassette - 4 Way) Qc : 11.2 Kw Qh : 12.5 Kw Qe : 0,14 Kw P.Source : 1 Ph.220/240 V 50 Hz Wiring : 3x1,5 mm Fuse : 6A Delayed Dimensions : HxWxD Unit : 298x840x840 Panel : 35x950x950 | D38: DAIKIN/MUADILI | E38: 2 | F38: ad | H38: =+E38*G38 -> 0
A39: =1+A38 -> 5 | C39: VRF İÇ ÜNİTE FDT140KXZE1 (Ceiling Cassette - 4 Way) Qc : 14.0 Kw Qh : 16.0 Kw Qe : 0,14 Kw P.Source : 1 Ph.220/240 V 50 Hz Wiring : 3x1,5 mm Fuse : 6A Delayed Dimensions : HxWxD Unit : 298x840x840 Panel : 35x950x950 | D39: DAIKIN/MUADILI | E39: 6 | F39: ad | H39: =+E39*G39 -> 0
A40: =1+A39 -> 6 | C40: VRF DIŞ ÜNİTE DU-01 (Asıl) FDC280KXZE2 (10 Hp) (KXZ2 Heat Pump) Qc : 28.0 Kw Qh : 31.5 Kw Qe : 7.41 Kw Curr.(nom) : 12.2/ 12.0 Amper Curr.(max) : 20.1 Amper P.Source : 3 Ph.380/415 V 50 Hz Wiring : 4x4 mm Fuse : 32A Dimensions : HxWxD Unit : 1697x1350x720 | D40: DAIKIN/MUADILI | E40: 2 | F40: ad | H40: =+E40*G40 -> 0
A41: =1+A40 -> 7 | C41: VRF DIŞ ÜNİTE DU-02 (Yedek) FDC280KXZE2 (10 Hp) (KXZ2 Heat Pump) Qc : 28.0 Kw Qh : 31.5 Kw Qe : 7.41 Kw Curr.(nom) : 12.2/ 12.0 Amper Curr.(max) : 20.1 Amper P.Source : 3 Ph.380/415 V 50 Hz Wiring : 4x4 mm Fuse : 32A Dimensions : HxWxD Unit : 1697x1350x720 | D41: DAIKIN/MUADILI | E41: 2 | F41: ad | H41: =+E41*G41 -> 0
A42: =1+A41 -> 8 | C42: VRF DIŞ ÜNİTE FDC335KXRE2 (12 Hp) (KXE2 Heat Recovery) Qc : 33.5 Kw Qh : 33.5 Kw Qe : 9.65 Kw Curr.(nom) : 15.8/ 13.8Amper Curr.(max) : 21.2 Amper P.Source : 3 Ph.380/415 V 50 Hz Wiring : 4x6 mm Fuse : 32A Dimensions : HxWxD Unit : 1697x1350x720 Net Weigth : 305 kg | D42: DAIKIN/MUADILI | E42: 2 | F42: ad | H42: =+E42*G42 -> 0
A43: =1+A42 -> 9 | C43: VRF DIŞ ÜNİTE FDC400KXZRE2 (14 Hp) (KXZE2 Heat Recovery) Qc : 40.0 Kw Qh : 40.0 Kw Qe : 11.56 Kw Curr.(nom) : 18.5/ 15.9 Amper Curr.(max) : 30 Amper P.Source : 3 Ph.380/415 V 50 Hz Wiring : 4x6 mm Fuse : 32A Dimensions : HxWxD Unit : 2052x1350x720 Net Weigth : 372 kg | D43: DAIKIN/MUADILI | E43: 1 | F43: ad | H43: =+E43*G43 -> 0
A44: =1+A43 -> 10 | C44: AHU-02 ÜNİTESİ FDC450KXZE1 (16Hp) (KXE1 Heat Pump) Qc : 45.0 Kw Qh : 50.0 Kw Qe : 13.98 Kw/h Curr.(nom) : 22.4 / 20.4 Amper Curr.(max) : 32 Amper P.Source : 3 Ph.380/415 V 50 Hz Wiring : 4x6 mm Fuse : 32A Dimensions : HxWxD Unit : 2048x1350x720 Net Weigth : 317 kg | D44: DAIKIN/MUADILI | E44: 1 | F44: ad | H44: =+E44*G44 -> 0
A45: =1+A44 -> 11 | C45: AHU-02 ÜNİTESİ FDC500KXZE1 (18Hp) (KXE1 Heat Pump) Qc : 50.0 Kw Qh : 56.0 Kw Qe : 13.97 Kw/h Curr.(nom) : 22.6 / 21.8Amper Curr.(max) : 42.4 Amper P.Source : 3 Ph.380/415 V 50 Hz Wiring : 4x10 mm Fuse : 40A Dimensions : HxWxD Unit : 2048x1350x720 Net Weigth : 370 kg | D45: DAIKIN/MUADILI | E45: 1 | F45: ad | H45: =+E45*G45 -> 0
A46: =1+A45 -> 12 | C46: AHU-02 ÜNİTESİ FDC560KXZE1 (20Hp) (KXE1 Heat Pump) Qc : 56.0 Kw Qh : 63.0 Kw Qe : 16.62 Kw/h Curr.(nom) : 26.9 / 25.8 Amper Curr.(max) : 42.4 Amper P.Source : 3 Ph.380/415 V 50 Hz Wiring : 4x10 mm Fuse : 40A Dimensions : HxWxD Unit : 2048x1350x720 Net Weigth : 370 kg | D46: DAIKIN/MUADILI | E46: 3 | F46: ad | H46: =+E46*G46 -> 0
A47: =1+A46 -> 13 | C47: AHU-01 ÜNİTESİ FDC280KXZE1 (10 Hp) (KXZ2 Heat Pump) Qc : 28.0 Kw Qh : 31.5 Kw Qe : 7.28 Kw Curr.(nom) : 11.9 / 12.0Amper Curr.(max) : 21.2 Amper P.Source : 3 Ph.380/415 V 50 Hz Wiring : 4x4 mm Fuse : 32A Dimensions : HxWxD Unit : 1690x1350x720 Net Weigth : 272 kg | D47: DAIKIN/MUADILI | E47: 2 | F47: ad | H47: =+E47*G47 -> 0
... A57: =1+A56 -> 23 | C57: (1") ø 35,t=13 mm.kauçuk esaslı prefabrik boru izolesi | D57: ODE/MUADILI | E57: 43.2 | F57: mt | H57: =+E57*G57 -> 0
A58: =1+A56 -> 23 | C58: Vakum Ceketli Paslanmaz Vakum Hattı | E58: 162 | F58: mt | H58: =+E58*G58 -> 0
A59: =1+A57 -> 24 | C59: Likit Azot Tankı - 6,0 Ton | E59: 2 | F59: Adet | H59: =+E59*G59 -> 0
E60: 0 | H60: =E60*G60 -> 0
B61: C | C61: HAVALANDIRMA TESİSATI | E61: 0 | H61: =SUM(H62:H119) -> 0
A62: 1 | C62: EF-01 Radyal Fan - 500m3/h, 150Pa | D62: S&P/VENCO/MUADILI | E62: 2 | F62: ad | H62: =+E62*G62 -> 0
A63: =1+A62 -> 2 | C63: EF-02-03 Salyangoz Tipi Ergzoz Fan - 1.400m3/h, 200Pa | D63: S&P/VENCO/MUADILI | E63: 3 | F63: ad | H63: =+E63*G63 -> 0
A64: =1+A63 -> 3 | C64: EF-04 Geriye Eğik Seyrek Kanatlı Fan - 250m3/h, 400Pa | D64: S&P/VENCO/MUADILI | E64: 3 | F64: ad | H64: =+E64*G64 -> 0
A65: =1+A64 -> 4 | C65: EF-05-06 Geriye Eğik Seyrek Kanatlı Fan - 500m3/h, 400Pa | D65: S&P/VENCO/MUADILI | E65: 3 | F65: ad | H65: =+E65*G65 -> 0
A66: =1+A65 -> 5 | C66: IGK-01 Tavan Tipi Isı Geri Kazanım Cihazı (Cihaz Seçimi İçin Bknz. IGK-01_Cihaz Secimi.jpeg) | D66: S&P/VENCO/AERA/MUADILI | E66: 2 | F66: ad | H66: =+E66*G66 -> 0
A67: =1+A66 -> 6 | C67: AHU-01 HİJYENİK KLİMA SANTRALİ 100% Taze Hava / Dış Ünite / MMC+DDC PANO / Yatay / Plakalı Isı Geri Kazanım (Cihaz Seçimi İçin Bknz. EC-110-Rev0_AHU-01_PER_18.pdf) | D67: SYSTEMAİR/DAIKIN/MUADILI | E67: 1 | F67: ad | H67: =+E67*G67 -> 0
A68: =1+A67 -> 7 | C68: AHU-02 KLİMA SANTRALİİ 100% Taze Hava / İç Ünite / MMC+DDC PANO / Yatay / Plakalı Isı Geri Kazanım (Cihaz Seçimi İçin Bknz. EC-110-Rev1_AHU-02_PER_18.pdf) | D68: SYSTEMAİR/DAIKIN/MUADILI | E68: 1 | F68: ad | H68: =+E68*G68 -> 0
A69: =1+A68 -> 8 | C69: 150 x 150 Düz kanatlı Kare Alüminyum Anemostat - Planium Box Dahil. | D69: ELEKTROTEKNİK/FİTATEKNİK/DOĞUŞ | E69: 15 | F69: ad | H69: =+E69*G69 -> 0
A70: =1+A69 -> 9 | C70: 225 x 225 Düz kanatlı Kare Alüminyum Anemostat - Planium Box Dahil. | D70: ELEKTROTEKNİK/FİTATEKNİK/DOĞUŞ | E70: 6 | F70: ad | H70: =+E70*G70 -> 0
A71: =1+A70 -> 10 | C71: 300 x 300 Düz kanatlı Kare Alüminyum Anemostat - Planium Box Dahil. | D71: ELEKTROTEKNİK/FİTATEKNİK/DOĞUŞ | E71: 8 | F71: ad | H71: =+E71*G71 -> 0
A72: =1+A71 -> 11 | C72: 375 x 375 Düz kanatlı Kare Alüminyum Anemostat - Planium Box Dahil. | D72: ELEKTROTEKNİK/FİTATEKNİK/DOĞUŞ | E72: 8 | F72: ad | H72: =+E72*G72 -> 0
A73: =1+A72 -> 12 | C73: 450 x 450 Düz kanatlı Kare Alüminyum Anemostat - Planium Box Dahil. | D73: ELEKTROTEKNİK/FİTATEKNİK/DOĞUŞ | E73: 5 | F73: ad | H73: =+E73*G73 -> 0
A74: =1+A73 -> 13 | C74: 525 x 525 Düz kanatlı Kare Alüminyum Anemostat - Planium Box Dahil. | D74: ELEKTROTEKNİK/FİTATEKNİK/DOĞUŞ | E74: 8 | F74: ad | H74: =+E74*G74 -> 0
... A117: =1+A116 -> 56 | C117: Kauçuk köpüğü yalıtım malzemesi ile kanal izolesi 19mm (Hijyenik klima santrallerin üfleme ile emiş kanallarına + klima santrallerin üfleme kanallarına uygulanacak) | D117: ODE/MUADILI | E117: 1506.186 | F117: m2 | H117: =+E117*G117 -> 0
A118: =1+A117 -> 57 | E118: 0 | H118: =+E118*G118 -> 0
E119: 0 | H119: =+E119*G119 -> 0
B120: D | C120: YANGIN TESİSATI | E120: 0 | H120: =SUM(H121:H155) -> 0
A121: 1 | C121: Dik DN 15 standart uygulamalar için otomatik yangın sprinkleri - Açılma sıcaklığı 68ºC (Not : Hızlı tepkimeli olacak.) | D121: AYVAZ/DUYAR/UNTES | E121: 125 | F121: ad | H121: =+E121*G121 -> 0
A122: =1+A121 -> 2 | C122: Dik DN 15 standart uygulamalar için otomatik yangın sprinkleri - Açılma sıcaklığı 93ºC (Not : Hızlı tepkimeli olacak.) | D122: AYVAZ/DUYAR/UNTES | E122: 5 | F122: ad | H122: =+E122*G122 -> 0
A123: =1+A122 -> 3 | C123: Sarkık DN 15 standart uygulamalar için otomatik yangın sprinkleri - Açılma sıcaklığı 68ºC (Not : Hızlı tepkimeli ve rozetli olacak.) | D123: AYVAZ/DUYAR/UNTES | E123: 130 | F123: ad | H123: =+E123*G123 -> 0
A124: =1+A123 -> 4 | C124: 100 cm uzunluğunda sprinker hortum ve bağlantı seti | D124: AYVAZ/KAYSE/UNTES | E124: 130 | F124: takım | H124: =+E124*G124 -> 0
A125: =1+A124 -> 5 | C125: DN 25 30 mt TS EN 671-1 normlarında tüplü model yangın dolabı -Sıva Altı Plazma Serisi *** 2" - Stroz Kaplinli Vana ***Tüp Haznesi Altta ***Hortum Uzunluğu 1" 30 mt. *** 2 Gözlü (1 Göz Hortum ve Bağlantı Elemanı, 2. Göz Yangın Tüpü) *** Gövde Sac Kalınlığı 1,5 mm. *** Ön Cam Siyah Cam Üzeri Yang. Sembolleri | D125: FETAŞ/OCAKALR/MUADILI | E125: 2 | F125: ad | H125: =+E125*G125 -> 0
A126: =1+A125 -> 6 | C126: BB011 Rezerv Alan Mahali Gazlı Söndürme Sistem Kulumu -Borulama ve Kablolama İmatları -Uygun Kapasite FM200 Gaz Temini -Kontrol Paneli ve Elektronik Ekipman Temini -Oda Sızdırmazlık Testi -Devreye Alma - Mühendislik İşleri -Halon Bankası İçin Numune Alınması ve Muayene İşleri Dahil | D126: HONEYWELL/MUADILI | E126: 1 | F126: set | H126: =+E126*G126 -> 0
A127: =1+A126 -> 7 | C127: BB010 Azot Tank Alanı Mahali Gazlı Söndürme Sistem Kulumu -Borulama ve Kablolama İmatları -Uygun Kapasite FM200 Gaz Temini -Kontrol Paneli ve Elektronik Ekipman Temini -Oda Sızdırmazlık Testi -Devreye Alma - Mühendislik İşleri -Halon Bankası İçin Numune Alınması ve Muayene İşleri Dahil | D127: HONEYWELL/MUADILI | E127: 1 | F127: set | H127: =+E127*G127 -> 0
A128: =1+A127 -> 8 | C128: ÇİFT KİTLEMELİ PRE-ACTION VANA - DN150 | D128: AYVAZ/DUYAR/UNTES | E128: 1 | F128: ad | H128: =+E128*G128 -> 0
A129: =1+A128 -> 9 | C129: Dn 150 izlenebilir flanş arası sıkıştırmalı kelebek vana | D129: AYVAZ/DUYAR/UNTES | E129: 1 | F129: ad | H129: =+E129*G129 -> 0
A130: =1+A129 -> 10 | C130: Dn 150 yangın çek vana | D130: AYVAZ/DUYAR/UNTES | E130: 1 | F130: ad | H130: =+E130*G130 -> 0
A131: =1+A130 -> 11 | C131: Dn 150 su akış anahtarı | D131: AYVAZ/DUYAR/UNTES | E131: 1 | F131: ad | H131: =+E131*G131 -> 0
A132: =1+A131 -> 12 | C132: DN 50 test ve drenaj vanası, dişli, pirinç | D132: AYVAZ/DUYAR/UNTES | E132: 1 | F132: ad | H132: =+E132*G132 -> 0
A133: =1+A132 -> 13 | C133: Manometre ø 100 mm 15 atmosfer kadar bölüntülü | D133: PAKKENS/MONEKS/MUAIDLI | E133: 1 | F133: ad | H133: =+E133*G133 -> 0
... A150: =1+A149 -> 30 | C150: Yağlı boya ile boru boyanması ø 100 mm - 150 mm, (4" - 6") arası (6") dahil - (YANGIN TESİSAT) | D150: TSE | E150: 81 | F150: mt | H150: =+E150*G150 -> 0
A151: =1+A150 -> 31 | H151: =+E151*G151 -> 0
A152: =1+A151 -> 32 | H152: =+E152*G152 -> 0
A153: =1+A152 -> 33 | H153: =+E153*G153 -> 0
A154: =1+A153 -> 34 | H154: =+E154*G154 -> 0
H155: =+E155*G155 -> 0
B156: *** | H156: =SUM(H4:H155)/2 -> 0

Sheet GRUP-1 BİYOBANKA ELEK. YAP. İŞ.
A1: GRUP-1 BİYOBANKA ELEKTRİK TESİSAT İŞLERİ KEŞFİ
A2: POZ | B2: İŞİN TANIMI | C2: SEÇİLEN MARKA | D2: BİRİM | E2: MİKTAR | F2: POZ BİRİM FİYAT | G2: POZ TOPLAM TUTAR
A3: A | B3: OG/ UPS/ SAC PANOLAR
B4: NOT: TÜM PANOLAR PROJE VE TEKHAT ŞEMALARI DİKKATE ALINARAK SET OLARAK ŞALT MALZEME DAHİL FİYAT VERİLECEKTİR.Proje ve Elektrik Teknik Şartnameye uygun önceden kısa devre hesaplarının yapılarak kontrollüğe onaylatılmak kaydıyla, gerekli kısa devre dayanımında her türlü mesnet, izolatör vb. aksesuar dahil,enerji analizörü modbus haberleşmeli modüler tip panoların çalışır vaziyette teslimi
A5: A-1.1 | B5: Dikili tip Ana Dağıtım Ve Kuvvet Panoları
A6: A-1.1.1 | B6: ADP | C6: LOKAL-Şalt ABB Schnider | D6: Ad. | E6: 1 | G6: =+E6*F6 -> 0
A7: A-1.1.2 | B7: 2K MCC1 | C7: LOKAL-Şalt ABB Schnider | D7: Ad. | E7: 1 | G7: =+E7*F7 -> 0
A8: A-1.1.3 | B8: 2K MCC2 | C8: LOKAL-Şalt ABB Schnider | D8: Ad. | E8: 1 | G8: =+E8*F8 -> 0
A9: A-1.1.4 | B9: 2K KDP | C9: LOKAL-Şalt ABB Schnider | D9: Ad. | E9: 1 | G9: =+E9*F9 -> 0
A10: A-1.1.5 | B10: 2K-KDUP | C10: LOKAL-Şalt ABB Schnider | D10: Ad. | E10: 1 | G10: =+E10*F10 -> 0
A11: A-1.1.6 | B11: 2K-DDC | C11: LOKAL-Şalt ABB Schnider | D11: Ad. | E11: 1 | G11: =+E11*F11 -> 0
A12: A-1.1.7 | B12: ATS 800A/800A Anapano içerisine konulacak | C12: ABB Schnider | D12: Ad. | E12: 1 | G12: =+E12*F12 -> 0
A13: A-3 | B13: KESİNTİSİZ GÜÇ KAYNAKLARI
B14: Aşağıda Belirtilen Malzeme/Sistemlerin temini, Şantiye içinde yatay/dikey Taşıma İşleri, Montajları için gerekli kontrol, kumanda vb. kablajların yapılması ve Devreye Alma İşleri Dahildir.
B15: 30 DAKİKA BEKLEME SÜRELİ UPS
A16: A-3.1 | B16: 120 kVA 380V/380V UPS tam yükte 30 dakika çalışabilen aküler , dc kablolama dahil Hot swap olacak ana kabin minimum 200KVA ana kasa 2 CPU lu olacak 20KVA UPS blokları olacaktır. | C16: Vertiv-Schneider-Inform-Power | D16: Set | E16: 1 | G16: =+E16*F16 -> 0
A17: C | B17: KABLOLAR
B18: Proje ve Elektrik Teknik Şartnamesine uygun Her nevi montaj malzemesi dahil (kablo bağı, yüksük vs.) çalışır halde teslimi
A19: C-1 | B19: Kuvvetli Akım Kabloları
A20: C-1.1 | B20: NHXMH Kablolar
A21: C-1.1.1 | B21: 2x1,5 mm2 LIHCH | C21: PRYSMIAN-NEXANS-ÖZNUR | D21: Mt. | E21: 750 | G21: =+E21*F21 -> 0
A22: C-1.1.3 | B22: 3x1,5 mm2 NHXMH | C22: PRYSMIAN-NEXANS-ÖZNUR | D22: Mt. | E22: 1500 | G22: =+E22*F22 -> 0
A23: C-1.1.4 | B23: 3x2,5 mm2 NHXMH | C23: PRYSMIAN-NEXANS-ÖZNUR | D23: Mt. | E23: 11977.5 | G23: =+E23*F23 -> 0
A24: C-1.1.5 | B24: 3x4 mm2 NHXMH | C24: PRYSMIAN-NEXANS-ÖZNUR | D24: Mt. | E24: 2977.5 | G24: =+E24*F24 -> 0
A25: C-1.1.6 | B25: 3x6 mm2 NHXMH | C25: PRYSMIAN-NEXANS-ÖZNUR | D25: Mt. | E25: 562.5 | G25: =+E25*F25 -> 0
A26: C-1.2 | B26: N2XH Kablolar
A27: C-1.2.5 | B27: 3x2,5 mm2 N2XH | C27: PRYSMIAN-NEXANS-ÖZNUR | D27: Mt. | E27: 1500 | G27: =+E27*F27 -> 0
A28: C-1.2.29 | B28: 4x 70 mm2 N2XH | C28: PRYSMIAN-NEXANS-ÖZNUR | D28: Mt. | E28: 60 | G28: =+E28*F28 -> 0
A29: C-1.2.30 | B29: 4x 50 mm2 N2XH | C29: PRYSMIAN-NEXANS-ÖZNUR | D29: Mt. | E29: 60 | G29: =+E29*F29 -> 0
A30: C-1.2.32 | B30: 4x 25 mm2 N2XH | C30: PRYSMIAN-NEXANS-ÖZNUR | D30: Mt. | E30: 45 | G30: =+E30*F30 -> 0
A31: C-1.2.36 | B31: 5x4 mm2 N2XH | C31: PRYSMIAN-NEXANS-ÖZNUR | D31: Mt. | E31: 375 | G31: =+E31*F31 -> 0
A32: C-1.2.37 | B32: 5x6 mm2 N2XH | C32: PRYSMIAN-NEXANS-ÖZNUR | D32: Mt. | E32: 375 | G32: =+E32*F32 -> 0
A33: C-1.2.38 | B33: 5x10 mm2 N2XH | C33: PRYSMIAN-NEXANS-ÖZNUR | D33: Mt. | E33: 270 | G33: =+E33*F33 -> 0
A34: C-1.2.39 | B34: 5x16 mm2 N2XH | C34: PRYSMIAN-NEXANS-ÖZNUR | D34: Mt. | E34: 120 | G34: =+E34*F34 -> 0
A35: C-1.2.40 | B35: 1x240 mm2 N2XH | C35: PRYSMIAN-NEXANS-ÖZNUR | D35: Mt. | E35: 2460 | G35: =+E35*F35 -> 0
A36: C-1.2.42 | B36: 1x150 mm2 N2XH | C36: PRYSMIAN-NEXANS-ÖZNUR | D36: Mt. | E36: 1485 | G36: =+E36*F36 -> 0
A37: C-1.2.44 | B37: 1x 95 mm2 N2XH | C37: PRYSMIAN-NEXANS-ÖZNUR | D37: Mt. | E37: 135 | G37: =+E37*F37 -> 0
A38: C-1.3 | B38: N2XH Fe-180 Kablolar
A39: C-1.3.11 | B39: 1x185 mm² N2XH FE-180 (BIO Ozel 800kVA Jenerator ADP beslemesi için) | C39: PRYSMIAN-NEXANS-ÖZNUR | D39: Mt. | E39: 3420 | G39: =+E39*F39 -> 0
A40: C-1.5 | B40: 07Z1-U/R Kablolar
A41: C-1.5.6 | B41: 1x16 mm2 O7Z1-U/R | C41: PRYSMIAN-NEXANS-ÖZNUR | D41: Mt. | E41: 45 | G41: =+E41*F41 -> 0
A42: C-1.5.7 | B42: 1x25 mm2 O7Z1-U/R | C42: PRYSMIAN-NEXANS-ÖZNUR | D42: Mt. | E42: 60 | G42: =+E42*F42 -> 0
A43: C-1.5.8 | B43: 1x35 mm2 O7Z1-U/R | C43: PRYSMIAN-NEXANS-ÖZNUR | D43: Mt. | E43: 60 | G43: =+E43*F43 -> 0
A44: C-1.5.11 | B44: 1x95 mm2 O7Z1-U/R | C44: PRYSMIAN-NEXANS-ÖZNUR | D44: Mt. | E44: 225 | G44: =+E44*F44 -> 0
A45: C-1.5.13 | B45: 1x150 mm2 O7Z1-U/R | C45: PRYSMIAN-NEXANS-ÖZNUR | D45: Mt. | E45: 262.5 | G45: =+E45*F45 -> 0
A46: C-1.5.15 | B46: 1x240 mm2 O7Z1-U/R | C46: PRYSMIAN-NEXANS-ÖZNUR | D46: Mt. | E46: 277.5 | G46: =+E46*F46 -> 0
A47: C-2 | B47: Zayıf Akım Akım Kabloları
A48: C-2.1 | B48: Yangın Sistemi Kabloları
A49: C-2.1.4 | B49: 2x2x0,8+0,8 JH(st)H Fe-180 | C49: NEXANS-HCS-ERSE | D49: Mt. | E49: 1500 | G49: =+E49*F49 -> 0
A50: C-2.1.8 | B50: 2x1.5 mm LIHCH FE180 | C50: NEXANS-HCS-ERSE | D50: Mt. | E50: 450 | G50: =+E50*F50 -> 0
A51: C-2.2 | B51: Seslendirme-Otomasyon Sistemi Kabloları
A52: C-2.2.5 | B52: 2x1,5 LIHCH | C52: NEXANS-HCS-ERSE | D52: Mt. | E52: 6000 | G52: =+E52*F52 -> 0
A53: C-2.2.7 | B53: 4x1,5 LIHCH | C53: NEXANS-HCS-ERSE | D53: Mt. | E53: 3000 | G53: =+E53*F53 -> 0
A54: C-2.2.8 | B54: 2x1.5 LIHCH Fe-180 | C54: NEXANS-HCS-ERSE | D54: Mt. | E54: 1500 | G54: =+E54*F54 -> 0
A55: C-2.2.11 | B55: 10x1.5 LIHCH Fe-180 | C55: NEXANS-HCS-ERSE | D55: Mt. | E55: 112.5 | G55: =+E55*F55 -> 0
A56: C-2.2.12 | B56: CAT 6 UTP Cable LSZH | C56: NEXANS-HCS-ERSE | D56: Mt. | E56: 150 | G56: =+E56*F56 -> 0
A57: C-2.3 | B57: TV Sistemi Kabloları
A58: C-2.4 | B58: Telefon Sistemi
A59: C-2.6 | B59: Kartlı Geçiş Sistemi Kabloları
A60: C-2.6.1 | B60: 2x1 LIHCH | C60: NEXANS-HCS-ERSE | D60: Mt. | E60: 750 | G60: =+E60*F60 -> 0
A61: C-2.6.2 | B61: 4x1 LIHCH | C61: NEXANS-HCS-ERSE | D61: Mt. | E61: 225 | G61: =+E61*F61 -> 0
A62: C-2.6.4 | B62: 8x0,75 LIHCH | C62: NEXANS-HCS-ERSE | D62: Mt. | E62: 225 | G62: =+E62*F62 -> 0
A63: C-2.6.5 | B63: 6x0,22 LIHCH | C63: NEXANS-HCS-ERSE | D63: Mt. | E63: 5100 | G63: =+E63*F63 -> 0
A64: D | B64: KABLO TAŞIYICILARI
A65: D-1 | B65: Sac Kablo Taşıyıcıları (TS. 914) h:40mm
B66: NOT: TÜN ASKI APARATLARI,DÖNÜŞLERİ, SOMUN VİDAT VB. HER TÜRLÜ ASKI APARAT DAHİL FİYAT VERİLECEKTİR. S 914 şartlarında proje ve Elektrik Teknik Şartnamesine uygun sıcak daldırma galvaniz sacdan imal edilmiş 40mm kenar yüksekliğinde 1/3 oranında delikli her nevi montaj aksesuarı , montajı dahil kablo çekimine hazır halde teslimi
A67: D-1.1 | B67: 100mm Kablo Tavası | C67: EAE STS | D67: Mt. | E67: 375 | G67: =+E67*F67 -> 0
A68: D-1.6 | B68: 100mm Kablo Tavası Kapağı | C68: EAE STS | D68: Mt. | E68: 30 | G68: =+E68*F68 -> 0
A69: D-1.7 | B69: 100mm Kablo Merdiveni | C69: EAE STS | D69: Mt. | E69: 37.5 | G69: =+E69*F69 -> 0
A70: D-1.8 | B70: 200mm Kablo Tavası | C70: EAE STS | D70: Mt. | E70: 270 | G70: =+E70*F70 -> 0
A71: D-1.13 | B71: 200mm Kablo Tavası Kapağı | C71: EAE STS | D71: Mt. | E71: 37.5 | G71: =+E71*F71 -> 0
A72: D-1.15 | B72: 300mm Kablo Tavası | C72: EAE STS | D72: Mt. | E72: 135 | G72: =+E72*F72 -> 0
A73: D-1.20 | B73: 300mm Kablo Tavası Kapağı | C73: EAE STS | D73: Mt. | E73: 37.5 | G73: =+E73*F73 -> 0
A74: D-1.29 | B74: 500mm Kablo Tavası | C74: EAE STS | D74: Mt. | E74: 150 | G74: =+E74*F74 -> 0
A75: D-1.34 | B75: 500mm Kablo Tavası Kapağı | C75: EAE STS | D75: Mt. | E75: 37.5 | G75: =+E75*F75 -> 0
A76: E | B76: HALOGENFREE PVC BORULAR-Halogenfree PVC Kaplı Çelik Spiral Boru-Galvanize Çelik Borular(EMT)
B77: Proje ve Elektrik Teknik Şartnamesine uygun her nevi ufak montaj malzemesi ve işçilik dahil çalışır halde teslimi Yanmaz özellikte olacak
A78: E-1 | B78: Q20 mm'ye kadar Halogenfree PVC Spiral Boru (Aks. Dahil) -Alev yaymaz | C78: PINARSAN-MUTLUSAN | D78: Mt. | E78: 7500 | G78: =+E78*F78 -> 0
A79: E-2 | B79: Q32 mm'ye kadar Halogenfree PVC Spiral Boru (Aks. Dahil) -Alev yaymaz | C79: PINARSAN-MUTLUSAN | D79: Mt. | E79: 525 | G79: =+E79*F79 -> 0
A80: E-3 | B80: Q20 mm'ye kadar Halogenfree Kangal Boru (Aks. Dahil) -Alev yaymaz | C80: PINARSAN-MUTLUSAN | D80: Mt. | E80: 600 | G80: =+E80*F80 -> 0
A81: F | B81: ANAHTAR PRİZ TESİSATLARI
B82: Proje ve Elektrik Teknik Şartnamesine uygun her nevi ufak montaj malzemesi (kasa,vidalı kaide,çerçeve,buat,buat plakası vb.) ve işçilik dahil çalışır halde teslimi
A83: F-1 | B83: Sıva Altı Anahtar Prizler (Genel Mahaller)
A84: F-1.1 | B84: Sıvaaltı 1 modül anahtar | C84: BTİCİNO LIVING NOW SERİSİ | D84: Ad. | E84: 4 | G84: =+E84*F84 -> 0
A85: F-1.3 | B85: Sıvaaltı 1 modül Vaevien anahtar | C85: BTİCİNO LIVING NOW SERİSİ | D85: Ad. | E85: 6 | G85: =+E85*F85 -> 0
A86: F-1.5 | B86: Sıvaaltı 1 modül komitatör | C86: BTİCİNO LIVING NOW SERİSİ | D86: Ad. | E86: 19 | G86: =+E86*F86 -> 0
A87: F-1.6 | B87: Sıvaaltı 2 modül liht anahtar | C87: BTİCİNO LIVING NOW SERİSİ | D87: Ad. | E87: 2 | G87: =+E87*F87 -> 0
A88: F-1.7 | B88: Sıvaaltı 2 modül topraklı Şebeke prizi | C88: BTİCİNO LIVING NOW SERİSİ | D88: Ad. | E88: 2 | G88: =+E88*F88 -> 0
A89: F-1.8 | B89: Sıvaaltı 2 modül Kapaklı topraklı Şebeke prizi | C89: BTİCİNO LIVING NOW SERİSİ | D89: Ad. | E89: 2 | G89: =+E89*F89 -> 0
A90: F-1.9 | B90: Sıvaaltı 2 modül topraklı UPS prizi | C90: BTİCİNO LIVING NOW SERİSİ | D90: Ad. | E90: 20 | G90: =+E90*F90 -> 0
A91: F-1.10 | B91: RJ45 Telefon Prizi 1 Modül | C91: BTİCİNO LIVING NOW SERİSİ | D91: Ad. | E91: 20 | G91: =+E91*F91 -> 0
A92: F-1.15 | B92: 1 modül Çerçeve (Kasa ve Kaide dahil) | C92: BTİCİNO LIVING NOW SERİSİ | D92: Ad. | E92: 75 | G92: =+E92*F92 -> 0
A93: F-1.16 | B93: 2 modül Çerçeve (Kasa ve Kaide dahil) | C93: BTİCİNO LIVING NOW SERİSİ | D93: Ad. | E93: 60 | G93: =+E93*F93 -> 0
A94: F-1.17 | B94: 4 modül Çerçeve (Kasa ve Kaide dahil) | C94: BTİCİNO LIVING NOW SERİSİ | D94: Ad. | E94: 16 | G94: =+E94*F94 -> 0
A95: F-1.18 | B95: 5 modül Çerçeve (Kasa ve Kaide dahil) | C95: BTİCİNO LIVING NOW SERİSİ | D95: Ad. | E95: 7 | G95: =+E95*F95 -> 0
... A111: F-1.40 | B111: 10m HDMI Kablosu | C111: BTİCİNO LIVING NOW SERİSİ | D111: Ad. | E111: 1 | G111: =+E111*F111 -> 0
A112: G | B112: AYDINLATMA ARMATÜRLERİ
A113: G-1 | B113: Aydınlatma Armatür Montajı
B114: Proje ve Elektrik Teknik Şartnamesine uygun her nevi ufak montaj malzemesi(buat , buat plakası ,klemens v.b) ve işçilik dahil çalışır halde teslimi-Montaj
A115: G-1.5 | B115: Sıva altı - Sıva üstü kare spot (ıslak hacim) Kitli-Kitsiz | C115: Led Chip Markaları: Osram, Philips, Samsung | D115: Ad. | E115: 19 | G115: =+E115*F115 -> 0
...

Sheet GRUP-2

Sheet GRUP-2METABOLOMİC İNŞ. YAP. İŞ.
A2: GRUP-2 METABOLOMİC İNŞAAT KEŞİF ÖZETİ
A4: SIRA NO | B4: İMALATIN ADI | C4: BİRİM | D4: MİKTARI | E4: BİRİM FİYAT | F4: TOPLAM
A5: 1 | B5: STERİL ALAN KONDAKTİF PVC - TARKETT IQ GRANİT SD 3096 467 CONDUCTIVE RULO) (FİRE EKLENMEMİŞTİR) | C5: M2 | D5: 1035.8544 | F5: =+D5*E5 -> 0
A6: 2 | B6: PVC İŞÇİLİK (HER TÜRLÜ SARF MALZEME YÜKLENİCİYE AİTTİR) | C6: M2 | D6: 1035.8544 | F6: =+D6*E6 -> 0
A7: 3 | B7: H:10 CM KONDAKTİF PVC KEPLİ SÜPÜRGELİK MALZEME + İŞÇİLİK (FİRE EKLENMEMİŞTİR) | C7: MT | D7: 27.23448 | F7: =+D7*E7 -> 0
A8: 4 | B8: 300 DOZ ENDÜSTRİYEL ŞAP (8-9 CM ARASI) (BETON YÜKLENİCİYE AİT) | C8: M2 | D8: 3189.4044 | F8: =+D8*E8 -> 0
A9: 5 | B9: SERAMİK VİSTA FÜME MAT KÜTAHYA SERAMİK 60X120 ZEMİN MALZEME(FİRE EKLENMEMİŞTİR) | C9: M2 | D9: 45.03408 | F9: =+D9*E9 -> 0
A10: 6 | B10: SERAMİK VİSTA FÜME MAT KÜTAHYA SERAMİK 60X120 DUVAR MALZEME (FİRE EKLENMEMİŞTİR) (H:270 CM ALINMIŞTIR) | C10: M2 | D10: 703.794 | F10: =+D10*E10 -> 0
A11: 7 | B11: SERAMİK İŞÇİLİK 60X120 | C11: M2 | D11: 748.82808 | F11: =+D11*E11 -> 0
A12: 8 | B12: ISLAK HACİM ÇİMENTO ESASLI SÜRME İZOLASYON YAPILMASI MALZEME + İŞÇİLİK | C12: M2 | D12: 46.14792 | F12: =+D12*E12 -> 0
A13: 9 | B13: MUTFAK POLİÜRETAN İZOLASYON YAPILMASI MALZEME + İŞÇİLİK | C13: M2 | D13: 10.63608 | F13: =+D13*E13 -> 0
A14: 10 | B14: YÜKSELTİLMİŞ DÖŞEME.(FİRE EKLENMEMİŞTİR) (KALSİYUM SÜLFAT ÖZLÜ 30 MM ENKAPSÜL PLAKALI AYAKLI H:17 CM 60X60) | C14: M2 | D14: 35.29344 | F14: =+D14*E14 -> 0
A15: 11 | B15: MERMER PİETRA GREY MALZEME + İŞÇİLİK 3CM | C15: M2 | D15: 707.70336 | F15: =+D15*E15 -> 0
A16: 12 | B16: ALÜMİNYUM SÜPÜRGELİK MALZEME+İŞÇİLİK YAPILMASI (SP-01 H:10 CM) | C16: MTÜL | D16: 334.61064 | F16: =+D16*E16 -> 0
... A70: 66 | B70: 100x240 ALÜMİNYUM KASALI LAMİNAT KAPI | C70: adet | D70: 1 | F70: =+D70*E70 -> 0
B71: TOPLAM | F71: =SUM(F5:F70) -> 0

Sheet GRUP-2METABOLOMİC MOB. YAP. İŞ.
A1: GRUP-2 METABOLOMİC MOBİLYA YAPIM İŞLERİ
A2: No | B2: İMALAT | F2: MİKTAR | G2: BİRİM | H2: BR FİYAT | I2: TOPLAM
A3: 1 | B3: Toplantı Masası 350*140*75h | F3: 1 | G3: Set | I3: =F3*H3 -> 0
B4: Metal Ayak | F4: 1 | G4: Adet
B5: Mdflam Üst Tabla | F5: 1 | G5: mTüle
A6: 2 | B6: Çalışma Ofisleri 70*120*75h | F6: 8 | G6: Set | I6: =F6*H6 -> 0
B7: Metal Ayak elektro Statik Toz Boyalı | F7: 8 | G7: Adet
B8: Mdflam Üst Tabla Beyaz Mdflam | F8: 8 | G8: Adet
B9: Keson | F9: 8 | G9: Adet
A10: 3 | B10: Hareketli mobilya
B11: Toplantı masası Sandalye | F11: 9 | G11: Adet | I11: =F11*H11 -> 0
B12: Çalışma Sandalyesi | F12: 8 | G12: Adet | I12: =F12*H12 -> 0
A13: 4 | B13: Kenar Tezgahlar Ve Alt Dolaplar | F13: 16 | G13: mt | I13: =+H13*F13 -> 0
B14: 16mm Kalınlıkta Anti Kimöyasal-Anti Bakteriyelik Fenolik Reçine Hücreli Kompakt Laminant (Fundermax Max Resist)
B15: Elektrostatik Toz Boyalı Bazalı Sistem Taşıyıcı Çelik Konstrüksiyon
B16: 18mm MDF Lamdan İmal Çift Kapaklı Dolap G:900mm D:500mm Y:780mm 18mm MDF Lamdan İmal Raf (Tüm Kenarıları PVC Kaplamalı) 5mm Kalınlığında Çıkartılabilir Arkalık Hetich (Almanya) Frenli Dahili Menteşeler Kimyasallara ve Korozyona Dayanıklı Polipropilen Kulplar
B17: 18mm MDF Lamdan İmal Tek Kapaklı Dolap G:450mm D:500mm Y:780mm 18mm MDF Lamdan İmal Raf (Tüm Kenarıları PVC Kaplamalı) 5mm Kalınlığında Çıkartılabilir Arkalık Hetich (Almanya) Frenli Dahili Menteşeler Kimyasallara ve Korozyona Dayanıklı Polipropilen Kulplar
B18: Laminant Kaplamalı Marin Kontraplak Baza (h:100mm)
A19: 5 | B19: Pc Tezgah | F19: 4 | G19: Adet | I19: =+H19*F19 -> 0
B20: 16mm Kalınlıkta Kimyasal Dayanımlı Fenolik Reçine Çalışma Zemini
B21: Elektrostatik Toz Boyalı Bazalı Sistem Taşıyıcı Çelik Konstrüksiyon
A22: 6 | B22: Soyunma Dolapları 120*45*210h | F22: 8 | G22: Set | I22: =F22*H22 -> 0
B23: Kompak Gövde | F23: 1 | G23: Adet
B24: Kompak Kapaklar | F24: 1 | G24: Adet
H25: Toplam | I25: =SUM(I3:I24) -> 0

Sheet GRUP-2METABOLOMİC MEK. YAP. İŞ.
A1: GRUP-2 METABOLOMİC MEKANİK TESİSAT İŞLERİ
A2: SIRA NO | B2: POZ NO | C2: YAPILACAK İŞİN CİNSİ | D2: MARKA | E2: MİKTAR | F2: BR. | G2: BİRİM FİYAT TL | H2: TUTAR TL
B3: *** | C3: GENEL ÜST TOPLAM | H3: =+H4+H8+H23+H62 -> 0
B4: A | C4: SIHHİ TESİSAT | H4: =SUM(H5:H7) -> 0
A5: 1 | H5: =+G5*E5 -> 0
A6: =1+A5 -> 2 | H6: =+G6*E6 -> 0
H7: =+G7*E7 -> 0
B8: B | C8: ISITMA VE SOĞUTMA TESİSATI | H8: =SUM(H9:H22) -> 0
A9: 1 | C9: VRF İÇ ÜNİTE FDT36KXZE1 (Ceiling Cassette - 4 Way) Qc : 3.6 Kw Qh : 4.0 Kw Qe : 0,04 Kw P.Source : 1 Ph.220/240 V 50 Hz Wiring : 3x1,5 mm Fuse : 6A Delayed Dimensions : HxWxD Unit : 236x840x840 Panel : 35x950x950 | D9: DAIKIN/MUADILI | E9: 3 | F9: ad | H9: =+E9*G9 -> 0
A10: =1+A9 -> 2 | C10: VRF İÇ ÜNİTE FDT71KXZE1 (Ceiling Cassette - 4 Way) Qc : 7.1 Kw Qh : 8.0 Kw Qe : 0,08 Kw P.Source : 1 Ph.220/240 V 50 Hz Wiring : 3x1,5 mm Fuse : 6A Delayed Dimensions : HxWxD Unit : 236x840x840 Panel : 35x950x950 | D10: DAIKIN/MUADILI | E10: 3 | F10: ad | H10: =+E10*G10 -> 0
A11: =1+A10 -> 3 | C11: VRF İÇ ÜNİTE FDT112KXZE1 (Ceiling Cassette - 4 Way) Qc : 11.2 Kw Qh : 12.5 Kw Qe : 0,14 Kw P.Source : 1 Ph.220/240 V 50 Hz Wiring : 3x1,5 mm Fuse : 6A Delayed Dimensions : HxWxD Unit : 298x840x840 Panel : 35x950x950 | D11: DAIKIN/MUADILI | E11: 1 | F11: ad | H11: =+E11*G11 -> 0
A12: =1+A11 -> 4 | C12: VRF DIŞ ÜNİTE FDC400KXZRE2 (14 Hp) (KXZE2 Heat Recovery) Qc : 40.0 Kw Qh : 40.0 Kw Qe : 11.56 Kw Curr.(nom) : 18.5/ 15.9 Amper Curr.(max) : 30 Amper P.Source : 3 Ph.380/415 V 50 Hz Wiring : 4x6 mm Fuse : 32A Dimensions : HxWxD Unit : 2052x1350x720 Net Weigth : 372 kg | D12: DAIKIN/MUADILI | E12: 1 | F12: ad | H12: =+E12*G12 -> 0
A13: =1+A12 -> 5 | C13: AHU-01 ÜNİTESİ FDC450KXZE1 (16Hp) (KXE1 Heat Pump) Qc : 45.0 Kw Qh : 50.0 Kw Qe : 13.98 Kw/h Curr.(nom) : 22.4 / 20.4 Amper Curr.(max) : 32 Amper P.Source : 3 Ph.380/415 V 50 Hz Wiring : 4x6 mm Fuse : 32A Dimensions : HxWxD Unit : 2048x1350x720 Net Weigth : 317 kg | D13: DAIKIN/MUADILI | E13: 2 | F13: ad | H13: =+E13*G13 -> 0
A14: =1+A13 -> 6 | C14: AHU-01 ÜNİTESİ FDC500KXZE1 (18Hp) (KXE1 Heat Pump) Qc : 50.0 Kw Qh : 56.0 Kw Qe : 13.97 Kw/h Curr.(nom) : 22.6 / 21.8Amper Curr.(max) : 42.4 Amper P.Source : 3 Ph.380/415 V 50 Hz Wiring : 4x10 mm Fuse : 40A Dimensions : HxWxD Unit : 2048x1350x720 Net Weigth : 370 kg | D14: DAIKIN/MUADILI | E14: 1 | F14: ad | H14: =+E14*G14 -> 0
A15: =1+A14 -> 7 | C15: AHU-01 ÜNİTESİ FDC560KXZE1 (20Hp) (KXE1 Heat Pump) Qc : 56.0 Kw Qh : 63.0 Kw Qe : 16.62 Kw/h Curr.(nom) : 26.9 / 25.8 Amper Curr.(max) : 42.4 Amper P.Source : 3 Ph.380/415 V 50 Hz Wiring : 4x10 mm Fuse : 40A Dimensions : HxWxD Unit : 2048x1350x720 Net Weigth : 370 kg | D15: DAIKIN/MUADILI | E15: 4 | F15: ad | H15: =+E15*G15 -> 0
A16: =1+A15 -> 8 | C16: İhale Dosyasında Belirtilen Merkezi Klima Sistemi İmalatların Üretici Firmanın Hazırlayacağı Uygulama Projesine Göre Montaj ve Devreye Alma İşleri (Çalışır Halde Teslimi) -İç ve Dış Ünite Montajları -Bakır Borulama ve İzolasyon İşleri -Joint ve Dağıtım Kutu Montaj İşleri -Soğutucu Akışkan Şarjı -Zayıf Akım Kablo İmalatları -Termostad Montajı -Merkezi Kumanda Montajı -BMS Otomasyon Montaj ve Kurulum İşleri -Azot Test ve Devreye Alma İşleri Çalışır Halde Teslimi | D16: DAIKIN/MUADILI | E16: 1 | F16: set | H16: =+E16*G16 -> 0
A17: =1+A16 -> 9 | C17: Ø25 MM. U-PVC Drenaj Borusu | D17: PİLSA/MUADILI | E17: 54 | F17: mt | H17: =+E17*G17 -> 0
A18: =1+A17 -> 10 | C18: Ø32 MM. U-PVC Drenaj Borusu | D18: PİLSA/MUADILI | E18: 54 | F18: mt | H18: =+E18*G18 -> 0
A19: =1+A18 -> 11 | C19: U-PVC Drenaj Boruları Montaj Malzemesi Bedeli | D19: PİLSA/MUADILI | E19: 0.45 | F19: % | H19: =+E19*G19 -> 0
A20: =1+A19 -> 12 | C20: (3/4") ø 28,t=13 mm.kauçuk esaslı prefabrik boru izolesi | D20: ODE/MUADILI | E20: 54 | F20: mt | H20: =+E20*G20 -> 0
A21: =1+A20 -> 13 | C21: (1") ø 35,t=13 mm.kauçuk esaslı prefabrik boru izolesi | D21: ODE/MUADILI | E21: 54 | F21: mt | H21: =+E21*G21 -> 0
H22: =E22*G22 -> 0
B23: C | C23: HAVALANDIRMA TESİSATI | H23: =SUM(H24:H61) -> 0
A24: 1 | C24: EF-01 Radyal Fan - 500m3/h, 150Pa | D24: S&P/VENCO/MUADILI | E24: 1 | F24: ad | H24: =+E24*G24 -> 0
A25: =1+A24 -> 2 | C25: EF-02-03 Salyangoz Tipi Ergzoz Fan - 1.400m3/h, 200Pa | D25: S&P/VENCO/MUADILI | E25: 2 | F25: ad | H25: =+E25*G25 -> 0
A26: =1+A25 -> 3 | C26: EF-04 Geriye Eğik Seyrek Kanatlı Fan - 250m3/h, 400Pa | D26: S&P/VENCO/MUADILI | E26: 1 | F26: ad | H26: =+E26*G26 -> 0
A27: =1+A26 -> 4 | C27: EF-05-06 Geriye Eğik Seyrek Kanatlı Fan - 500m3/h, 400Pa | D27: S&P/VENCO/MUADILI | E27: 2 | F27: ad | H27: =+E27*G27 -> 0
A28: =1+A27 -> 5 | C28: IGK-01 Tavan Tipi Isı Geri Kazanım Cihazı (Cihaz Seçimi İçin Bknz. IGK-01_Cihaz Secimi.jpeg) | D28: S&P/VENCO/AERA/MUADILI | E28: 1 | F28: ad | H28: =+E28*G28 -> 0
A29: =1+A28 -> 6 | C29: AHU-01 HİJYENİK KLİMA SANTRALİ 100% Taze Hava / Dış Ünite / MMC+DDC PANO / Yatay / Plakalı Isı Geri Kazanım (Cihaz Seçimi İçin Bknz. EC-110-Rev0_AHU-01_PER_18.pdf) | D29: SYSTEMAİR/DAIKIN/MUADILI | E29: 1 | F29: ad | H29: =+E29*G29 -> 0
A30: =1+A29 -> 7 | C30: 600 x 600 Düz kanatlı Kare Alüminyum Anemostat - Planium Box Dahil. | D30: ELEKTROTEKNİK/FİTATEKNİK/DOĞUŞ | E30: 32 | F30: ad | H30: =+E30*G30 -> 0
A31: =1+A30 -> 8 | C31: MOTORLU YANGIN DAMPERİ - 550x250mm | D31: ELEKTROTEKNİK/FİTATEKNİK/DOĞUŞ | E31: 2 | F31: ad | H31: =+E31*G31 -> 0
A32: =1+A31 -> 9 | C32: YANGIN DAMPERİ - 250x200mm | D32: ELEKTROTEKNİK/FİTATEKNİK/DOĞUŞ | E32: 1 | F32: ad | H32: =+E32*G32 -> 0
A33: =1+A32 -> 10 | C33: VOLUME(HAVA AYAR) DAMPERİ - 150x150mm | D33: ELEKTROTEKNİK/FİTATEKNİK/DOĞUŞ | E33: 13 | F33: ad | H33: =+E33*G33 -> 0
A34: =1+A33 -> 11 | C34: VOLUME(HAVA AYAR) DAMPERİ - 200x150mm | D34: ELEKTROTEKNİK/FİTATEKNİK/DOĞUŞ | E34: 4 | F34: ad | H34: =+E34*G34 -> 0
A35: =1+A34 -> 12 | C35: VOLUME(HAVA AYAR) DAMPERİ - 250x200mm | D35: ELEKTROTEKNİK/FİTATEKNİK/DOĞUŞ | E35: 2 | F35: ad | H35: =+E35*G35 -> 0
A36: =1+A35 -> 13 | C36: VOLUME(HAVA AYAR) DAMPERİ - 300x200mm | D36: ELEKTROTEKNİK/FİTATEKNİK/DOĞUŞ | E36: 2 | F36: ad | H36: =+E36*G36 -> 0
... A59: =1+A58 -> 36 | C59: Kauçuk köpüğü yalıtım malzemesi ile kanal izolesi 19mm (Hijyenik klima santrallerin üfleme ile emiş kanallarına + klima santrallerin üfleme kanallarına uygulanacak) | D59: ODE/MUADILI | E59: 455.325 | F59: m2 | H59: =+E59*G59 -> 0
A60: =1+A59 -> 37 | H60: =E60*G60 -> 0
H61: =E61*G61 -> 0
B62: D | C62: YANGIN TESİSATI | H62: =SUM(H63:H94) -> 0
A63: 1 | C63: Dik DN 15 standart uygulamalar için otomatik yangın sprinkleri - Açılma sıcaklığı 68ºC (Not : Hızlı tepkimeli olacak.) | D63: AYVAZ/DUYAR/UNTES | E63: 160 | F63: ad | H63: =+E63*G63 -> 0
A64: =1+A63 -> 2 | C64: Sarkık DN 15 standart uygulamalar için otomatik yangın sprinkleri - Açılma sıcaklığı 68ºC (Not : Hızlı tepkimeli ve rozetli olacak.) | D64: AYVAZ/DUYAR/UNTES | E64: 160 | F64: ad | H64: =+E64*G64 -> 0
A65: =1+A64 -> 3 | C65: 100 cm uzunluğunda sprinker hortum ve bağlantı seti | D65: AYVAZ/KAYSE/UNTES | E65: 160 | F65: takım | H65: =+E65*G65 -> 0
A66: =1+A65 -> 4 | C66: DN 25 30 mt TS EN 671-1 normlarında tüplü model yangın dolabı -Sıva Altı Plazma Serisi *** 2" - Stroz Kaplinli Vana ***Tüp Haznesi Altta ***Hortum Uzunluğu 1" 30 mt. *** 2 Gözlü (1 Göz Hortum ve Bağlantı Elemanı, 2. Göz Yangın Tüpü) *** Gövde Sac Kalınlığı 1,5 mm. *** Ön Cam Siyah Cam Üzeri Yang. Sembolleri | D66: FETAŞ/OCAKALR/MUADILI | E66: 2 | F66: ad | H66: =+E66*G66 -> 0
A67: =1+A66 -> 5 | C67: ÇİFT KİTLEMELİ PRE-ACTION VANA - DN150 | D67: AYVAZ/DUYAR/UNTES | E67: 1 | F67: ad | H67: =+E67*G67 -> 0
A68: =1+A67 -> 6 | C68: Dn 150 izlenebilir flanş arası sıkıştırmalı kelebek vana | D68: AYVAZ/DUYAR/UNTES | E68: 1 | F68: ad | H68: =+E68*G68 -> 0
A69: =1+A68 -> 7 | C69: Dn 150 yangın çek vana | D69: AYVAZ/DUYAR/UNTES | E69: 1 | F69: ad | H69: =+E69*G69 -> 0
A70: =1+A69 -> 8 | C70: Dn 150 su akış anahtarı | D70: AYVAZ/DUYAR/UNTES | E70: 1 | F70: ad | H70: =+E70*G70 -> 0
A71: =1+A70 -> 9 | C71: DN 50 test ve drenaj vanası, dişli, pirinç | D71: AYVAZ/DUYAR/UNTES | E71: 1 | F71: ad | H71: =+E71*G71 -> 0
A72: =1+A71 -> 10 | C72: Manometre ø 100 mm 15 atmosfer kadar bölüntülü | D72: PAKKENS/MONEKS/MUAIDLI | E72: 1 | F72: ad | H72: =+E72*G72 -> 0
A73: =1+A72 -> 11 | C73: Mini Vana - 1/2" | D73: AYVAZ/DUYAR/UNTES | E73: 1 | F73: ad | H73: =+E73*G73 -> 0
A74: =1+A73 -> 12 | C74: Dikişli vidalı çelik boru 1" 25 mm, dış cap 33,7/3,20 manşonsuz ağırlık 2,43 kg/m - (YANGIN TESİSAT) | D74: ÇAYIROVA/BORUSAN | E74: 360 | F74: mt | H74: =+E74*G74 -> 0
A75: =1+A74 -> 13 | C75: Dikişli vidalı çelik boru 1 1/4" 32 mm, dış cap 42,4/3,20 manşonsuz ağırlık 3,13 kg/m - (YANGIN TESİSAT) | D75: ÇAYIROVA/BORUSAN | E75: 81 | F75: mt | H75: =+E75*G75 -> 0
... A89: =1+A88 -> 27 | C89: Yağlı boya ile boru boyanması ø 100 mm - 150 mm, (4" - 6") arası (6") dahil - (YANGIN TESİSAT) | D89: TSE | E89: 90 | F89: mt | H89: =+E89*G89 -> 0
A90: =1+A89 -> 28 | H90: =+G90*E90 -> 0
A91: =1+A90 -> 29 | H91: =+G91*E91 -> 0
A92: =1+A91 -> 30 | H92: =+G92*E92 -> 0
A93: =1+A92 -> 31 | H93: =+G93*E93 -> 0
H94: =E94*G94 -> 0
B95: *** | H95: =SUM(H4:H94)/2 -> 0

Sheet GRUP-2 METABOLOMİC ELEK. YAP. 
A1: GRUP-2 METABOLOMİC ELEKTRİK TESİSAT İŞLERİ KEŞFİ
A2: POZ | B2: İŞİN TANIMI | C2: SEÇİLEN MARKA | D2: BİRİM | E2: MİKTAR | F2: POZ BİRİM FİYAT | G2: POZ TOPLAM TUTAR
A3: A | B3: OG/ UPS/ SAC PANOLAR
B4: NOT: TÜM PANOLAR PROJE VE TEKHAT ŞEMALARI DİKKATE ALINARAK SET OLARAK ŞALT MALZEME DAHİL FİYAT VERİLECEKTİR.Proje ve Elektrik Teknik Şartnameye uygun önceden kısa devre hesaplarının yapılarak kontrollüğe onaylatılmak kaydıyla, gerekli kısa devre dayanımında her türlü mesnet, izolatör vb. aksesuar dahil,enerji analizörü modbus haberleşmeli modüler tip panoların çalışır vaziyette teslimi
A5: A-1.1 | B5: Dikili tip Ana Dağıtım Ve Kuvvet Panoları
A6: A-1.1.1 | B6: ADP | C6: LOKAL-Şalt ABB Schnider | D6: Ad. | E6: 1 | G6: =+E6*F6 -> 0
A7: A-1.1.2 | B7: 2K MCC1 | C7: LOKAL-Şalt ABB Schnider | D7: Ad. | E7: 1 | G7: =+E7*F7 -> 0
A8: A-1.1.3 | B8: 2K MCC2 | C8: LOKAL-Şalt ABB Schnider | D8: Ad. | E8: 1 | G8: =+E8*F8 -> 0
A9: A-1.1.4 | B9: 2K KDP | C9: LOKAL-Şalt ABB Schnider | D9: Ad. | E9: 1 | G9: =+E9*F9 -> 0
A10: A-1.1.5 | B10: 2K-KDUP | C10: LOKAL-Şalt ABB Schnider | D10: Ad. | E10: 1 | G10: =+E10*F10 -> 0
A11: A-1.1.6 | B11: 2K-DDC | C11: LOKAL-Şalt ABB Schnider | D11: Ad. | E11: 1 | G11: =+E11*F11 -> 0
A12: A-1.1.7 | B12: ATS 400A/400A Anapano içerisine konulacak | C12: ABB Schnider | D12: Ad. | E12: 1 | G12: =+E12*F12 -> 0
A13: A-3 | B13: KESİNTİSİZ GÜÇ KAYNAKLARI
B14: Aşağıda Belirtilen Malzeme/Sistemlerin temini, Şantiye içinde yatay/dikey Taşıma İşleri, Montajları için gerekli kontrol, kumanda vb. kablajların yapılması ve Devreye Alma İşleri Dahildir.
B15: 30 DAKİKA BEKLEME SÜRELİ UPS
A16: A-3.1 | B16: 80 kVA 380V/380V UPS tam yükte 30 dakika çalışabilen aküler , dc kablolama dahil Hot swap olacak ana kabin minimum 200KVA ana kasa 2 CPU lu olacak 20KVA UPS blokları olacaktır. | C16: Vertiv-Schneider-Inform-Power | D16: Set | E16: 1 | G16: =+E16*F16 -> 0
A17: C | B17: KABLOLAR
B18: Proje ve Elektrik Teknik Şartnamesine uygun Her nevi montaj malzemesi dahil (kablo bağı, yüksük vs.) çalışır halde teslimi
A19: C-1 | B19: Kuvvetli Akım Kabloları
A20: C-1.1 | B20: NHXMH Kablolar
A21: C-1.1.1 | B21: 2x1,5 mm2 LIHCH | C21: PRYSMIAN-NEXANS-ÖZNUR | D21: Mt. | E21: 375 | G21: =+E21*F21 -> 0
A22: C-1.1.3 | B22: 3x1,5 mm2 NHXMH | C22: PRYSMIAN-NEXANS-ÖZNUR | D22: Mt. | E22: 750 | G22: =+E22*F22 -> 0
A23: C-1.1.4 | B23: 3x2,5 mm2 NHXMH | C23: PRYSMIAN-NEXANS-ÖZNUR | D23: Mt. | E23: 5988.75 | G23: =+E23*F23 -> 0
A24: C-1.1.5 | B24: 3x4 mm2 NHXMH | C24: PRYSMIAN-NEXANS-ÖZNUR | D24: Mt. | E24: 1488.75 | G24: =+E24*F24 -> 0
A25: C-1.1.6 | B25: 3x6 mm2 NHXMH | C25: PRYSMIAN-NEXANS-ÖZNUR | D25: Mt. | E25: 281.25 | G25: =+E25*F25 -> 0
A26: C-1.2 | B26: N2XH Kablolar
A27: C-1.2.5 | B27: 3x2,5 mm2 N2XH | C27: PRYSMIAN-NEXANS-ÖZNUR | D27: Mt. | E27: 750 | G27: =+E27*F27 -> 0
A28: C-1.2.29 | B28: 4x 70 mm2 N2XH | C28: PRYSMIAN-NEXANS-ÖZNUR | D28: Mt. | E28: 30 | G28: =+E28*F28 -> 0
A29: C-1.2.30 | B29: 4x 50 mm2 N2XH | C29: PRYSMIAN-NEXANS-ÖZNUR | D29: Mt. | E29: 30 | G29: =+E29*F29 -> 0
A30: C-1.2.32 | B30: 4x 25 mm2 N2XH | C30: PRYSMIAN-NEXANS-ÖZNUR | D30: Mt. | E30: 22.5 | G30: =+E30*F30 -> 0
A31: C-1.2.36 | B31: 5x4 mm2 N2XH | C31: PRYSMIAN-NEXANS-ÖZNUR | D31: Mt. | E31: 187.5 | G31: =+E31*F31 -> 0
A32: C-1.2.37 | B32: 5x6 mm2 N2XH | C32: PRYSMIAN-NEXANS-ÖZNUR | D32: Mt. | E32: 187.5 | G32: =+E32*F32 -> 0
A33: C-1.2.38 | B33: 5x10 mm2 N2XH | C33: PRYSMIAN-NEXANS-ÖZNUR | D33: Mt. | E33: 135 | G33: =+E33*F33 -> 0
A34: C-1.2.39 | B34: 5x16 mm2 N2XH | C34: PRYSMIAN-NEXANS-ÖZNUR | D34: Mt. | E34: 60 | G34: =+E34*F34 -> 0
A35: C-1.2.40 | B35: 1x240 mm2 N2XH | C35: PRYSMIAN-NEXANS-ÖZNUR | D35: Mt. | E35: 1230 | G35: =+E35*F35 -> 0
A36: C-1.2.42 | B36: 1x150 mm2 N2XH | C36: PRYSMIAN-NEXANS-ÖZNUR | D36: Mt. | E36: 742.5 | G36: =+E36*F36 -> 0
A37: C-1.2.44 | B37: 1x 95 mm2 N2XH | C37: PRYSMIAN-NEXANS-ÖZNUR | D37: Mt. | E37: 67.5 | G37: =+E37*F37 -> 0
A38: C-1.3 | B38: N2XH Fe-180 Kablolar
A39: C-1.3.11 | B39: 1x185 mm² N2XH FE-180 (BIO Ozel 800kVA Jenerator ADP beslemesi için) | C39: PRYSMIAN-NEXANS-ÖZNUR | D39: Mt. | E39: 1710 | G39: =+E39*F39 -> 0
A40: C-1.5 | B40: 07Z1-U/R Kablolar
A41: C-1.5.6 | B41: 1x16 mm2 O7Z1-U/R | C41: PRYSMIAN-NEXANS-ÖZNUR | D41: Mt. | E41: 22.5 | G41: =+E41*F41 -> 0
A42: C-1.5.7 | B42: 1x25 mm2 O7Z1-U/R | C42: PRYSMIAN-NEXANS-ÖZNUR | D42: Mt. | E42: 30 | G42: =+E42*F42 -> 0
A43: C-1.5.8 | B43: 1x35 mm2 O7Z1-U/R | C43: PRYSMIAN-NEXANS-ÖZNUR | D43: Mt. | E43: 30 | G43: =+E43*F43 -> 0
A44: C-1.5.11 | B44: 1x95 mm2 O7Z1-U/R | C44: PRYSMIAN-NEXANS-ÖZNUR | D44: Mt. | E44: 112.5 | G44: =+E44*F44 -> 0
A45: C-1.5.13 | B45: 1x150 mm2 O7Z1-U/R | C45: PRYSMIAN-NEXANS-ÖZNUR | D45: Mt. | E45: 131.25 | G45: =+E45*F45 -> 0
A46: C-1.5.15 | B46: 1x240 mm2 O7Z1-U/R | C46: PRYSMIAN-NEXANS-ÖZNUR | D46: Mt. | E46: 138.75 | G46: =+E46*F46 -> 0
A47: C-2 | B47: Zayıf Akım Akım Kabloları
A48: C-2.1 | B48: Yangın Sistemi Kabloları
A49: C-2.1.4 | B49: 2x2x0,8+0,8 JH(st)H Fe-180 | C49: NEXANS-HCS-ERSE | D49: Mt. | E49: 750 | G49: =+E49*F49 -> 0
A50: C-2.1.8 | B50: 2x1.5 mm LIHCH FE180 | C50: NEXANS-HCS-ERSE | D50: Mt. | E50: 225 | G50: =+E50*F50 -> 0
A51: C-2.2 | B51: Seslendirme-Otomasyon Sistemi Kabloları
A52: C-2.2.5 | B52: 2x1,5 LIHCH | C52: NEXANS-HCS-ERSE | D52: Mt. | E52: 3000 | G52: =+E52*F52 -> 0
A53: C-2.2.7 | B53: 4x1,5 LIHCH | C53: NEXANS-HCS-ERSE | D53: Mt. | E53: 1500 | G53: =+E53*F53 -> 0
A54: C-2.2.8 | B54: 2x1.5 LIHCH Fe-180 | C54: NEXANS-HCS-ERSE | D54: Mt. | E54: 750 | G54: =+E54*F54 -> 0
A55: C-2.2.11 | B55: 10x1.5 LIHCH Fe-180 | C55: NEXANS-HCS-ERSE | D55: Mt. | E55: 56.25 | G55: =+E55*F55 -> 0
A56: C-2.2.12 | B56: CAT 6 UTP Cable LSZH | C56: NEXANS-HCS-ERSE | D56: Mt. | E56: 75 | G56: =+E56*F56 -> 0
A57: C-2.3 | B57: TV Sistemi Kabloları
A58: C-2.4 | B58: Telefon Sistemi
A59: C-2.6 | B59: Kartlı Geçiş Sistemi Kabloları
A60: C-2.6.1 | B60: 2x1 LIHCH | C60: NEXANS-HCS-ERSE | D60: Mt. | E60: 375 | G60: =+E60*F60 -> 0
A61: C-2.6.2 | B61: 4x1 LIHCH | C61: NEXANS-HCS-ERSE | D61: Mt. | E61: 112.5 | G61: =+E61*F61 -> 0
A62: C-2.6.4 | B62: 8x0,75 LIHCH | C62: NEXANS-HCS-ERSE | D62: Mt. | E62: 112.5 | G62: =+E62*F62 -> 0
A63: C-2.6.5 | B63: 6x0,22 LIHCH | C63: NEXANS-HCS-ERSE | D63: Mt. | E63: 2550 | G63: =+E63*F63 -> 0
A64: D | B64: KABLO TAŞIYICILARI
A65: D-1 | B65: Sac Kablo Taşıyıcıları (TS. 914) h:40mm
B66: NOT: TÜN ASKI APARATLARI,DÖNÜŞLERİ, SOMUN VİDAT VB. HER TÜRLÜ ASKI APARAT DAHİL FİYAT VERİLECEKTİR. S 914 şartlarında proje ve Elektrik Teknik Şartnamesine uygun sıcak daldırma galvaniz sacdan imal edilmiş 40mm kenar yüksekliğinde 1/3 oranında delikli her nevi montaj aksesuarı , montajı dahil kablo çekimine hazır halde teslimi
A67: D-1.1 | B67: 100mm Kablo Tavası | C67: EAE STS | D67: Mt. | E67: 187.5 | G67: =+E67*F67 -> 0
A68: D-1.6 | B68: 100mm Kablo Tavası Kapağı | C68: EAE STS | D68: Mt. | E68: 15 | G68: =+E68*F68 -> 0
A69: D-1.7 | B69: 100mm Kablo Merdiveni | C69: EAE STS | D69: Mt. | E69: 18.75 | G69: =+E69*F69 -> 0
A70: D-1.8 | B70: 200mm Kablo Tavası | C70: EAE STS | D70: Mt. | E70: 135 | G70: =+E70*F70 -> 0
A71: D-1.13 | B71: 200mm Kablo Tavası Kapağı | C71: EAE STS | D71: Mt. | E71: 18.75 | G71: =+E71*F71 -> 0
A72: D-1.15 | B72: 300mm Kablo Tavası | C72: EAE STS | D72: Mt. | E72: 67.5 | G72: =+E72*F72 -> 0
A73: D-1.20 | B73: 300mm Kablo Tavası Kapağı | C73: EAE STS | D73: Mt. | E73: 18.75 | G73: =+E73*F73 -> 0
A74: D-1.29 | B74: 500mm Kablo Tavası | C74: EAE STS | D74: Mt. | E74: 75 | G74: =+E74*F74 -> 0
A75: D-1.34 | B75: 500mm Kablo Tavası Kapağı | C75: EAE STS | D75: Mt. | E75: 18.75 | G75: =+E75*F75 -> 0
A76: E | B76: HALOGENFREE PVC BORULAR-Halogenfree PVC Kaplı Çelik Spiral Boru-Galvanize Çelik Borular(EMT)
B77: Proje ve Elektrik Teknik Şartnamesine uygun her nevi ufak montaj malzemesi ve işçilik dahil çalışır halde teslimi Yanmaz özellikte olacak
A78: E-1 | B78: Q20 mm'ye kadar Halogenfree PVC Spiral Boru (Aks. Dahil) -Alev yaymaz | C78: PINARSAN-MUTLUSAN | D78: Mt. | E78: 3750 | G78: =+E78*F78 -> 0
A79: E-2 | B79: Q32 mm'ye kadar Halogenfree PVC Spiral Boru (Aks. Dahil) -Alev yaymaz | C79: PINARSAN-MUTLUSAN | D79: Mt. | E79: 262.5 | G79: =+E79*F79 -> 0
A80: E-3 | B80: Q20 mm'ye kadar Halogenfree Kangal Boru (Aks. Dahil) -Alev yaymaz | C80: PINARSAN-MUTLUSAN | D80: Mt. | E80: 300 | G80: =+E80*F80 -> 0
A81: F | B81: ANAHTAR PRİZ TESİSATLARI
B82: Proje ve Elektrik Teknik Şartnamesine uygun her nevi ufak montaj malzemesi (kasa,vidalı kaide,çerçeve,buat,buat plakası vb.) ve işçilik dahil çalışır halde teslimi
A83: F-1 | B83: Sıva Altı Anahtar Prizler (Genel Mahaller)
A84: F-1.1 | B84: Sıvaaltı 1 modül anahtar | C84: BTİCİNO LIVING NOW SERİSİ | D84: Ad. | E84: 2 | G84: =+E84*F84 -> 0
A85: F-1.3 | B85: Sıvaaltı 1 modül Vaevien anahtar | C85: BTİCİNO LIVING NOW SERİSİ | D85: Ad. | E85: 3 | G85: =+E85*F85 -> 0
A86: F-1.5 | B86: Sıvaaltı 1 modül komitatör | C86: BTİCİNO LIVING NOW SERİSİ | D86: Ad. | E86: 10 | G86: =+E86*F86 -> 0
A87: F-1.6 | B87: Sıvaaltı 2 modül liht anahtar | C87: BTİCİNO LIVING NOW SERİSİ | D87: Ad. | E87: 1 | G87: =+E87*F87 -> 0
A88: F-1.7 | B88: Sıvaaltı 2 modül topraklı Şebeke prizi | C88: BTİCİNO LIVING NOW SERİSİ | D88: Ad. | E88: 1 | G88: =+E88*F88 -> 0
A89: F-1.8 | B89: Sıvaaltı 2 modül Kapaklı topraklı Şebeke prizi | C89: BTİCİNO LIVING NOW SERİSİ | D89: Ad. | E89: 1 | G89: =+E89*F89 -> 0
A90: F-1.9 | B90: Sıvaaltı 2 modül topraklı UPS prizi | C90: BTİCİNO LIVING NOW SERİSİ | D90: Ad. | E90: 10 | G90: =+E90*F90 -> 0
A91: F-1.10 | B91: RJ45 Telefon Prizi 1 Modül | C91: BTİCİNO LIVING NOW SERİSİ | D91: Ad. | E91: 10 | G91: =+E91*F91 -> 0
A92: F-1.15 | B92: 1 modül Çerçeve (Kasa ve Kaide dahil) | C92: BTİCİNO LIVING NOW SERİSİ | D92: Ad. | E92: 38 | G92: =+E92*F92 -> 0
A93: F-1.16 | B93: 2 modül Çerçeve (Kasa ve Kaide dahil) | C93: BTİCİNO LIVING NOW SERİSİ | D93: Ad. | E93: 30 | G93: =+E93*F93 -> 0
A94: F-1.17 | B94: 4 modül Çerçeve (Kasa ve Kaide dahil) | C94: BTİCİNO LIVING NOW SERİSİ | D94: Ad. | E94: 8 | G94: =+E94*F94 -> 0
A95: F-1.18 | B95: 5 modül Çerçeve (Kasa ve Kaide dahil) | C95: BTİCİNO LIVING NOW SERİSİ | D95: Ad. | E95: 4 | G95: =+E95*F95 -> 0
... A111: F-1.40 | B111: 10m HDMI Kablosu | C111: BTİCİNO LIVING NOW SERİSİ | D111: Ad. | E111: 1 | G111: =+E111*F111 -> 0
A112: G | B112: AYDINLATMA ARMATÜRLERİ
A113: G-1 | B113: Aydınlatma Armatür Montajı
B114: Proje ve Elektrik Teknik Şartnamesine uygun her nevi ufak montaj malzemesi(buat , buat plakası ,klemens v.b) ve işçilik dahil çalışır halde teslimi-Montaj
A115: G-1.7 | B115: Sıva altı - Sıva üstü İkili kare spot (Kitli-Kitsiz) | C115: Led Chip Markaları: Osram, Philips, Samsung | D115: Ad. | E115: 40 | G115: =+E115*F115 -> 0
...

Sheet GRUP-3

Sheet GRUP-3 ORTAK ALAN İNŞ. YAP. İŞ.
A2: GRUP-3 ORTAK ALAN İNŞAAT KEŞİF ÖZETİ
A4: SIRA NO | B4: İMALATIN ADI | C4: BİRİM | D4: MİKTARI | E4: BİRİM FİYAT | F4: TOPLAM
A5: 1 | B5: SERAMİK VİSTA FÜME MAT KÜTAHYA SERAMİK 60X120 ZEMİN MALZEME(FİRE EKLENMEMİŞTİR) | C5: M2 | D5: 68.11 | F5: =+D5*E5 -> 0
A6: 2 | B6: SERAMİK VİSTA FÜME MAT KÜTAHYA SERAMİK 60X120 DUVAR MALZEME (FİRE EKLENMEMİŞTİR) (H:270 CM ALINMIŞTIR) | C6: M2 | D6: 81.102 | F6: =+D6*E6 -> 0
A7: 3 | B7: SERAMİK İŞÇİLİK 60X120 | C7: M2 | D7: 149.212 | F7: =+D7*E7 -> 0
A8: 4 | B8: ISLAK HACİM ÇİMENTO ESASLI SÜRME İZOLASYON YAPILMASI MALZEME + İŞÇİLİK | C8: M2 | D8: 68.11 | F8: =+D8*E8 -> 0
A9: 5 | B9: MERMER PİETRA GREY MALZEME + İŞÇİLİK 3CM | C9: M2 | D9: 716.436 | F9: =+D9*E9 -> 0
A10: 6 | B10: FX+40*20*1,5 MM PROFİL İLE ALÇIPAN ASMA TAVAN YAPILMASI (Tek kat suya dayanımlı yeşil alçıpanı temsil eder.Tavan köşe birleşimlerinde atılması gereken ilave profillerde dahil edilecektir.) (KNAUF-DALSAN) | C10: M2 | D10: 716.436 | F10: =+D10*E10 -> 0
A11: 7 | B11: WR+40*20*1,5 MM PROFİL İLE ALÇIPAN ASMA TAVAN YAPILMASI (Tek kat suya dayanımlı yeşil alçıpanı temsil eder.Tavan köşe birleşimlerinde atılması gereken ilave profillerde dahil edilecektir.) (KNAUF-DALSAN) | C11: M2 | D11: 68.11 | F11: =+D11*E11 -> 0
A12: 8 | B12: TAVAN SATEN ALÇI (1) Projedeki ölçülere göre, sıvanan bütün yüzler (boşluk yanları dâhil) hesaplanır. 2) Doğrama pervazları ve varsa ahşap süpürgelik altında kalan sıva yüzeyleri hesaba katılır. 3) Bütün boşluklar ve diğer cins kaplama yüzeyleri düşülür. ) | C12: M2 | D12: 784.546 | F12: =+D12*E12 -> 0
A13: 9 | B13: Tavan Boya Yapılması (Saten alçı üzeri) (RAL-9005) (Projesi üzerinden boya yapılan yüzeyler ölçülür. Tüm boşluklar düşülür.) | C13: M2 | D13: 784.546 | F13: =+D13*E13 -> 0
A14: 10 | B14: CUBİCLE SİSTEM YAPILMASI (H:2,10 ALINMIŞTIR) (AYAK:10 CM ALINMIŞTIR) | C14: M2 | D14: 45.304 | F14: =+D14*E14 -> 0
A15: 11 | B15: 2WR+40*40*1,5 mm+Knauf İnsulationÇelik Konstrüksiyonlu Giydirme Duvar İmalatı [Proje de gösterilen duvar kalınlığında içerisinde taşyünü yalıtımı bulunan imalat açıklamasıdır. Çift kat suya dayanımlı yeşil alçıpanı temsil eder.Duvar köşe birleşimlerinde atılması gereken ilave profillerde dahil edilecektir. Ekstra ilave profil yazılmayacaktır.) | C15: M2 | D15: 152.082 | F15: =+D15*E15 -> 0
A16: 12 | B16: 90*220 ALÜMİNYUM KASALI LAMİNAT KAPI | C16: adet | D16: 2 | F16: =+D16*E16 -> 0
... A43: 39 | B43: MEVCUT ASANSÖR KAPI REVİZYONU (ACİL DURUMLARDA AZOT TANKLARININ TAHLİYESİ İÇİN ASANSÖR KAPISI GENİŞLETİLMESİ İÇİN) | C43: SET | D43: 1 | F43: =+D43*E43 -> 0
B44: TOPLAM | F44: =SUM(F5:F43) -> 0

Sheet GRUP-3 ORTAK ALAN MEK. İŞ.
A1: GRUP-3 ORTAK ALAN MEKANİK TESİSAT İŞLERİ
A2: SIRA NO | B2: POZ NO | C2: YAPILACAK İŞİN CİNSİ | D2: MARKA | E2: MİKTAR | F2: BR. | G2: BİRİM FİYAT TL | H2: TUTAR TL
B3: *** | C3: GENEL ÜST TOPLAM | H3: =+H4+H32+H44+H56 -> 0
B4: A | C4: SIHHİ TESİSAT | H4: =SUM(H5:H31) -> 0
A5: 1 | C5: Lavabo veya eviye batarya montajı | D5: MONTAJ | E5: 8 | F5: ad | H5: =+E5*G5 -> 0
A6: =1+A5 -> 2 | C6: Engelli lavabo montajı | D6: MONTAJ | E6: 1 | F6: ad | H6: =+E6*G6 -> 0
A7: =1+A6 -> 3 | C7: Engelli lavabo batarya montajı | D7: MONTAJ | E7: 1 | F7: ad | H7: =+E7*G7 -> 0
A8: =1+A7 -> 4 | C8: Ara musluk montajı | D8: MONTAJ | E8: 18 | F8: ad | H8: =+E8*G8 -> 0
A9: =1+A8 -> 5 | C9: Sifon ve süzgeç montajı | D9: MONTAJ | E9: 9 | F9: ad | H9: =+E9*G9 -> 0
A10: =1+A9 -> 6 | C10: Klozet ve klozet kapağı montajı | D10: MONTAJ | E10: 8 | F10: ad | H10: =+E10*G10 -> 0
A11: =1+A10 -> 7 | C11: Gömme rezervuar ve rezervuar kumandası montajı | D11: MONTAJ | E11: 8 | F11: ad | H11: =+E11*G11 -> 0
A12: =1+A11 -> 8 | C12: Engelli klozet ve klozet kapağı montajı | D12: MONTAJ | E12: 1 | F12: ad | H12: =+E12*G12 -> 0
A13: =1+A12 -> 9 | C13: Engelli gömme rezervuar ve rezervuar kumandası montajı | D13: MONTAJ | E13: 1 | F13: ad | H13: =+E13*G13 -> 0
A14: =1+A13 -> 10 | C14: Ankastre stop valf montajı | D14: MONTAJ | E14: 8 | F14: ad | H14: =+E14*G14 -> 0
A15: =1+A14 -> 11 | C15: Engelliler için katlanabilir tutunma barı montajı | D15: MONTAJ | E15: 1 | F15: ad | H15: =+E15*G15 -> 0
A16: =1+A15 -> 12 | C16: Engelliler için tutunma barı montajı | D16: MONTAJ | E16: 2 | F16: ad | H16: =+E16*G16 -> 0
A17: =1+A16 -> 13 | C17: Engelliler için klozet tutunma barı montajı | D17: MONTAJ | E17: 1 | F17: ad | H17: =+E17*G17 -> 0
... A28: =1+A27 -> 24 | C28: 20 Ø mm (3/4") Pirinç, preste imal edilmiş teflon (PTFE) contalı, tam geçişli, vidalı; (TS EN 13547) | D28: AYVAZ/DUYAR/UNTES | E28: 9 | F28: ad | H28: =+E28*G28 -> 0
A29: =1+A28 -> 25 | H29: =+G29*E29 -> 0
A30: =1+A29 -> 26 | H30: =+G30*E30 -> 0
H31: =+G31*E31 -> 0
B32: B | C32: ISITMA VE SOĞUTMA TESİSATI | H32: =SUM(H33:H43) -> 0
A33: 1 | C33: VRF İÇ ÜNİTE FDT71KXZE1 (Ceiling Cassette - 4 Way) Qc : 7.1 Kw Qh : 8.0 Kw Qe : 0,08 Kw P.Source : 1 Ph.220/240 V 50 Hz Wiring : 3x1,5 mm Fuse : 6A Delayed Dimensions : HxWxD Unit : 236x840x840 Panel : 35x950x950 | D33: DAIKIN/MUADILI | E33: 7 | F33: ad | H33: =+E33*G33 -> 0
A34: =1+A33 -> 2 | C34: VRF DIŞ ÜNİTE FDC280KXZE2 (10 Hp) (KXZ2 Heat Pump) Qc : 28.0 Kw Qh : 31.5 Kw Qe : 7.41 Kw Curr.(nom) : 12.2/ 12.0 Amper Curr.(max) : 20.1 Amper P.Source : 3 Ph.380/415 V 50 Hz Wiring : 4x4 mm Fuse : 32A Dimensions : HxWxD Unit : 1697x1350x720 | D34: DAIKIN/MUADILI | E34: 2 | F34: ad | H34: =+E34*G34 -> 0
A35: =1+A34 -> 3 | C35: Ø25 MM. U-PVC Drenaj Borusu | D35: PİLSA/MUADILI | E35: 108 | F35: mt | H35: =+E35*G35 -> 0
A36: =1+A35 -> 4 | C36: Ø32 MM. U-PVC Drenaj Borusu | D36: PİLSA/MUADILI | E36: 72 | F36: mt | H36: =+E36*G36 -> 0
A37: =1+A36 -> 5 | C37: U-PVC Drenaj Boruları Montaj Malzemesi Bedeli | D37: PİLSA/MUADILI | E37: 0.45 | F37: % | H37: =+E37*G37 -> 0
A38: =1+A37 -> 6 | C38: Ø25 MM. U-PVC Drenaj Borusu - pn10 | D38: HAKAN/FIRAT/MUADILI | E38: 423 | F38: mt | H38: =+E38*G38 -> 0
A39: =1+A38 -> 7 | C39: Ø32 MM. U-PVC Drenaj Borusu - pn10 | D39: HAKAN/FIRAT/MUADILI | E39: 36 | F39: mt | H39: =+E39*G39 -> 0
A40: =1+A39 -> 8 | C40: U-PVC Drenaj Borusu - pn10 Borular Montaj Malzemesi Bedeli | D40: HAKAN/FIRAT/MUADILI | E40: 0.5 | F40: % | H40: =+E40*G40 -> 0
A41: =1+A40 -> 9 | C41: (3/4") ø 28,t=13 mm.kauçuk esaslı prefabrik boru izolesi | D41: ODE/MUADILI | E41: 423 | F41: mt | H41: =+E41*G41 -> 0
A42: =1+A41 -> 10 | C42: (1") ø 35,t=13 mm.kauçuk esaslı prefabrik boru izolesi | D42: ODE/MUADILI | E42: 36 | F42: mt | H42: =+E42*G42 -> 0
H43: =+G43*E43 -> 0
B44: C | C44: HAVALANDIRMA TESİSATI | H44: =SUM(H45:H53) -> 0
A45: 1 | C45: EF-01 Kanal Tipi Fan - 500m3/h, 150Pa | D45: S&P/VENCO/MUADILI | E45: 1 | F45: ad | H45: =+E45*G45 -> 0
A46: =A45+1 -> 2 | C46: IGK-01 Tavan Tipi Isı Geri Kazanım Cihazı Debi Taze Hava - Egzoz : 1.000 m3/h | D46: S&P/VENCO/AERA/MUADILI | E46: 1 | F46: ad | H46: =+E46*G46 -> 0
A47: =A46+1 -> 3 | C47: 600 x 600 Düz kanatlı Kare Alüminyum Anemostat - Planium Box Dahil. | D47: ELEKTROTEKNİK/FİTATEKNİK/DOĞUŞ | E47: 8 | F47: ad | H47: =+E47*G47 -> 0
A48: =A47+1 -> 4 | C48: MOTORLU YANGIN DAMPERİ - 550x250mm | D48: ELEKTROTEKNİK/FİTATEKNİK/DOĞUŞ | E48: 2 | F48: ad | H48: =+E48*G48 -> 0
A49: =A48+1 -> 5 | C49: Ø 125 mm gemici tip anemostat | D49: ELEKTROTEKNİK/FİTATEKNİK/DOĞUŞ | E49: 5 | F49: ad | H49: =+E49*G49 -> 0
A50: =A49+1 -> 6 | C50: İzolesiz flex - ø125mm Alüminyum-polyester laminasyonlu tam esnek (flexible) yalıtımsız borudan hava kanalları | D50: AFS/PAFLEX/MUADILI | E50: 15 | F50: mt | H50: =+E50*G50 -> 0
A51: =A50+1 -> 7 | C51: İzoleli flex - ø250 Cam yünü ile Isı yalıtımlı alüminyum-polyester laminasyonlu tam esnek (flexible) izoleli borudan hava kanalları | D51: AFS/PAFLEX/MUADILI | E51: 30 | F51: mt | H51: =+E51*G51 -> 0
A52: =A51+1 -> 8 | C52: Hava kanalları (DX 51 D+Z 275 gr/m² Çinko Kaplı Sacdan olacaktır) En geniş kenarı 600 mm.ye kadar olanlarda 0,60 mm. galvanizli saçtan dikdörtgen hava kanalı yapılması | D52: İMALAT | E52: 442.5 | F52: m2 | H52: =+E52*G52 -> 0
A53: =A52+1 -> 9 | C53: Kauçuk köpüğü yalıtım malzemesi ile kanal izolesi 13mm (Klima santrallerin emiş kanallarına + egzoz tahliye kanallarına uygulanacak) | D53: ODE/MUADILI | E53: 367.5 | F53: m2 | H53: =+E53*G53 -> 0
A54: =A53+1 -> 10 | H54: =+G54*E54 -> 0
H55: =+G55*E55 -> 0
B56: D | C56: YANGIN TESİSATI | H56: =SUM(H57:H83) -> 0
A57: 1 | C57: Dik DN 15 standart uygulamalar için otomatik yangın sprinkleri - Açılma sıcaklığı 68ºC (Not : Hızlı tepkimeli olacak.) | D57: AYVAZ/DUYAR/UNTES | E57: 50 | F57: ad | H57: =+E57*G57 -> 0
A58: =1+A57 -> 2 | C58: Sarkık DN 15 standart uygulamalar için otomatik yangın sprinkleri - Açılma sıcaklığı 68ºC (Not : Hızlı tepkimeli ve rozetli olacak.) | D58: AYVAZ/DUYAR/UNTES | E58: 50 | F58: ad | H58: =+E58*G58 -> 0
A59: =1+A58 -> 3 | C59: 100 cm uzunluğunda sprinker hortum ve bağlantı seti | D59: AYVAZ/KAYSE/UNTES | E59: 50 | F59: takım | H59: =+E59*G59 -> 0
A60: =1+A59 -> 4 | C60: DN 25 30 mt TS EN 671-1 normlarında tüplü model yangın dolabı -Sıva Altı Plazma Serisi *** 2" - Stroz Kaplinli Vana ***Tüp Haznesi Altta ***Hortum Uzunluğu 1" 30 mt. *** 2 Gözlü (1 Göz Hortum ve Bağlantı Elemanı, 2. Göz Yangın Tüpü) *** Gövde Sac Kalınlığı 1,5 mm. *** Ön Cam Siyah Cam Üzeri Yang. Sembolleri | D60: FETAŞ/OCAKALR/MUADILI | E60: 2 | F60: ad | H60: =+E60*G60 -> 0
A61: =1+A60 -> 5 | C61: ÇİFT KİTLEMELİ PRE-ACTION VANA - DN150 | D61: AYVAZ/DUYAR/UNTES | E61: 1 | F61: ad | H61: =+E61*G61 -> 0
A62: =1+A61 -> 6 | C62: Dn 150 izlenebilir flanş arası sıkıştırmalı kelebek vana | D62: AYVAZ/DUYAR/UNTES | E62: 1 | F62: ad | H62: =+E62*G62 -> 0
A63: =1+A62 -> 7 | C63: Dn 150 yangın çek vana | D63: AYVAZ/DUYAR/UNTES | E63: 1 | F63: ad | H63: =+E63*G63 -> 0
A64: =1+A63 -> 8 | C64: Dn 150 su akış anahtarı | D64: AYVAZ/DUYAR/UNTES | E64: 1 | F64: ad | H64: =+E64*G64 -> 0
A65: =1+A64 -> 9 | C65: DN 50 test ve drenaj vanası, dişli, pirinç | D65: AYVAZ/DUYAR/UNTES | E65: 1 | F65: ad | H65: =+E65*G65 -> 0
A66: =1+A65 -> 10 | C66: Manometre ø 100 mm 15 atmosfer kadar bölüntülü | D66: PAKKENS/MONEKS/MUAIDLI | E66: 1 | F66: ad | H66: =+E66*G66 -> 0
A67: =1+A66 -> 11 | C67: Mini Vana - 1/2" | D67: AYVAZ/DUYAR/UNTES | E67: 1 | F67: ad | H67: =+E67*G67 -> 0
A68: =1+A67 -> 12 | C68: Dikişli vidalı çelik boru 1" 25 mm, dış cap 33,7/3,20 manşonsuz ağırlık 2,43 kg/m - (YANGIN TESİSAT) | D68: ÇAYIROVA/BORUSAN | E68: 90 | F68: mt | H68: =+E68*G68 -> 0
A69: =1+A68 -> 13 | C69: Dikişli vidalı çelik boru 1 1/4" 32 mm, dış cap 42,4/3,20 manşonsuz ağırlık 3,13 kg/m - (YANGIN TESİSAT) | D69: ÇAYIROVA/BORUSAN | E69: 36 | F69: mt | H69: =+E69*G69 -> 0
... A78: =1+A77 -> 22 | C78: Yağlı boya ile boru boyanması ø 100 mm - 150 mm, (4" - 6") arası (6") dahil - (YANGIN TESİSAT) | D78: TSE | E78: 54 | F78: mt | H78: =+E78*G78 -> 0
A79: =1+A78 -> 23 | H79: =+G79*E79 -> 0
A80: =1+A79 -> 24 | H80: =+G80*E80 -> 0
A81: =1+A80 -> 25 | H81: =+G81*E81 -> 0
A82: =1+A81 -> 26 | H82: =+G82*E82 -> 0
H83: =E83*G83 -> 0
B84: *** | H84: =SUM(H4:H83)/2 -> 0

Sheet GRUP-3ORTAK ALAN ELEK. YAP. İŞ.
A1: GRUP-3 ORTAK ALAN ELEKTRİK TESİSAT İŞLERİ KEŞFİ
A2: POZ | B2: İŞİN TANIMI | C2: SEÇİLEN MARKA | D2: BİRİM | E2: MİKTAR ( A ) | F2: POZ BİRİM FİYAT | G2: POZ TOPLAM TUTAR
A3: A | B3: OG/ UPS/ SAC PANOLAR
B4: NOT: TÜM PANOLAR PROJE VE TEKHAT ŞEMALARI DİKKATE ALINARAK SET OLARAK ŞALT MALZEME DAHİL FİYAT VERİLECEKTİR.Proje ve Elektrik Teknik Şartnameye uygun önceden kısa devre hesaplarının yapılarak kontrollüğe onaylatılmak kaydıyla, gerekli kısa devre dayanımında her türlü mesnet, izolatör vb. aksesuar dahil,enerji analizörü modbus haberleşmeli modüler tip panoların çalışır vaziyette teslimi
A5: A-1.1 | B5: Dikili tip Ana Dağıtım Ve Kuvvet Panoları
A6: A-1.1.1 | B6: Ortak Alan Panosu | C6: LOKAL-Şalt ABB Schnider | D6: Ad. | E6: 1 | G6: =+E6*F6 -> 0
A7: C | B7: KABLOLAR
B8: Proje ve Elektrik Teknik Şartnamesine uygun Her nevi montaj malzemesi dahil (kablo bağı, yüksük vs.) çalışır halde teslimi
A9: C-1 | B9: Kuvvetli Akım Kabloları
A10: C-1.1 | B10: NHXMH Kablolar
A11: C-1.1.3 | B11: 3x1,5 mm2 NHXMH | C11: PRYSMIAN-NEXANS-ÖZNUR | D11: Mt. | E11: 75 | G11: =+E11*F11 -> 0
A12: C-1.1.4 | B12: 3x2,5 mm2 NHXMH | C12: PRYSMIAN-NEXANS-ÖZNUR | D12: Mt. | E12: 585 | G12: =+E12*F12 -> 0
A13: C-1.2 | B13: N2XH Kablolar
A14: C-1.2.5 | B14: 3x2,5 mm2 N2XH | C14: PRYSMIAN-NEXANS-ÖZNUR | D14: Mt. | E14: 75 | G14: =+E14*F14 -> 0
A15: C-2 | B15: Zayıf Akım Akım Kabloları
A16: C-2.1 | B16: Yangın Sistemi Kabloları
A17: C-2.1.4 | B17: 2x2x0,8+0,8 JH(st)H Fe-180 | C17: NEXANS-HCS-ERSE | D17: Mt. | E17: 75 | G17: =+E17*F17 -> 0
A18: C-2.1.8 | B18: 2x1.5 mm LIHCH FE180 | C18: NEXANS-HCS-ERSE | D18: Mt. | E18: 52.5 | G18: =+E18*F18 -> 0
A19: C-2.2 | B19: Seslendirme-Otomasyon Sistemi Kabloları
A20: C-2.2.5 | B20: 2x1,5 LIHCH | C20: NEXANS-HCS-ERSE | D20: Mt. | E20: 300 | G20: =+E20*F20 -> 0
A21: C-2.2.7 | B21: 4x1,5 LIHCH | C21: NEXANS-HCS-ERSE | D21: Mt. | E21: 150 | G21: =+E21*F21 -> 0
A22: C-2.2.8 | B22: 2x1.5 LIHCH Fe-180 | C22: NEXANS-HCS-ERSE | D22: Mt. | E22: 75 | G22: =+E22*F22 -> 0
A23: C-2.2.12 | B23: CAT 6 UTP Cable LSZH | C23: NEXANS-HCS-ERSE | D23: Mt. | E23: 75 | G23: =+E23*F23 -> 0
A24: D | B24: KABLO TAŞIYICILARI
A25: D-1 | B25: Sac Kablo Taşıyıcıları (TS. 914) h:40mm
B26: NOT: TÜN ASKI APARATLARI,DÖNÜŞLERİ, SOMUN VİDAT VB. HER TÜRLÜ ASKI APARAT DAHİL FİYAT VERİLECEKTİR. S 914 şartlarında proje ve Elektrik Teknik Şartnamesine uygun sıcak daldırma galvaniz sacdan imal edilmiş 40mm kenar yüksekliğinde 1/3 oranında delikli her nevi montaj aksesuarı , montajı dahil kablo çekimine hazır halde teslimi
A27: D-1.1 | B27: 100mm Kablo Tavası | C27: EAE STS | D27: Mt. | E27: 37.5 | G27: =+E27*F27 -> 0
A28: E | B28: HALOGENFREE PVC BORULAR-Halogenfree PVC Kaplı Çelik Spiral Boru-Galvanize Çelik Borular(EMT)
B29: Proje ve Elektrik Teknik Şartnamesine uygun her nevi ufak montaj malzemesi ve işçilik dahil çalışır halde teslimi Yanmaz özellikte olacak
A30: E-1 | B30: Q20 mm'ye kadar Halogenfree PVC Spiral Boru (Aks. Dahil) -Alev yaymaz | C30: PINARSAN-MUTLUSAN | D30: Mt. | E30: 300 | G30: =+E30*F30 -> 0
A31: F | B31: ANAHTAR PRİZ TESİSATLARI
B32: Proje ve Elektrik Teknik Şartnamesine uygun her nevi ufak montaj malzemesi (kasa,vidalı kaide,çerçeve,buat,buat plakası vb.) ve işçilik dahil çalışır halde teslimi
A33: F-1 | B33: Sıva Altı Anahtar Prizler (Genel Mahaller)
A34: F-1.30 | B34: Tekli Priz | C34: BTİCİNO LIVING NOW SERİSİ | D34: Ad. | E34: 15 | G34: =+E34*F34 -> 0
A35: G | B35: AYDINLATMA ARMATÜRLERİ
A36: G-1 | B36: Aydınlatma Armatür Montajı
B37: Proje ve Elektrik Teknik Şartnamesine uygun her nevi ufak montaj malzemesi(buat , buat plakası ,klemens v.b) ve işçilik dahil çalışır halde teslimi-Montaj
A38: G-1.5 | B38: Sıva altı - Sıva üstü kare spot (ıslak hacim) Kitli-Kitsiz | C38: Led Chip Markaları: Osram, Philips, Samsung | D38: Ad. | E38: 40 | G38: =+E38*F38 -> 0
A39: G-1.21 | B39: Sıva altı - Sıva üstü EXIT armatür | C39: ARSEL-EEC | D39: Ad. | E39: 5 | G39: =+E39*F39 -> 0
A40: G-1.38 | B40: Koridor Lineer Armatür 22W/mt | C40: Led Chip Markaları: Osram, Philips, Samsung | D40: Mt. | E40: 52.5 | G40: =+E40*F40 -> 0
A41: G-1.39 | B41: Altez CRE Acil Kit | C41: ALTEZ | D41: Ad. | E41: 8 | G41: =+E41*F41 -> 0
A42: G-1.55 | B42: Hareket Sensörü | C42: Led Chip Markaları: Osram, Philips, Samsung | D42: Ad. | E42: 11 | G42: =+E42*F42 -> 0
A43: H | B43: ZAYIF AKIM SİSTEMLERİ
A44: H-1 | B44: Seslendirme ve Acil Anons Sistemi
B45: Proje ve Elektrik Teknik Şartnamesine uygun her nevi ufak montaj malzemesi(klemens v.b) ve işçilik dahil supervisor firma nezaretinde çalışır halde teslimi-Montaj (Merkez ünite ve amplifikatör gruplandırması, marka ve firmaya göre değişebilir.)
A46: H-1.10 | B46: 6W Asma Tavan Tipi Hoparlör , Montaj Kutusu ile Birlikte | C46: SCHRACK | D46: Ad. | E46: 15 | G46: =+E46*F46 -> 0
A47: H-2 | B47: Yangın Algılama ve İhbar Sistemi
B48: Proje ve Elektrik Teknik Şartnamesine uygun her nevi ufak montaj malzemesi(klemens v.b) ve işçilik dahil supervisor firma nezaretinde çalışır halde teslimi-Montaj
A49: H-2.8 | B49: Optik Duman Dedektörü | C49: SCHRACK | D49: Ad. | E49: 20 | G49: =+E49*F49 -> 0
A50: H-2.12 | B50: Yangın İhbar Butonu | C50: SCHRACK | D50: Ad. | E50: 1 | G50: =+E50*F50 -> 0
A51: H-2.22 | B51: Standart Dedektör Tabanı / Soketi | C51: SCHRACK | D51: Ad. | E51: 20 | G51: =+E51*F51 -> 0
A52: H-3 | B52: CCTV Sistemi
B53: Proje ve Elektrik Teknik Şartnamesine uygun her nevi ufak montaj malzemesi(klemens v.b) ve işçilik dahil supervisor firma nezaretinde çalışır halde teslimi-Montaj
A54: H-3.1 | B54: Day/Night IP Mini Dome Kamera , 2MP 2.8mm H.265+ Dah. Mik. Smart Hybrid Light Dome Kamera | C54: HIKVISIONL-DAHUA-UNIVIEW | D54: Ad. | E54: 8 | G54: =+E54*F54 -> 0
B55: Network Sistemi
A56: H-3.21 | B56: Access Point | C56: ARUBA | D56: Ad. | E56: 4 | G56: =+E56*F56 -> 0
A57: H-3.22 | B57: IP Dect | C57: ARUBA | D57: Ad. | E57: 4 | G57: =+E57*F57 -> 0
A58: H-3.23 | B58: Süpervizyon, Test ve Devreye Alma | C58: ARUBA | D58: Set | E58: 1 | G58: =+E58*F58 -> 0
A59: H-6 | B59: Data Altyapı Sistemi
B60: Proje ve Elektrik Teknik Şartnamesine uygun her nevi ufak montaj malzemesi(klemens v.b) ve işçilik dahil supervisor firma nezaretinde çalışır halde teslimi-Montaj
A61: H-6.1 | B61: CAT 6 UTP KABLO LSOH | C61: HCS | D61: Mt. | E61: 300 | G61: =+E61*F61 -> 0
A62: H-6.5 | B62: CAT 6 UTP MODULER JACK | C62: HCS | D62: Ad. | E62: 8 | G62: =+E62*F62 -> 0
A63: H-6.41 | B63: DATA TEST DÖKÜMANTASYON | C63: HCS | D63: Ad. | E63: 8 | G63: =+E63*F63 -> 0
A64: K | B64: MEKANİK UÇ BAĞLANTILARI
A65: K.1.1.1 | B65: Keşif Dışı Tüm uç bağlantıları (Motorlu Yangın Damperi Uç Bağlantısı-Yangın Damperi-Volume Damperi ) | D65: Ad. | E65: 5 | G65: =+E65*F65 -> 0
A66: K.1.1.2 | B66: TERMOSTAT Montajı | D66: Ad. | E66: 11 | G66: =+E66*F66 -> 0
A67: O | B67: YEVMİYE
A68: O-1.1 | B68: USTA YEVMİYE BEDELİ | D68: a/s | E68: 1 | G68: =+E68*F68 -> 0
A69: O-1.2 | B69: YARDIMCI YEVMİYE BEDELİ | D69: a/s | E69: 1 | G69: =+E69*F69 -> 0
F71: GENEL TOPLAM
F72: =SUMPRODUCT($E$6:$E$66,F$6:F$66) -> 0

Sheet ELEKTRİK DETAY-1
B1: AYDINLATMA TEKNİK ŞARTNAMESİ
B2: Sıra No | C2: Temsili Ürün Görseli | D2: Ürünün Teknik İsmi | E2: Teklif Edilen Ürün Görseli | F2: Ürünün Elektronik Özellikleri | G2: Ürünün Fiziksel Özellikleri | H2: Ürünün Ebatları Ürün Rengi | I2: Ürüne ait Led Chip, Driver, Sensör, Kit Markaları
B4: 1 | D4: Koridor Lineer Led | F4: CRI>80 P: 30 Watt/Metre V: 24V DC Φ=675 Lümen (Difüzörlü) Verim: 90 Lümen/Watt IP Sınıfı: IP20 Renk Sıcaklığı: 3000 Kelvin MacAdam 3-step 5mm 480 LED 24V Şerit Led (Yapışkanlı) | G4: Gövde; En az 20 mikron eloksalli alüminyum ekstrüzyon profil Montaj aparatı; alüminyum olmalıdır, Difüzör; opal polisitren malzemeden homojen ışık çıkışı sağlayan yüksek verimli olmalı, Montaj aparatları alüminyum paslanmaz olmalı, Enerji girişleri soket ile yapılmalıdır, Yan kapaklar UV korumali olmalı, Ahşap yüzeye montaj için uygun olmalı, Difüzör profil ile hem yüz olmalı (Oval değil) Ürünün enerji girişi gövdeden olmalı, | H4: Taban genişliği: 10mm, Yüksekliği: 6.15mm, Ürün uzunluğu 1200 mm olacaktır. 1 boy için 3 adet bağlantı parçası birim fiyata dahildir. Garanti süresi 3 yıldır. Ürünün renk sıcaklığı ve lümen değerleri sahada LüxMetre ile ölçülecektir. | I4: Led Chip Markaları: Nichia, Philips, Samsung Lütfen başka marka driver teklif etmeyiniz. Ürüne ait parçaların marka ve etiket bilgileri teslim alınırken veya alındıktan sonra kontrol edilecektir.
B5: 4 | D5: 120 Cm 36 W LED Etanj Armatür | F5: CRI>80 P: 36 Watt Φ=3210 Lümen Verim: 110 Lümen/Watt IP Sınıfı: IP65 Renk Sıcaklığı: 4000 Kelvin En az 2 saat acil aydınlatma kitli | G5: Gövde; plastik ekstrüzyon olmalı, Difüzör; homojen ışık çıkışı sağlayan yüksek verimli olmalı, Bitiş kapakları; PVC malzemeden UV dayanımı yüksek olmalı, Sabit ON/OFF akım trafolu, cosφ= 0,9 olmalı, Ürün kablo çıkışında Gizli IP67 conta ve bağlantısı yapılmış en az 1.5mt uzunluğunda 3x1.5mm2 kesitinde NHXMH türü cca sınıfı kablo olmalı. | I5: Led Chip Markaları: Nichia, Philips, Samsung Driver Markaları: Tridonic, Osram, Philips
B6: 5 | D6: 120 Cm 36 W LED Etanj Armatür -Kitli | F6: CRI>80 P: 36 Watt Φ=3210 Lümen Verim: 110 Lümen/Watt IP Sınıfı: IP65 Renk Sıcaklığı: 4000 Kelvin En az 2 saat acil aydınlatma kitli | G6: Gövde; plastik ekstrüzyon olmalı, Difüzör; homojen ışık çıkışı sağlayan yüksek verimli olmalı, Bitiş kapakları; PVC malzemeden UV dayanımı yüksek olmalı, Sabit ON/OFF akım trafolu, cosφ= 0,9 olmalı, Ürün kablo çıkışında Gizli IP67 conta ve bağlantısı yapılmış en az 1.5mt uzunluğunda 3x1.5mm2 kesitinde NHXMH türü cca sınıfı kablo olmalı. | I6: Led Chip Markaları: Nichia, Philips, Samsung Driver Markaları: Tridonic, Osram, Philips Acil Aydınlatma Kit Markaları: EEC, Arsel Acil Aydınlatma Kiti EN/IEC 60598-2-22 standartlarına uygun olmalıdır.
B7: 9 | D7: SLIM DOWN. S.Ü. DS13 300mm KARE 24W 3000K 80CRI SV BEYAZ(RAL9016) ON/OFF IR SENS. S 3S KITLI IP20 | F7: CRI>80 P: 24Watt IP Sınıfı: IP44 Renk Sıcaklığı: 3000 Kelvin En az 3 saat acil aydınlatma kitli Lens açısı: 95" | G7: Gövde; elektrostatik boyalı DKP metalden olmalı, Çerçeve: elektrostatik boyalı DKP metalden olmalı, Difüzör; opal polisitren malzemeden homojen ışık çıkışı sağlayan yüksek verimli olmalı, Gömme kullanıma uygun olmalı, Sabit akım trafolu, ON/OFF, cosφ= 0,9 olmalı, | H7: Garanti süresi 3 yıldır. Ürünün renk sıcaklığı ve lümen değerleri sahada LüxMetre ile ölçülecektir. | I7: Led Chip Markaları: Nichia, Philips, Samsung Driver Markaları: Tridonic, Osram, Philips, Ledvance Lütfen başka marka driver teklif etmeyiniz. Ürüne ait parçaların marka ve etiket bilgileri teslim alınırken veya alındıktan sonra kontrol edilecektir.
B8: 14 | D8: 60x60 Steril Panel LED Aydınlatma 4000 K | F8: Dim edilebilir olması lazım. | H8: Taban genişliği: 525x575mm, | I8: Led Chip Markaları: Nichia, Philips, Samsung Driver Markaları: Tridonic, Osram, Philips, Ledvance Lütfen başka marka driver teklif etmeyiniz. Ürüne ait parçaların marka ve etiket bilgileri teslim alınırken veya alındıktan sonra kontrol edilecektir.
B9: 15 | D9: 60x60 Steril Panel LED Aydınlatma 4000 K -Kitli | F9: Dim edilebilir olması lazım. | H9: Taban genişliği: 525x575mm, | I9: Led Chip Markaları: Nichia, Philips, Samsung Driver Markaları: Tridonic, Osram, Philips, Ledvance Acil Aydınlatma Kit Markaları: EEC, Beş-A, Cesa Acil Aydınlatma Kiti EN 60598-2-22, EN 61347-2-7, EN 61347-2-13, EN 62384, CE normlarına uygun olmalıdır. Lütfen başka marka kit ve driver teklif etmeyiniz. Ürüne ait parçaların marka ve etiket bilgileri teslim alınırken veya alındıktan sonra kontrol edilecektir.
C10: #VALUE! | D10: ACİL ÇIKIŞ ARMATÜRÜ | F10: CRI>80 E=10 Lux IP Sınıfı: IP30-IP40-IP55 Renk Sıcaklığı: 6500 Kelvin En az 2 saat acil aydınlatma kitli | G10: Gövde; Alüminyum extrüzyon olmalı, Panel; Şeffaf akrilik Yüksek sıcaklığa dayanıklı, endüstriyel tip Ni-Cd batarya 30 metreden görünebilirlik Tavana gömme tip olacaktır. | I10: Led Chip Markaları: Nichia, Philips, Samsung Driver Markaları: Tridonic, Osram, Philips Acil Aydınlatma Kit Markaları: EEC, Cesa, Altez, Arsel Acil Aydınlatma Kiti EN/IEC 60598-2-22 standartlarına uygun olmalıdır.
D11: ACİL AYDINLATMA KİTİ | F11: 220V AC Beslemeli EN 61347-2-7 Uyumlu Test Butonlu Yeşil Şarj LED Göstergeli Harici Röle Kontrollü NiCd/NiMH Bataryalı CE, EMC, LVD Ve RoHS Belgeli | G11: Polikarbon Gövdeli Class II İzolasyonlu 850°C Glow Wire Testine Uygun | I11: Acil Aydınlatma Kit Markaları: EEC, Cesa, Altez, Arsel, Acil Aydınlatma Kiti EN/IEC 60598-2-22 Standartlarına Uygun Olmalıdır
B12: 16 | D12: Varlık Sensörü ( cata marka )
B13: 25 | D13: Sıva Altı İkili Kare Spot | F13: CRI>80 P: 14Watt Φ=1420 Lümen Verim: 100 Lümen/Watt IP Sınıfı: IP20 Renk Sıcaklığı: 3000 Kelvin, MacAdam 3-step COB Led | G13: Gövde; elektrostatik boyalı alüminyum ekstrüzyon olmalı, Soğutucu: alüminyum enjeksiyon olmalı, Reflektör; alüminyum desenli olmalı, Reflektör camı: Temperli olmalı, Gömme kullanıma uygun olmalı, Led başlıklar hareketli olmalı, Sabit akım trafolu,ON/OFF, cosφ= 0,9 olmalı, Ürünün Kablo Ucunda 5'li yaylı tırnaklı klemens kullanılmalı, Kademe derinliği min 20mm olmalı (reflektör derinliği). | H13: Taban genişliği: 234x117mm, Yüksekliği: 90mm, Gövde RAL kodu: 9016 Garanti süresi 3 yıldır. Ürünün renk sıcaklığı ve lümen değerleri sahada LüxMetre ile çöçülecektir. | I13: Led Chip Markaları: Nichia, Philips, Samsung Driver Markaları: Tridonic, Osram, Philips, Ledvance Lütfen başka marka driver teklif etmeyiniz. Ürüne ait parçaların marka ve etiket bilgileri teslim alınırken veya alındıktan sonra kontrol edilecektir.
B14: 26 | D14: Sıva Altı İkili Kare Spot -Kitli | F14: CRI>80 P: 14Watt Φ=1420 Lümen Verim: 100 Lümen/Watt IP Sınıfı: IP20 Renk Sıcaklığı: 3000 Kelvin, MacAdam 3-step COB Led En az 2 saat acil aydınlatma kitli | G14: Gövde; elektrostatik boyalı alüminyum ekstrüzyon olmalı, Soğutucu: alüminyum enjeksiyon olmalı, Reflektör; alüminyum desenli olmalı, Reflektör camı: Temperli olmalı, Gömme kullanıma uygun olmalı, Led başlıklar hareketli olmalı, Sabit akım trafolu,ON/OFF, cosφ= 0,9 olmalı, Ürünün Kablo Ucunda 7'li yaylı tırnaklı klemens kullanılmalı, Kademe derinliği min 20mm olmalı (reflektör derinliği). | H14: Taban genişliği: 234x117mm, Yüksekliği: 90mm, Gövde RAL kodu: 9016 Garanti süresi 3 yıldır. Ürünün renk sıcaklığı ve lümen değerleri sahada LüxMetre ile çöçülecektir. | I14: Led Chip Markaları: Nichia, Philips, Samsung Driver Markaları: Tridonic, Osram, Philips, Ledvance Acil Aydınlatma Kit Markaları: EEC, Beş-A, Cesa Acil Aydınlatma Kiti EN 60598-2-22, EN 61347-2-7, EN 61347-2-13, EN 62384, CE normlarına uygun olmalıdır. Lütfen başka marka kit ve driver teklif etmeyiniz. Ürüne ait parçaların marka ve etiket bilgileri teslim alınırken veya alındıktan sonra kontrol edilecektir.
B15: 27 | D15: Sıva Altı Tekli Kare Spot | F15: CRI>85 P: 6Watt Φ=540 Lümen Verim: 90 Lümen/Watt IP Sınıfı: IP44 Renk Sıcaklığı: 3000 Kelvin, MacAdam 3-step COB Led | G15: Gövde; elektrostatik boyalı alüminyum enjeksiyon olmalı, Çerçeve: elektrostatik boyalı alüminyum enjeksiyon olmalı, Soğutucu: alüminyum enjeksiyon olmalı, Reflektör; alüminyum desenli olmalı, Reflektör camı: Temperli olmalı, Gömme kullanıma uygun olmalı, Sabit akım trafolu, ON/OFF, cosφ= 0,9 olmalı, Ürünün Kablo Ucunda 5'li yaylı tırnaklı klemens kullanılmalı, Kademe derinliği min 30mm olmalı (reflektör derinliği). | H15: Ürün çapı: 94mm, Taban genişliği: 85mm, Yüksekliği: 65mm, Gövde RAL kodu: 9016 Garanti süresi 3 yıldır. Ürünün renk sıcaklığı ve lümen değerleri sahada LüxMetre ile ölçülecektir. | I15: Led Chip Markaları: Nichia, Philips, Samsung Driver Markaları: Tridonic, Osram, Philips, Ledvance Lütfen başka marka driver teklif etmeyiniz. Ürüne ait parçaların marka ve etiket bilgileri teslim alınırken veya alındıktan sonra kontrol edilecektir.
B16: 28 | D16: Sıva Altı Tekli Kare Spot -Kitli | F16: CRI>85 P: 6Watt Φ=540 Lümen Verim: 90 Lümen/Watt IP Sınıfı: IP44 Renk Sıcaklığı: 3000 Kelvin, MacAdam 3-step COB Led En az 2 saat acil aydınlatma kitli | G16: Gövde; elektrostatik boyalı alüminyum enjeksiyon olmalı, Çerçeve: elektrostatik boyalı alüminyum enjeksiyon olmalı, Soğutucu: alüminyum enjeksiyon olmalı, Reflektör; alüminyum desenli olmalı, Reflektör camı: Temperli olmalı, Gömme kullanıma uygun olmalı, Sabit akım trafolu, ON/OFF, cosφ= 0,9 olmalı, Ürünün Kablo Ucunda 5'li yaylı tırnaklı klemens kullanılmalı, Kademe derinliği min 30mm olmalı (reflektör derinliği). | H16: Ürün çapı: 94mm, Taban genişliği: 85mm, Yüksekliği: 65mm, Gövde RAL kodu: 9016 Garanti süresi 3 yıldır. Ürünün renk sıcaklığı ve lümen değerleri sahada LüxMetre ile çöçülecektir. | I16: Led Chip Markaları: Nichia, Philips, Samsung Driver Markaları: Tridonic, Osram, Philips, Ledvance Acil Aydınlatma Kit Markaları: EEC, Beş-A, Cesa Acil Aydınlatma Kiti EN 60598-2-22, EN 61347-2-7, EN 61347-2-13, EN 62384, CE normlarına uygun olmalıdır. Lütfen başka marka kit ve driver teklif etmeyiniz. Ürüne ait parçaların marka ve etiket bilgileri teslim alınırken veya alındıktan sonra kontrol edilecektir.

Sheet 1.2-İNŞAAT-KÜTÜPHANE ZEMİN KAT
B1: İNŞAAT İŞLERİ
A2: SIRA NO | B2: İŞİN TANIMI | C2: BİRİM | D2: MİKTAR | E2: BİRİM FİYAT | F2: TUTAR
A3: 1 | B3: 2WR + 40x60x1,5 mm + Knauf İnsulation + 2WR Çelik Konstrüksiyonlu Bölme Duvar İmalatı | C3: m2 | D3: =43.5*2.8 -> 121.8 | E3: 1450 | F3: =+D3*E3 -> 176610 | G3: İSÜ YEŞİL PLAZA 18.09.2025 TARİHLİ SÖZLEŞME BR. FİYAT BAMAX
A4: 2 | B4: 2FX+40*60*1,5 mm+knauf insulation+2fx çelik konstrüksiyonlu bölme duvar imalatı | C4: MTÜL | D4: 20.21 | E4: 2422.48 | F4: =+D4*E4 -> 48958.321 | G4: 18 KASIM OANYLI BR. FİYAT BAMAX
A5: 3 | B5: WR+40*20*1,5 mm profil ile alçıpan asma tavan yapılması | C5: m2 | D5: =+D21 -> 42.69 | E5: 800 | F5: =+D5*E5 -> 34152 | G5: İSÜ YEŞİL PLAZA 18.09.2025 TARİHLİ SÖZLEŞME BR. FİYAT BAMAX
A6: 4 | B6: Tavan Saten Alçı | C6: m2 | D6: =+D8+D5 -> 1539.94 | E6: 250 | F6: =+D6*E6 -> 384985 | G6: İSÜ YEŞİL PLAZA 18.09.2025 TARİHLİ SÖZLEŞME BR. FİYAT BAMAX
A7: 5 | B7: Tavan boya yapılması (saten alçı üzeri) | C7: m2 | D7: =+D5 -> 42.69 | E7: 150 | F7: =+D7*E7 -> 6403.5 | G7: İSÜ YEŞİL PLAZA 18.09.2025 TARİHLİ SÖZLEŞME BR. FİYAT BAMAX
A8: 6 | B8: Tavan Siyah Boya Yapılması | C8: m2 | D8: =+D10+H8 -> 1497.25 | E8: 104.92 | F8: =+D8*E8 -> 157091.47 | G8: İSÜ YEŞİL PLAZA 18.09.2025 TARİHLİ SÖZLEŞME BR. FİYAT BAMAX | H8: 463.25
A9: 7 | B9: PVC malzeme ( fire eklenmemiştir) (karo) | C9: m2 | D9: 1034 | E9: =49.5474*13.15 -> 651.54831 | F9: =+D9*E9 -> 673700.95 | G9: 5.12.2025 ONAYLI FİYAT 13,15 £
A10: 8 | B10: PVC işçilik yapılması (karo) | C10: m2 | D10: =+D9 -> 1034 | E10: 242.3 | F10: =+D10*E10 -> 250538.2 | G10: İSÜ TOPKAPI YEŞİL PLAZA PANDEX 8.10.2025 SÖZ. BR. FİYAT
A11: 9 | B11: LVT özel yapıştırıcı malzeme+işçilik (sarfiyat 0,35 kg/m2) | C11: kg | D11: =+D10*0.35 -> 361.9 | E11: 143.44 | F11: =+D11*E11 -> 51910.936 | G11: İSÜ TOPKAPI YEŞİL PLAZA PANDEX 8.10.2025 SÖZ. BR. FİYAT
A12: 10 | B12: Self Leveling Yapılması (malzeme +işçilik 1 m2 de 1 mm kalınlık için 1,5 kg gider ortalama 16 mm kalınlıkta) (1 torba:25 kg) | C12: torba | D12: =+(D10*24)/25 -> 992.64 | E12: 1114.56 | F12: =+D12*E12 -> 1106356.8 | G12: İSÜ TOPKAPI YEŞİL PLAZA PANDEX 8.10.2025 SÖZ. BR. FİYAT
A13: 11 | B13: Epoksi işçiliği | C13: m2 | D13: =+D10 -> 1034 | E13: 222.91 | F13: =+D13*E13 -> 230488.94 | G13: İSÜ TOPKAPI YEŞİL PLAZA PANDEX 8.10.2025 SÖZ. BR. FİYAT
A14: 12 | B14: Çelik macun | C14: kg | D14: =+(1034*313.42)/15671.13 -> 20.679828 | E14: 188.99 | F14: =+D14*E14 -> 3908.2808 | G14: İSÜ TOPKAPI YEŞİL PLAZA PANDEX 8.10.2025 SÖZ. BR. FİYAT
A15: 13 | B15: Bally | C15: kg | D15: =+(1034*853.21)/15671.13 -> 56.295822 | E15: 300.45 | F15: =+D15*E15 -> 16914.08 | G15: İSÜ TOPKAPI YEŞİL PLAZA PANDEX 8.10.2025 SÖZ. BR. FİYAT
A16: 14 | B16: 5+5 temperli camlı ve alüminyum profilli cam bölme yapılması imalatı ve montajı (YÜKSEKLİK İÇİN YERİNDE KEŞİF YAPILMALIDIR.H:220 ALINMIŞTIR) | C16: m2 | D16: =(8.17+10.09+1.95)*2.2 -> 44.462 | E16: 5720 | F16: =+D16*E16 -> 254322.64 | G16: 24 kasım onaylı br. Fiyat çakra
A17: 15 | B17: Cam filmi kaplama DEGRADE (YÜKSEKLİK İÇİN YERİNDE KEŞİF YAPILMALIDIR.H:150 ALINMIŞTIR) | C17: m2 | D17: =20.21*1.5 -> 30.315 | E17: 750 | F17: =+D17*E17 -> 22736.25 | G17: 22 kasım onaylı br. Fiyat ALE
A18: 16 | B18: Otomatik kayar kapı (çift yöne- giriş sensörlü -çıkış sensörlü)205*220 (GİRİŞ VE ÇIKIŞ KAPILARI) (YERİNDE KEŞİF YAPILMALIDIR) | C18: adet | D18: 3 | E18: =+(4.51*78508.48)/3.99 -> 88740.162 | F18: =+D18*E18 -> 266220.48 | G18: 18 kasım onaylı br. Fiyat dorma kaba
A19: 17 | B19: Kütüphane giriş bitki | C19: adet | D19: 1 | E19: 120000 | F19: =+D19*E19 -> 120000 | G19: orhan beyden
A20: 18 | B20: WC Cubicle kabin H:210 KASTAMONU ENTEGRE (ayak boy dahil) (12 mt yerinde keşif yapılmalıdır) | C20: m² | D20: =12*2.1 -> 25.2 | E20: 3587 | F20: =+D20*E20 -> 90392.4 | G20: 4 kasım onaylı br. Fiyat wetcom kabin
A21: 19 | B21: Zemin Seramik Malzeme+İşçilik | C21: m2 | D21: 42.69 | E21: 1085 | F21: =+D21*E21 -> 46318.65 | G21: 14.08.2025 ÇANAKKALE MLP KALE SERAMİK 235 TL/M2(22.09.2025 GÜNCEL FİYATDA ALINDI)- İSÜ28.07.2025 SERAMİK İŞÇİLİK 850 TL/M2
A22: 20 | B22: Duvar Seramik Malzeme+İşçilik | C22: m2 | D22: =+(16.8*2*2.4)+(26.7*2.4)-(5*2.2) -> 133.72 | E22: 1085 | F22: =+D22*E22 -> 145086.2 | G22: 14.08.2025 ÇANAKKALE MLP KALE SERAMİK 235 TL/M2(22.09.2025 GÜNCEL FİYATDA ALINDI)- İSÜ28.07.2025 SERAMİK İŞÇİLİK 850 TL/M2
A23: 21 | B23: ISLAK HACİMLERDE ÇİMENTO ESASLI ÇİFT KOMPENANTLI SÜRME İZOLASYON YAPILMASI (SÜZGEÇ ETRAFLARINA POLİÜRETAN UYGULAMA YAPILACAKTIR) | C23: m2 | D23: =+D21 -> 42.69 | E23: 575 | F23: =+D23*E23 -> 24546.75 | G23: 28 ekim onaylı br. Fiyat özde
A24: 22 | B24: Ahşap kapı (110*220 yerinde keşif yapılmalıdır) | C24: adet | D24: 5 | E24: 19158.333 | F24: =+D24*E24 -> 95791.667 | G24: 28.07.2025 FİYAT
A25: 23 | B25: Yangın kapısı pushbarlı -F-90 KARTLI (100*220 yerinde keşif yapılmalıdır) | C25: adet | D25: 1 | E25: 25000 | F25: =+D25*E25 -> 25000
A26: 24 | B26: Yangın kapısı pushbarlı -F-90 (110*220 yerinde keşif yapılmalıdır) | C26: adet | D26: 2 | E26: 25000 | F26: =+D26*E26 -> 50000
A27: 25 | B27: Kolon MDF üzeri Füme ayna kaplama (H:5,35 yerinde keşif yapılmalıdır.) | C27: m2 | D27: =66.44*5.35 -> 355.454 | E27: 4100 | F27: =+D27*E27 -> 1457361.4 | G27: 19 ağustos onaylı br. Fiyat yeşilyurt
A28: 26 | B28: MDF üzeri boyalı cam (H:5,35 yerinde keşif yapılmalıdır.) | C28: m2 | D28: =17.46*5.35 -> 93.411 | E28: 4000 | F28: =+D28*E28 -> 373644 | G28: 1 aralık onaylı br. Fiyat yeşilyurt
A29: 27 | B29: Blackout stor perde | C29: m2 | D29: =+(19.6*2.8)+((14.74+7.25+6.93)*5.6) -> 216.832 | E29: 530 | F29: =+D29*E29 -> 114920.96 | G29: 31.10.2025 göztepe onaylı br. Fiyat
A30: 28 | B30: Lavabo | C30: adet | D30: 7 | E30: 1353.75 | F30: =+D30*E30 -> 9476.25 | G30: 1.09.2025 BURSA ONAYLI FİYAT
A31: 29 | B31: Lavabo Bataryası | C31: adet | D31: 7 | E31: 1700 | F31: =+D31*E31 -> 11900 | G31: 1.09.2025 BURSA ONAYLI FİYAT
A32: 30 | B32: Engelli Lavabo Bataryası | C32: adet | D32: 1 | E32: 3479.19 | F32: =+D32*E32 -> 3479.19 | G32: 4.12.2025 yeşil plaza onaylı br. Fiyat
A33: 31 | B33: Klozet | C33: adet | D33: 7 | E33: 6450 | F33: =+D33*E33 -> 45150 | G33: 4.12.2025 yeşil plaza onaylı br. Fiyat
A34: 32 | B34: Engelli klozet | C34: adet | D34: 1 | E34: 2790 | F34: =+D34*E34 -> 2790 | G34: 4.12.2025 yeşil plaza onaylı br. Fiyat
A35: 33 | B35: Tutunma barı | C35: adet | D35: 1 | E35: 4368.76 | F35: =+D35*E35 -> 4368.76 | G35: 4.12.2025 yeşil plaza onaylı br. Fiyat
A36: 34 | B36: Klozet kapağı | C36: adet | D36: 7 | E36: 1300 | F36: =+D36*E36 -> 9100 | G36: 4.12.2025 yeşil plaza onaylı br. Fiyat
A37: 35 | B37: Engelli klozet kapağı | C37: adet | D37: 1 | E37: 950 | F37: =+D37*E37 -> 950 | G37: 4.12.2025 yeşil plaza onaylı br. Fiyat
A38: 36 | B38: Tuvalet kağıtlığı | C38: adet | D38: 8 | E38: 602.55 | F38: =+D38*E38 -> 4820.4 | G38: 4.12.2025 yeşil plaza onaylı br. Fiyat
A39: 37 | B39: Filtreli Ara Musluk | C39: adet | D39: 8 | E39: 137.4 | F39: =+D39*E39 -> 1099.2 | G39: 1.09.2025 BURSA ONAYLI FİYAT
A40: 38 | B40: Lavabo Sifonu | C40: adet | D40: 8 | E40: 1176.78 | F40: =+D40*E40 -> 9414.24 | G40: 1.09.2025 BURSA ONAYLI FİYAT
A41: 39 | B41: Basmalı Lavabo Süzgeci | C41: adet | D41: 8 | E41: 3114 | F41: =+D41*E41 -> 24912 | G41: 1.09.2025 BURSA ONAYLI FİYAT
... A43: 41 | B43: Gömme rezervuar | C43: adet | D43: 8 | E43: 4519.43 | F43: =+D43*E43 -> 36155.44 | G43: 4.12.2025 yeşil plaza onaylı br. Fiyat
A44: 42 | B44: Hareketli ayna | C44: adet | D44: 1 | E44: 4355.02 | F44: =+D44*E44 -> 4355.02
A45: 43 | B45: Usta yevmiyesi | C45: yev | F45: =+D45*E45 -> 0
A46: 44 | B46: Düz işçi yevmiyesi | C46: yev | F46: =+D46*E46 -> 0
B47: TOPLAM TUTAR | F47: =SUM(F3:F44) -> 6401129.7
A48: NOT : TUTARLAR KDV HARİÇTİR.
A49: NOT : YUKARIDAKİ İŞLER ŞARTNAMESİNE UYGUN YAPILACAK OLUP İŞİN SONUNDA KESİN HESAP YAPILACAKTIR.

Sheet 1.2-İNŞAAT-KÜTÜPHANE ZEMİN ASMA
B1: İNŞAAT İŞLERİ
A2: SIRA NO | B2: İŞİN TANIMI | C2: BİRİM | D2: MİKTAR | E2: BİRİM FİYAT | F2: TUTAR
A3: 1 | B3: 2FX + 40x60x1,5 mm + Knauf İnsulation + 2FX Çelik Konstrüksiyonlu Bölme Duvar İmalatı | C3: m2 | D3: =27.6*3.1 -> 85.56 | E3: 1450 | F3: =+D3*E3 -> 124062 | G3: İSÜ YEŞİL PLAZA 18.09.2025 TARİHLİ SÖZLEŞME BR. FİYAT
A4: 2 | B4: 2FX+40*60*1,5 mm+knauf insulation+2fx çelik konstrüksiyonlu bölme duvar imalatı | C4: MTÜL | D4: =68.44+15.4 -> 83.84 | E4: 2422.48 | F4: =+D4*E4 -> 203100.72 | G4: 18 KASIM OANYLI BR. FİYAT BAMAX
A5: 3 | B5: Duvar Saten Alçı | C5: m2 | D5: =+D3*2 -> 171.12 | E5: 250 | F5: =+D5*E5 -> 42780 | G5: İSÜ YEŞİL PLAZA 18.09.2025 TARİHLİ SÖZLEŞME BR. FİYAT
A6: 4 | B6: Duvar Boya Yapılması (Saten alçı üzeri) | C6: m2 | D6: =+D3*2 -> 171.12 | E6: 150 | F6: =+D6*E6 -> 25668 | G6: İSÜ YEŞİL PLAZA 18.09.2025 TARİHLİ SÖZLEŞME BR. FİYAT
A7: 5 | B7: PVC malzeme ( fire eklenmemiştir) (karo) | C7: m2 | D7: 463.25 | E7: =49.5474*13.15 -> 651.54831 | F7: =+D7*E7 -> 301829.75 | G7: 13.10.2025 BURSA LİV ONAYLI FİYAT 9,5 £
A8: 6 | B8: PVC işçilik yapılması (karo) | C8: m2 | D8: =+D7 -> 463.25 | E8: 242.3 | F8: =+D8*E8 -> 112245.48 | G8: İSÜ TOPKAPI YEŞİL PLAZA PANDEX 8.10.2025 SÖZ. BR. FİYAT
A9: 7 | B9: LVT özel yapıştırıcı malzeme+işçilik (sarfiyat 0,35 kg/m2) | C9: kg | D9: =+D8*0.35 -> 162.1375 | E9: 143.44 | F9: =+D9*E9 -> 23257.003 | G9: İSÜ TOPKAPI YEŞİL PLAZA PANDEX 8.10.2025 SÖZ. BR. FİYAT
A10: 8 | B10: Self Leveling Yapılması (malzeme +işçilik 1 m2 de 1 mm kalınlık için 1,5 kg gider ortalama 16 mm kalınlıkta) (1 torba:25 kg) | C10: torba | D10: =+(D8*24)/25 -> 444.72 | E10: 1114.56 | F10: =+D10*E10 -> 495667.12 | G10: İSÜ TOPKAPI YEŞİL PLAZA PANDEX 8.10.2025 SÖZ. BR. FİYAT
A11: 9 | B11: Epoksi işçiliği | C11: m2 | D11: =+D8 -> 463.25 | E11: 222.91 | F11: =+D11*E11 -> 103263.06 | G11: İSÜ TOPKAPI YEŞİL PLAZA PANDEX 8.10.2025 SÖZ. BR. FİYAT
A12: 10 | B12: Çelik macun | C12: kg | D12: =+(463.25*21)/1034 -> 9.4083656 | E12: 188.99 | F12: =+D12*E12 -> 1778.087 | G12: İSÜ TOPKAPI YEŞİL PLAZA PANDEX 8.10.2025 SÖZ. BR. FİYAT
A13: 11 | B13: Bally | C13: kg | D13: =+(463.25*56)/1034 -> 25.088975 | E13: 300.45 | F13: =+D13*E13 -> 7537.9825 | G13: İSÜ TOPKAPI YEŞİL PLAZA PANDEX 8.10.2025 SÖZ. BR. FİYAT
A14: 12 | B14: Yangın kapısı pushbarlı -F-90 KARTLI (100*220 yerinde keşif yapılmalıdır) | C14: adet | D14: 1 | E14: 25000 | F14: =+D14*E14 -> 25000
A15: 13 | B15: 5+5 temperli camlı ve alüminyum profilli cam bölme yapılması imalatı ve montajı (YÜKSEKLİK İÇİN YERİNDE KEŞİF YAPILMALIDIR.H:220 ALINMIŞTIR) | C15: m2 | D15: =68.44*2.2 -> 150.568 | E15: 5720 | F15: =+D15*E15 -> 861248.96 | G15: 24 kasım onaylı br. Fiyat çakra
A16: 14 | B16: Cam filmi kaplama DEGRADE (YÜKSEKLİK İÇİN YERİNDE KEŞİF YAPILMALIDIR.H:150 ALINMIŞTIR) | C16: m2 | D16: =+(68.44+15.4)*1.5 -> 125.76 | E16: 750 | F16: =+D16*E16 -> 94320 | G16: 22 kasım onaylı br. Fiyat ALE
A17: 15 | B17: Cam doğrama kapı 120*220 (yerinde keşif yapılmalıdır) | C17: adet | D17: 7 | E17: =+(2.64*20833.33)/2.2 -> 24999.996 | F17: =+D17*E17 -> 174999.97 | G17: 10.07.2025 YEŞİLYURT 120/220 FİYATTI:25.000
A18: 16 | B18: Cam korkuluk 5+5 Lamine camlı (H:120 alınmıştır) | C18: m2 | D18: =14.5*1.2 -> 17.4 | E18: =+(42.4534/32.2653)*6420 -> 8447.181 | F18: =+D18*E18 -> 146980.95
A19: 17 | B19: Blackout stor perde | C19: m2 | D19: =+(8.46+19.65)*2.8 -> 78.708 | E19: 530 | F19: =+D19*E19 -> 41715.24 | G19: 31.10.2025 göztepe onaylı br. Fiyat
A20: 18 | B20: Usta yevmiyesi | C20: yev | F20: =+D20*E20 -> 0
A21: 19 | B21: Düz işçi yevmiyesi | C21: yev | F21: =+D21*E21 -> 0
B22: TOPLAM TUTAR | F22: =SUM(F3:F19) -> 2785454.3
A23: NOT : TUTARLAR KDV HARİÇTİR.
A24: NOT : YUKARIDAKİ İŞLER ŞARTNAMESİNE UYGUN YAPILACAK OLUP İŞİN SONUNDA KESİN HESAP YAPILACAKTIR.
